{"text_format":"3","workbook":"xlsx","n_sheets":2,"sheets":["Sheet1","Sheet2"],"not_rendered":{"macros":1,"external_links":1},"read":"whole","date_system":"1900"}

{"sheet":"Sheet1","index":0,"n_rows":146,"n_cols":72,"rows_kept":146}
[1,-1]
[27,1,2,3,4,5,6,7,8,9,10,11,12,13,14,15,16,17,18,19,20,21,22,23,24,25,26,27,28,29,30,31,32,33,34,35,36,37,38,39,40,41,42,43,44,45,46,47,48,49,50,51,52,53,54,55,56,57,58,59,60,61,62,63,64,65,66,67,68,69,70,71]
[1,{"$f":"[1]!PowerMod($A3,B$2,$A$2)","v":1},{"$f":"[1]!PowerMod($A3,C$2,$A$2)","v":1},{"$f":"[1]!PowerMod($A3,D$2,$A$2)","v":1},{"$f":"[1]!PowerMod($A3,E$2,$A$2)","v":1},{"$f":"[1]!PowerMod($A3,F$2,$A$2)","v":1},{"$f":"[1]!PowerMod($A3,G$2,$A$2)","v":1},{"$f":"[1]!PowerMod($A3,H$2,$A$2)","v":1},{"$f":"[1]!PowerMod($A3,I$2,$A$2)","v":1},{"$f":"[1]!PowerMod($A3,J$2,$A$2)","v":1},{"$f":"[1]!PowerMod($A3,K$2,$A$2)","v":1},{"$f":"[1]!PowerMod($A3,L$2,$A$2)","v":1},{"$f":"[1]!PowerMod($A3,M$2,$A$2)","v":1},{"$f":"[1]!PowerMod($A3,N$2,$A$2)","v":1},{"$f":"[1]!PowerMod($A3,O$2,$A$2)","v":1},{"$f":"[1]!PowerMod($A3,P$2,$A$2)","v":1},{"$f":"[1]!PowerMod($A3,Q$2,$A$2)","v":1},{"$f":"[1]!PowerMod($A3,R$2,$A$2)","v":1},{"$f":"[1]!PowerMod($A3,S$2,$A$2)","v":1},{"$f":"[1]!PowerMod($A3,T$2,$A$2)","v":1},{"$f":"[1]!PowerMod($A3,U$2,$A$2)","v":1},{"$f":"[1]!PowerMod($A3,V$2,$A$2)","v":1},{"$f":"[1]!PowerMod($A3,W$2,$A$2)","v":1},{"$f":"[1]!PowerMod($A3,X$2,$A$2)","v":1},{"$f":"[1]!PowerMod($A3,Y$2,$A$2)","v":1},{"$f":"[1]!PowerMod($A3,Z$2,$A$2)","v":1},{"$f":"[1]!PowerMod($A3,AA$2,$A$2)","v":1},{"$f":"[1]!PowerMod($A3,AB$2,$A$2)","v":1},{"$f":"[1]!PowerMod($A3,AC$2,$A$2)","v":1},{"$f":"[1]!PowerMod($A3,AD$2,$A$2)","v":1},{"$f":"[1]!PowerMod($A3,AE$2,$A$2)","v":1},{"$f":"[1]!PowerMod($A3,AF$2,$A$2)","v":1},{"$f":"[1]!PowerMod($A3,AG$2,$A$2)","v":1},{"$f":"[1]!PowerMod($A3,AH$2,$A$2)","v":1},{"$f":"[1]!PowerMod($A3,AI$2,$A$2)","v":1},{"$f":"[1]!PowerMod($A3,AJ$2,$A$2)","v":1},{"$f":"[1]!PowerMod($A3,AK$2,$A$2)","v":1},{"$f":"[1]!PowerMod($A3,AL$2,$A$2)","v":1},{"$f":"[1]!PowerMod($A3,AM$2,$A$2)","v":1},{"$f":"[1]!PowerMod($A3,AN$2,$A$2)","v":1},{"$f":"[1]!PowerMod($A3,AO$2,$A$2)","v":1},{"$f":"[1]!PowerMod($A3,AP$2,$A$2)","v":1},{"$f":"[1]!PowerMod($A3,AQ$2,$A$2)","v":1},{"$f":"[1]!PowerMod($A3,AR$2,$A$2)","v":1},{"$f":"[1]!PowerMod($A3,AS$2,$A$2)","v":1},{"$f":"[1]!PowerMod($A3,AT$2,$A$2)","v":1},{"$f":"[1]!PowerMod($A3,AU$2,$A$2)","v":1},{"$f":"[1]!PowerMod($A3,AV$2,$A$2)","v":1},{"$f":"[1]!PowerMod($A3,AW$2,$A$2)","v":1},{"$f":"[1]!PowerMod($A3,AX$2,$A$2)","v":1},{"$f":"[1]!PowerMod($A3,AY$2,$A$2)","v":1},{"$f":"[1]!PowerMod($A3,AZ$2,$A$2)","v":1},{"$f":"[1]!PowerMod($A3,BA$2,$A$2)","v":1},{"$f":"[1]!PowerMod($A3,BB$2,$A$2)","v":1},{"$f":"[1]!PowerMod($A3,BC$2,$A$2)","v":1},{"$f":"[1]!PowerMod($A3,BD$2,$A$2)","v":1},{"$f":"[1]!PowerMod($A3,BE$2,$A$2)","v":1},{"$f":"[1]!PowerMod($A3,BF$2,$A$2)","v":1},{"$f":"[1]!PowerMod($A3,BG$2,$A$2)","v":1},{"$f":"[1]!PowerMod($A3,BH$2,$A$2)","v":1},{"$f":"[1]!PowerMod($A3,BI$2,$A$2)","v":1},{"$f":"[1]!PowerMod($A3,BJ$2,$A$2)","v":1},{"$f":"[1]!PowerMod($A3,BK$2,$A$2)","v":1},{"$f":"[1]!PowerMod($A3,BL$2,$A$2)","v":1},{"$f":"[1]!PowerMod($A3,BM$2,$A$2)","v":1},{"$f":"[1]!PowerMod($A3,BN$2,$A$2)","v":1},{"$f":"[1]!PowerMod($A3,BO$2,$A$2)","v":1},{"$f":"[1]!PowerMod($A3,BP$2,$A$2)","v":1},{"$f":"[1]!PowerMod($A3,BQ$2,$A$2)","v":1},{"$f":"[1]!PowerMod($A3,BR$2,$A$2)","v":1},{"$f":"[1]!PowerMod($A3,BS$2,$A$2)","v":1},{"$f":"[1]!PowerMod($A3,BT$2,$A$2)","v":1}]
[2,{"$f":"[1]!PowerMod($A4,B$2,$A$2)","v":2},{"$f":"[1]!PowerMod($A4,C$2,$A$2)","v":4},{"$f":"[1]!PowerMod($A4,D$2,$A$2)","v":8},{"$f":"[1]!PowerMod($A4,E$2,$A$2)","v":16},{"$f":"[1]!PowerMod($A4,F$2,$A$2)","v":5},{"$f":"[1]!PowerMod($A4,G$2,$A$2)","v":10},{"$f":"[1]!PowerMod($A4,H$2,$A$2)","v":20},{"$f":"[1]!PowerMod($A4,I$2,$A$2)","v":13},{"$f":"[1]!PowerMod($A4,J$2,$A$2)","v":26},{"$f":"[1]!PowerMod($A4,K$2,$A$2)","v":25},{"$f":"[1]!PowerMod($A4,L$2,$A$2)","v":23},{"$f":"[1]!PowerMod($A4,M$2,$A$2)","v":19},{"$f":"[1]!PowerMod($A4,N$2,$A$2)","v":11},{"$f":"[1]!PowerMod($A4,O$2,$A$2)","v":22},{"$f":"[1]!PowerMod($A4,P$2,$A$2)","v":17},{"$f":"[1]!PowerMod($A4,Q$2,$A$2)","v":7},{"$f":"[1]!PowerMod($A4,R$2,$A$2)","v":14},{"$f":"[1]!PowerMod($A4,S$2,$A$2)","v":1},{"$f":"[1]!PowerMod($A4,T$2,$A$2)","v":2},{"$f":"[1]!PowerMod($A4,U$2,$A$2)","v":4},{"$f":"[1]!PowerMod($A4,V$2,$A$2)","v":8},{"$f":"[1]!PowerMod($A4,W$2,$A$2)","v":16},{"$f":"[1]!PowerMod($A4,X$2,$A$2)","v":5},{"$f":"[1]!PowerMod($A4,Y$2,$A$2)","v":10},{"$f":"[1]!PowerMod($A4,Z$2,$A$2)","v":20},{"$f":"[1]!PowerMod($A4,AA$2,$A$2)","v":13},{"$f":"[1]!PowerMod($A4,AB$2,$A$2)","v":26},{"$f":"[1]!PowerMod($A4,AC$2,$A$2)","v":25},{"$f":"[1]!PowerMod($A4,AD$2,$A$2)","v":23},{"$f":"[1]!PowerMod($A4,AE$2,$A$2)","v":19},{"$f":"[1]!PowerMod($A4,AF$2,$A$2)","v":11},{"$f":"[1]!PowerMod($A4,AG$2,$A$2)","v":22},{"$f":"[1]!PowerMod($A4,AH$2,$A$2)","v":17},{"$f":"[1]!PowerMod($A4,AI$2,$A$2)","v":7},{"$f":"[1]!PowerMod($A4,AJ$2,$A$2)","v":14},{"$f":"[1]!PowerMod($A4,AK$2,$A$2)","v":1},{"$f":"[1]!PowerMod($A4,AL$2,$A$2)","v":2},{"$f":"[1]!PowerMod($A4,AM$2,$A$2)","v":4},{"$f":"[1]!PowerMod($A4,AN$2,$A$2)","v":8},{"$f":"[1]!PowerMod($A4,AO$2,$A$2)","v":16},{"$f":"[1]!PowerMod($A4,AP$2,$A$2)","v":5},{"$f":"[1]!PowerMod($A4,AQ$2,$A$2)","v":10},{"$f":"[1]!PowerMod($A4,AR$2,$A$2)","v":20},{"$f":"[1]!PowerMod($A4,AS$2,$A$2)","v":13},{"$f":"[1]!PowerMod($A4,AT$2,$A$2)","v":26},{"$f":"[1]!PowerMod($A4,AU$2,$A$2)","v":25},{"$f":"[1]!PowerMod($A4,AV$2,$A$2)","v":23},{"$f":"[1]!PowerMod($A4,AW$2,$A$2)","v":19},{"$f":"[1]!PowerMod($A4,AX$2,$A$2)","v":11},{"$f":"[1]!PowerMod($A4,AY$2,$A$2)","v":22},{"$f":"[1]!PowerMod($A4,AZ$2,$A$2)","v":17},{"$f":"[1]!PowerMod($A4,BA$2,$A$2)","v":7},{"$f":"[1]!PowerMod($A4,BB$2,$A$2)","v":14},{"$f":"[1]!PowerMod($A4,BC$2,$A$2)","v":1},{"$f":"[1]!PowerMod($A4,BD$2,$A$2)","v":2},{"$f":"[1]!PowerMod($A4,BE$2,$A$2)","v":4},{"$f":"[1]!PowerMod($A4,BF$2,$A$2)","v":8},{"$f":"[1]!PowerMod($A4,BG$2,$A$2)","v":16},{"$f":"[1]!PowerMod($A4,BH$2,$A$2)","v":5},{"$f":"[1]!PowerMod($A4,BI$2,$A$2)","v":10},{"$f":"[1]!PowerMod($A4,BJ$2,$A$2)","v":20},{"$f":"[1]!PowerMod($A4,BK$2,$A$2)","v":13},{"$f":"[1]!PowerMod($A4,BL$2,$A$2)","v":26},{"$f":"[1]!PowerMod($A4,BM$2,$A$2)","v":25},{"$f":"[1]!PowerMod($A4,BN$2,$A$2)","v":23},{"$f":"[1]!PowerMod($A4,BO$2,$A$2)","v":19},{"$f":"[1]!PowerMod($A4,BP$2,$A$2)","v":11},{"$f":"[1]!PowerMod($A4,BQ$2,$A$2)","v":22},{"$f":"[1]!PowerMod($A4,BR$2,$A$2)","v":17},{"$f":"[1]!PowerMod($A4,BS$2,$A$2)","v":7},{"$f":"[1]!PowerMod($A4,BT$2,$A$2)","v":14}]
[3,{"$f":"[1]!PowerMod($A5,B$2,$A$2)","v":3},{"$f":"[1]!PowerMod($A5,C$2,$A$2)","v":9},{"$f":"[1]!PowerMod($A5,D$2,$A$2)","v":0},{"$f":"[1]!PowerMod($A5,E$2,$A$2)","v":0},{"$f":"[1]!PowerMod($A5,F$2,$A$2)","v":0},{"$f":"[1]!PowerMod($A5,G$2,$A$2)","v":0},{"$f":"[1]!PowerMod($A5,H$2,$A$2)","v":0},{"$f":"[1]!PowerMod($A5,I$2,$A$2)","v":0},{"$f":"[1]!PowerMod($A5,J$2,$A$2)","v":0},{"$f":"[1]!PowerMod($A5,K$2,$A$2)","v":0},{"$f":"[1]!PowerMod($A5,L$2,$A$2)","v":0},{"$f":"[1]!PowerMod($A5,M$2,$A$2)","v":0},{"$f":"[1]!PowerMod($A5,N$2,$A$2)","v":0},{"$f":"[1]!PowerMod($A5,O$2,$A$2)","v":0},{"$f":"[1]!PowerMod($A5,P$2,$A$2)","v":0},{"$f":"[1]!PowerMod($A5,Q$2,$A$2)","v":0},{"$f":"[1]!PowerMod($A5,R$2,$A$2)","v":0},{"$f":"[1]!PowerMod($A5,S$2,$A$2)","v":0},{"$f":"[1]!PowerMod($A5,T$2,$A$2)","v":0},{"$f":"[1]!PowerMod($A5,U$2,$A$2)","v":0},{"$f":"[1]!PowerMod($A5,V$2,$A$2)","v":0},{"$f":"[1]!PowerMod($A5,W$2,$A$2)","v":0},{"$f":"[1]!PowerMod($A5,X$2,$A$2)","v":0},{"$f":"[1]!PowerMod($A5,Y$2,$A$2)","v":0},{"$f":"[1]!PowerMod($A5,Z$2,$A$2)","v":0},{"$f":"[1]!PowerMod($A5,AA$2,$A$2)","v":0},{"$f":"[1]!PowerMod($A5,AB$2,$A$2)","v":0},{"$f":"[1]!PowerMod($A5,AC$2,$A$2)","v":0},{"$f":"[1]!PowerMod($A5,AD$2,$A$2)","v":0},{"$f":"[1]!PowerMod($A5,AE$2,$A$2)","v":0},{"$f":"[1]!PowerMod($A5,AF$2,$A$2)","v":0},{"$f":"[1]!PowerMod($A5,AG$2,$A$2)","v":0},{"$f":"[1]!PowerMod($A5,AH$2,$A$2)","v":0},{"$f":"[1]!PowerMod($A5,AI$2,$A$2)","v":0},{"$f":"[1]!PowerMod($A5,AJ$2,$A$2)","v":0},{"$f":"[1]!PowerMod($A5,AK$2,$A$2)","v":0},{"$f":"[1]!PowerMod($A5,AL$2,$A$2)","v":0},{"$f":"[1]!PowerMod($A5,AM$2,$A$2)","v":0},{"$f":"[1]!PowerMod($A5,AN$2,$A$2)","v":0},{"$f":"[1]!PowerMod($A5,AO$2,$A$2)","v":0},{"$f":"[1]!PowerMod($A5,AP$2,$A$2)","v":0},{"$f":"[1]!PowerMod($A5,AQ$2,$A$2)","v":0},{"$f":"[1]!PowerMod($A5,AR$2,$A$2)","v":0},{"$f":"[1]!PowerMod($A5,AS$2,$A$2)","v":0},{"$f":"[1]!PowerMod($A5,AT$2,$A$2)","v":0},{"$f":"[1]!PowerMod($A5,AU$2,$A$2)","v":0},{"$f":"[1]!PowerMod($A5,AV$2,$A$2)","v":0},{"$f":"[1]!PowerMod($A5,AW$2,$A$2)","v":0},{"$f":"[1]!PowerMod($A5,AX$2,$A$2)","v":0},{"$f":"[1]!PowerMod($A5,AY$2,$A$2)","v":0},{"$f":"[1]!PowerMod($A5,AZ$2,$A$2)","v":0},{"$f":"[1]!PowerMod($A5,BA$2,$A$2)","v":0},{"$f":"[1]!PowerMod($A5,BB$2,$A$2)","v":0},{"$f":"[1]!PowerMod($A5,BC$2,$A$2)","v":0},{"$f":"[1]!PowerMod($A5,BD$2,$A$2)","v":0},{"$f":"[1]!PowerMod($A5,BE$2,$A$2)","v":0},{"$f":"[1]!PowerMod($A5,BF$2,$A$2)","v":0},{"$f":"[1]!PowerMod($A5,BG$2,$A$2)","v":0},{"$f":"[1]!PowerMod($A5,BH$2,$A$2)","v":0},{"$f":"[1]!PowerMod($A5,BI$2,$A$2)","v":0},{"$f":"[1]!PowerMod($A5,BJ$2,$A$2)","v":0},{"$f":"[1]!PowerMod($A5,BK$2,$A$2)","v":0},{"$f":"[1]!PowerMod($A5,BL$2,$A$2)","v":0},{"$f":"[1]!PowerMod($A5,BM$2,$A$2)","v":0},{"$f":"[1]!PowerMod($A5,BN$2,$A$2)","v":0},{"$f":"[1]!PowerMod($A5,BO$2,$A$2)","v":0},{"$f":"[1]!PowerMod($A5,BP$2,$A$2)","v":0},{"$f":"[1]!PowerMod($A5,BQ$2,$A$2)","v":0},{"$f":"[1]!PowerMod($A5,BR$2,$A$2)","v":0},{"$f":"[1]!PowerMod($A5,BS$2,$A$2)","v":0},{"$f":"[1]!PowerMod($A5,BT$2,$A$2)","v":0}]
[4,{"$f":"[1]!PowerMod($A6,B$2,$A$2)","v":4},{"$f":"[1]!PowerMod($A6,C$2,$A$2)","v":16},{"$f":"[1]!PowerMod($A6,D$2,$A$2)","v":10},{"$f":"[1]!PowerMod($A6,E$2,$A$2)","v":13},{"$f":"[1]!PowerMod($A6,F$2,$A$2)","v":25},{"$f":"[1]!PowerMod($A6,G$2,$A$2)","v":19},{"$f":"[1]!PowerMod($A6,H$2,$A$2)","v":22},{"$f":"[1]!PowerMod($A6,I$2,$A$2)","v":7},{"$f":"[1]!PowerMod($A6,J$2,$A$2)","v":1},{"$f":"[1]!PowerMod($A6,K$2,$A$2)","v":4},{"$f":"[1]!PowerMod($A6,L$2,$A$2)","v":16},{"$f":"[1]!PowerMod($A6,M$2,$A$2)","v":10},{"$f":"[1]!PowerMod($A6,N$2,$A$2)","v":13},{"$f":"[1]!PowerMod($A6,O$2,$A$2)","v":25},{"$f":"[1]!PowerMod($A6,P$2,$A$2)","v":19},{"$f":"[1]!PowerMod($A6,Q$2,$A$2)","v":22},{"$f":"[1]!PowerMod($A6,R$2,$A$2)","v":7},{"$f":"[1]!PowerMod($A6,S$2,$A$2)","v":1},{"$f":"[1]!PowerMod($A6,T$2,$A$2)","v":4},{"$f":"[1]!PowerMod($A6,U$2,$A$2)","v":16},{"$f":"[1]!PowerMod($A6,V$2,$A$2)","v":10},{"$f":"[1]!PowerMod($A6,W$2,$A$2)","v":13},{"$f":"[1]!PowerMod($A6,X$2,$A$2)","v":25},{"$f":"[1]!PowerMod($A6,Y$2,$A$2)","v":19},{"$f":"[1]!PowerMod($A6,Z$2,$A$2)","v":22},{"$f":"[1]!PowerMod($A6,AA$2,$A$2)","v":7},{"$f":"[1]!PowerMod($A6,AB$2,$A$2)","v":1},{"$f":"[1]!PowerMod($A6,AC$2,$A$2)","v":4},{"$f":"[1]!PowerMod($A6,AD$2,$A$2)","v":16},{"$f":"[1]!PowerMod($A6,AE$2,$A$2)","v":10},{"$f":"[1]!PowerMod($A6,AF$2,$A$2)","v":13},{"$f":"[1]!PowerMod($A6,AG$2,$A$2)","v":25},{"$f":"[1]!PowerMod($A6,AH$2,$A$2)","v":19},{"$f":"[1]!PowerMod($A6,AI$2,$A$2)","v":22},{"$f":"[1]!PowerMod($A6,AJ$2,$A$2)","v":7},{"$f":"[1]!PowerMod($A6,AK$2,$A$2)","v":1},{"$f":"[1]!PowerMod($A6,AL$2,$A$2)","v":4},{"$f":"[1]!PowerMod($A6,AM$2,$A$2)","v":16},{"$f":"[1]!PowerMod($A6,AN$2,$A$2)","v":10},{"$f":"[1]!PowerMod($A6,AO$2,$A$2)","v":13},{"$f":"[1]!PowerMod($A6,AP$2,$A$2)","v":25},{"$f":"[1]!PowerMod($A6,AQ$2,$A$2)","v":19},{"$f":"[1]!PowerMod($A6,AR$2,$A$2)","v":22},{"$f":"[1]!PowerMod($A6,AS$2,$A$2)","v":7},{"$f":"[1]!PowerMod($A6,AT$2,$A$2)","v":1},{"$f":"[1]!PowerMod($A6,AU$2,$A$2)","v":4},{"$f":"[1]!PowerMod($A6,AV$2,$A$2)","v":16},{"$f":"[1]!PowerMod($A6,AW$2,$A$2)","v":10},{"$f":"[1]!PowerMod($A6,AX$2,$A$2)","v":13},{"$f":"[1]!PowerMod($A6,AY$2,$A$2)","v":25},{"$f":"[1]!PowerMod($A6,AZ$2,$A$2)","v":19},{"$f":"[1]!PowerMod($A6,BA$2,$A$2)","v":22},{"$f":"[1]!PowerMod($A6,BB$2,$A$2)","v":7},{"$f":"[1]!PowerMod($A6,BC$2,$A$2)","v":1},{"$f":"[1]!PowerMod($A6,BD$2,$A$2)","v":4},{"$f":"[1]!PowerMod($A6,BE$2,$A$2)","v":16},{"$f":"[1]!PowerMod($A6,BF$2,$A$2)","v":10},{"$f":"[1]!PowerMod($A6,BG$2,$A$2)","v":13},{"$f":"[1]!PowerMod($A6,BH$2,$A$2)","v":25},{"$f":"[1]!PowerMod($A6,BI$2,$A$2)","v":19},{"$f":"[1]!PowerMod($A6,BJ$2,$A$2)","v":22},{"$f":"[1]!PowerMod($A6,BK$2,$A$2)","v":7},{"$f":"[1]!PowerMod($A6,BL$2,$A$2)","v":1},{"$f":"[1]!PowerMod($A6,BM$2,$A$2)","v":4},{"$f":"[1]!PowerMod($A6,BN$2,$A$2)","v":16},{"$f":"[1]!PowerMod($A6,BO$2,$A$2)","v":10},{"$f":"[1]!PowerMod($A6,BP$2,$A$2)","v":13},{"$f":"[1]!PowerMod($A6,BQ$2,$A$2)","v":25},{"$f":"[1]!PowerMod($A6,BR$2,$A$2)","v":19},{"$f":"[1]!PowerMod($A6,BS$2,$A$2)","v":22},{"$f":"[1]!PowerMod($A6,BT$2,$A$2)","v":7}]
[5,{"$f":"[1]!PowerMod($A7,B$2,$A$2)","v":5},{"$f":"[1]!PowerMod($A7,C$2,$A$2)","v":25},{"$f":"[1]!PowerMod($A7,D$2,$A$2)","v":17},{"$f":"[1]!PowerMod($A7,E$2,$A$2)","v":4},{"$f":"[1]!PowerMod($A7,F$2,$A$2)","v":20},{"$f":"[1]!PowerMod($A7,G$2,$A$2)","v":19},{"$f":"[1]!PowerMod($A7,H$2,$A$2)","v":14},{"$f":"[1]!PowerMod($A7,I$2,$A$2)","v":16},{"$f":"[1]!PowerMod($A7,J$2,$A$2)","v":26},{"$f":"[1]!PowerMod($A7,K$2,$A$2)","v":22},{"$f":"[1]!PowerMod($A7,L$2,$A$2)","v":2},{"$f":"[1]!PowerMod($A7,M$2,$A$2)","v":10},{"$f":"[1]!PowerMod($A7,N$2,$A$2)","v":23},{"$f":"[1]!PowerMod($A7,O$2,$A$2)","v":7},{"$f":"[1]!PowerMod($A7,P$2,$A$2)","v":8},{"$f":"[1]!PowerMod($A7,Q$2,$A$2)","v":13},{"$f":"[1]!PowerMod($A7,R$2,$A$2)","v":11},{"$f":"[1]!PowerMod($A7,S$2,$A$2)","v":1},{"$f":"[1]!PowerMod($A7,T$2,$A$2)","v":5},{"$f":"[1]!PowerMod($A7,U$2,$A$2)","v":25},{"$f":"[1]!PowerMod($A7,V$2,$A$2)","v":17},{"$f":"[1]!PowerMod($A7,W$2,$A$2)","v":4},{"$f":"[1]!PowerMod($A7,X$2,$A$2)","v":20},{"$f":"[1]!PowerMod($A7,Y$2,$A$2)","v":19},{"$f":"[1]!PowerMod($A7,Z$2,$A$2)","v":14},{"$f":"[1]!PowerMod($A7,AA$2,$A$2)","v":16},{"$f":"[1]!PowerMod($A7,AB$2,$A$2)","v":26},{"$f":"[1]!PowerMod($A7,AC$2,$A$2)","v":22},{"$f":"[1]!PowerMod($A7,AD$2,$A$2)","v":2},{"$f":"[1]!PowerMod($A7,AE$2,$A$2)","v":10},{"$f":"[1]!PowerMod($A7,AF$2,$A$2)","v":23},{"$f":"[1]!PowerMod($A7,AG$2,$A$2)","v":7},{"$f":"[1]!PowerMod($A7,AH$2,$A$2)","v":8},{"$f":"[1]!PowerMod($A7,AI$2,$A$2)","v":13},{"$f":"[1]!PowerMod($A7,AJ$2,$A$2)","v":11},{"$f":"[1]!PowerMod($A7,AK$2,$A$2)","v":1},{"$f":"[1]!PowerMod($A7,AL$2,$A$2)","v":5},{"$f":"[1]!PowerMod($A7,AM$2,$A$2)","v":25},{"$f":"[1]!PowerMod($A7,AN$2,$A$2)","v":17},{"$f":"[1]!PowerMod($A7,AO$2,$A$2)","v":4},{"$f":"[1]!PowerMod($A7,AP$2,$A$2)","v":20},{"$f":"[1]!PowerMod($A7,AQ$2,$A$2)","v":19},{"$f":"[1]!PowerMod($A7,AR$2,$A$2)","v":14},{"$f":"[1]!PowerMod($A7,AS$2,$A$2)","v":16},{"$f":"[1]!PowerMod($A7,AT$2,$A$2)","v":26},{"$f":"[1]!PowerMod($A7,AU$2,$A$2)","v":22},{"$f":"[1]!PowerMod($A7,AV$2,$A$2)","v":2},{"$f":"[1]!PowerMod($A7,AW$2,$A$2)","v":10},{"$f":"[1]!PowerMod($A7,AX$2,$A$2)","v":23},{"$f":"[1]!PowerMod($A7,AY$2,$A$2)","v":7},{"$f":"[1]!PowerMod($A7,AZ$2,$A$2)","v":8},{"$f":"[1]!PowerMod($A7,BA$2,$A$2)","v":13},{"$f":"[1]!PowerMod($A7,BB$2,$A$2)","v":11},{"$f":"[1]!PowerMod($A7,BC$2,$A$2)","v":1},{"$f":"[1]!PowerMod($A7,BD$2,$A$2)","v":5},{"$f":"[1]!PowerMod($A7,BE$2,$A$2)","v":25},{"$f":"[1]!PowerMod($A7,BF$2,$A$2)","v":17},{"$f":"[1]!PowerMod($A7,BG$2,$A$2)","v":4},{"$f":"[1]!PowerMod($A7,BH$2,$A$2)","v":20},{"$f":"[1]!PowerMod($A7,BI$2,$A$2)","v":19},{"$f":"[1]!PowerMod($A7,BJ$2,$A$2)","v":14},{"$f":"[1]!PowerMod($A7,BK$2,$A$2)","v":16},{"$f":"[1]!PowerMod($A7,BL$2,$A$2)","v":26},{"$f":"[1]!PowerMod($A7,BM$2,$A$2)","v":22},{"$f":"[1]!PowerMod($A7,BN$2,$A$2)","v":2},{"$f":"[1]!PowerMod($A7,BO$2,$A$2)","v":10},{"$f":"[1]!PowerMod($A7,BP$2,$A$2)","v":23},{"$f":"[1]!PowerMod($A7,BQ$2,$A$2)","v":7},{"$f":"[1]!PowerMod($A7,BR$2,$A$2)","v":8},{"$f":"[1]!PowerMod($A7,BS$2,$A$2)","v":13},{"$f":"[1]!PowerMod($A7,BT$2,$A$2)","v":11}]
[6,{"$f":"[1]!PowerMod($A8,B$2,$A$2)","v":6},{"$f":"[1]!PowerMod($A8,C$2,$A$2)","v":9},{"$f":"[1]!PowerMod($A8,D$2,$A$2)","v":0},{"$f":"[1]!PowerMod($A8,E$2,$A$2)","v":0},{"$f":"[1]!PowerMod($A8,F$2,$A$2)","v":0},{"$f":"[1]!PowerMod($A8,G$2,$A$2)","v":0},{"$f":"[1]!PowerMod($A8,H$2,$A$2)","v":0},{"$f":"[1]!PowerMod($A8,I$2,$A$2)","v":0},{"$f":"[1]!PowerMod($A8,J$2,$A$2)","v":0},{"$f":"[1]!PowerMod($A8,K$2,$A$2)","v":0},{"$f":"[1]!PowerMod($A8,L$2,$A$2)","v":0},{"$f":"[1]!PowerMod($A8,M$2,$A$2)","v":0},{"$f":"[1]!PowerMod($A8,N$2,$A$2)","v":0},{"$f":"[1]!PowerMod($A8,O$2,$A$2)","v":0},{"$f":"[1]!PowerMod($A8,P$2,$A$2)","v":0},{"$f":"[1]!PowerMod($A8,Q$2,$A$2)","v":0},{"$f":"[1]!PowerMod($A8,R$2,$A$2)","v":0},{"$f":"[1]!PowerMod($A8,S$2,$A$2)","v":0},{"$f":"[1]!PowerMod($A8,T$2,$A$2)","v":0},{"$f":"[1]!PowerMod($A8,U$2,$A$2)","v":0},{"$f":"[1]!PowerMod($A8,V$2,$A$2)","v":0},{"$f":"[1]!PowerMod($A8,W$2,$A$2)","v":0},{"$f":"[1]!PowerMod($A8,X$2,$A$2)","v":0},{"$f":"[1]!PowerMod($A8,Y$2,$A$2)","v":0},{"$f":"[1]!PowerMod($A8,Z$2,$A$2)","v":0},{"$f":"[1]!PowerMod($A8,AA$2,$A$2)","v":0},{"$f":"[1]!PowerMod($A8,AB$2,$A$2)","v":0},{"$f":"[1]!PowerMod($A8,AC$2,$A$2)","v":0},{"$f":"[1]!PowerMod($A8,AD$2,$A$2)","v":0},{"$f":"[1]!PowerMod($A8,AE$2,$A$2)","v":0},{"$f":"[1]!PowerMod($A8,AF$2,$A$2)","v":0},{"$f":"[1]!PowerMod($A8,AG$2,$A$2)","v":0},{"$f":"[1]!PowerMod($A8,AH$2,$A$2)","v":0},{"$f":"[1]!PowerMod($A8,AI$2,$A$2)","v":0},{"$f":"[1]!PowerMod($A8,AJ$2,$A$2)","v":0},{"$f":"[1]!PowerMod($A8,AK$2,$A$2)","v":0},{"$f":"[1]!PowerMod($A8,AL$2,$A$2)","v":0},{"$f":"[1]!PowerMod($A8,AM$2,$A$2)","v":0},{"$f":"[1]!PowerMod($A8,AN$2,$A$2)","v":0},{"$f":"[1]!PowerMod($A8,AO$2,$A$2)","v":0},{"$f":"[1]!PowerMod($A8,AP$2,$A$2)","v":0},{"$f":"[1]!PowerMod($A8,AQ$2,$A$2)","v":0},{"$f":"[1]!PowerMod($A8,AR$2,$A$2)","v":0},{"$f":"[1]!PowerMod($A8,AS$2,$A$2)","v":0},{"$f":"[1]!PowerMod($A8,AT$2,$A$2)","v":0},{"$f":"[1]!PowerMod($A8,AU$2,$A$2)","v":0},{"$f":"[1]!PowerMod($A8,AV$2,$A$2)","v":0},{"$f":"[1]!PowerMod($A8,AW$2,$A$2)","v":0},{"$f":"[1]!PowerMod($A8,AX$2,$A$2)","v":0},{"$f":"[1]!PowerMod($A8,AY$2,$A$2)","v":0},{"$f":"[1]!PowerMod($A8,AZ$2,$A$2)","v":0},{"$f":"[1]!PowerMod($A8,BA$2,$A$2)","v":0},{"$f":"[1]!PowerMod($A8,BB$2,$A$2)","v":0},{"$f":"[1]!PowerMod($A8,BC$2,$A$2)","v":0},{"$f":"[1]!PowerMod($A8,BD$2,$A$2)","v":0},{"$f":"[1]!PowerMod($A8,BE$2,$A$2)","v":0},{"$f":"[1]!PowerMod($A8,BF$2,$A$2)","v":0},{"$f":"[1]!PowerMod($A8,BG$2,$A$2)","v":0},{"$f":"[1]!PowerMod($A8,BH$2,$A$2)","v":0},{"$f":"[1]!PowerMod($A8,BI$2,$A$2)","v":0},{"$f":"[1]!PowerMod($A8,BJ$2,$A$2)","v":0},{"$f":"[1]!PowerMod($A8,BK$2,$A$2)","v":0},{"$f":"[1]!PowerMod($A8,BL$2,$A$2)","v":0},{"$f":"[1]!PowerMod($A8,BM$2,$A$2)","v":0},{"$f":"[1]!PowerMod($A8,BN$2,$A$2)","v":0},{"$f":"[1]!PowerMod($A8,BO$2,$A$2)","v":0},{"$f":"[1]!PowerMod($A8,BP$2,$A$2)","v":0},{"$f":"[1]!PowerMod($A8,BQ$2,$A$2)","v":0},{"$f":"[1]!PowerMod($A8,BR$2,$A$2)","v":0},{"$f":"[1]!PowerMod($A8,BS$2,$A$2)","v":0},{"$f":"[1]!PowerMod($A8,BT$2,$A$2)","v":0}]
[7,{"$f":"[1]!PowerMod($A9,B$2,$A$2)","v":7},{"$f":"[1]!PowerMod($A9,C$2,$A$2)","v":22},{"$f":"[1]!PowerMod($A9,D$2,$A$2)","v":19},{"$f":"[1]!PowerMod($A9,E$2,$A$2)","v":25},{"$f":"[1]!PowerMod($A9,F$2,$A$2)","v":13},{"$f":"[1]!PowerMod($A9,G$2,$A$2)","v":10},{"$f":"[1]!PowerMod($A9,H$2,$A$2)","v":16},{"$f":"[1]!PowerMod($A9,I$2,$A$2)","v":4},{"$f":"[1]!PowerMod($A9,J$2,$A$2)","v":1},{"$f":"[1]!PowerMod($A9,K$2,$A$2)","v":7},{"$f":"[1]!PowerMod($A9,L$2,$A$2)","v":22},{"$f":"[1]!PowerMod($A9,M$2,$A$2)","v":19},{"$f":"[1]!PowerMod($A9,N$2,$A$2)","v":25},{"$f":"[1]!PowerMod($A9,O$2,$A$2)","v":13},{"$f":"[1]!PowerMod($A9,P$2,$A$2)","v":10},{"$f":"[1]!PowerMod($A9,Q$2,$A$2)","v":16},{"$f":"[1]!PowerMod($A9,R$2,$A$2)","v":4},{"$f":"[1]!PowerMod($A9,S$2,$A$2)","v":1},{"$f":"[1]!PowerMod($A9,T$2,$A$2)","v":7},{"$f":"[1]!PowerMod($A9,U$2,$A$2)","v":22},{"$f":"[1]!PowerMod($A9,V$2,$A$2)","v":19},{"$f":"[1]!PowerMod($A9,W$2,$A$2)","v":25},{"$f":"[1]!PowerMod($A9,X$2,$A$2)","v":13},{"$f":"[1]!PowerMod($A9,Y$2,$A$2)","v":10},{"$f":"[1]!PowerMod($A9,Z$2,$A$2)","v":16},{"$f":"[1]!PowerMod($A9,AA$2,$A$2)","v":4},{"$f":"[1]!PowerMod($A9,AB$2,$A$2)","v":1},{"$f":"[1]!PowerMod($A9,AC$2,$A$2)","v":7},{"$f":"[1]!PowerMod($A9,AD$2,$A$2)","v":22},{"$f":"[1]!PowerMod($A9,AE$2,$A$2)","v":19},{"$f":"[1]!PowerMod($A9,AF$2,$A$2)","v":25},{"$f":"[1]!PowerMod($A9,AG$2,$A$2)","v":13},{"$f":"[1]!PowerMod($A9,AH$2,$A$2)","v":10},{"$f":"[1]!PowerMod($A9,AI$2,$A$2)","v":16},{"$f":"[1]!PowerMod($A9,AJ$2,$A$2)","v":4},{"$f":"[1]!PowerMod($A9,AK$2,$A$2)","v":1},{"$f":"[1]!PowerMod($A9,AL$2,$A$2)","v":7},{"$f":"[1]!PowerMod($A9,AM$2,$A$2)","v":22},{"$f":"[1]!PowerMod($A9,AN$2,$A$2)","v":19},{"$f":"[1]!PowerMod($A9,AO$2,$A$2)","v":25},{"$f":"[1]!PowerMod($A9,AP$2,$A$2)","v":13},{"$f":"[1]!PowerMod($A9,AQ$2,$A$2)","v":10},{"$f":"[1]!PowerMod($A9,AR$2,$A$2)","v":16},{"$f":"[1]!PowerMod($A9,AS$2,$A$2)","v":4},{"$f":"[1]!PowerMod($A9,AT$2,$A$2)","v":1},{"$f":"[1]!PowerMod($A9,AU$2,$A$2)","v":7},{"$f":"[1]!PowerMod($A9,AV$2,$A$2)","v":22},{"$f":"[1]!PowerMod($A9,AW$2,$A$2)","v":19},{"$f":"[1]!PowerMod($A9,AX$2,$A$2)","v":25},{"$f":"[1]!PowerMod($A9,AY$2,$A$2)","v":13},{"$f":"[1]!PowerMod($A9,AZ$2,$A$2)","v":10},{"$f":"[1]!PowerMod($A9,BA$2,$A$2)","v":16},{"$f":"[1]!PowerMod($A9,BB$2,$A$2)","v":4},{"$f":"[1]!PowerMod($A9,BC$2,$A$2)","v":1},{"$f":"[1]!PowerMod($A9,BD$2,$A$2)","v":7},{"$f":"[1]!PowerMod($A9,BE$2,$A$2)","v":22},{"$f":"[1]!PowerMod($A9,BF$2,$A$2)","v":19},{"$f":"[1]!PowerMod($A9,BG$2,$A$2)","v":25},{"$f":"[1]!PowerMod($A9,BH$2,$A$2)","v":13},{"$f":"[1]!PowerMod($A9,BI$2,$A$2)","v":10},{"$f":"[1]!PowerMod($A9,BJ$2,$A$2)","v":16},{"$f":"[1]!PowerMod($A9,BK$2,$A$2)","v":4},{"$f":"[1]!PowerMod($A9,BL$2,$A$2)","v":1},{"$f":"[1]!PowerMod($A9,BM$2,$A$2)","v":7},{"$f":"[1]!PowerMod($A9,BN$2,$A$2)","v":22},{"$f":"[1]!PowerMod($A9,BO$2,$A$2)","v":19},{"$f":"[1]!PowerMod($A9,BP$2,$A$2)","v":25},{"$f":"[1]!PowerMod($A9,BQ$2,$A$2)","v":13},{"$f":"[1]!PowerMod($A9,BR$2,$A$2)","v":10},{"$f":"[1]!PowerMod($A9,BS$2,$A$2)","v":16},{"$f":"[1]!PowerMod($A9,BT$2,$A$2)","v":4}]
[8,{"$f":"[1]!PowerMod($A10,B$2,$A$2)","v":8},{"$f":"[1]!PowerMod($A10,C$2,$A$2)","v":10},{"$f":"[1]!PowerMod($A10,D$2,$A$2)","v":26},{"$f":"[1]!PowerMod($A10,E$2,$A$2)","v":19},{"$f":"[1]!PowerMod($A10,F$2,$A$2)","v":17},{"$f":"[1]!PowerMod($A10,G$2,$A$2)","v":1},{"$f":"[1]!PowerMod($A10,H$2,$A$2)","v":8},{"$f":"[1]!PowerMod($A10,I$2,$A$2)","v":10},{"$f":"[1]!PowerMod($A10,J$2,$A$2)","v":26},{"$f":"[1]!PowerMod($A10,K$2,$A$2)","v":19},{"$f":"[1]!PowerMod($A10,L$2,$A$2)","v":17},{"$f":"[1]!PowerMod($A10,M$2,$A$2)","v":1},{"$f":"[1]!PowerMod($A10,N$2,$A$2)","v":8},{"$f":"[1]!PowerMod($A10,O$2,$A$2)","v":10},{"$f":"[1]!PowerMod($A10,P$2,$A$2)","v":26},{"$f":"[1]!PowerMod($A10,Q$2,$A$2)","v":19},{"$f":"[1]!PowerMod($A10,R$2,$A$2)","v":17},{"$f":"[1]!PowerMod($A10,S$2,$A$2)","v":1},{"$f":"[1]!PowerMod($A10,T$2,$A$2)","v":8},{"$f":"[1]!PowerMod($A10,U$2,$A$2)","v":10},{"$f":"[1]!PowerMod($A10,V$2,$A$2)","v":26},{"$f":"[1]!PowerMod($A10,W$2,$A$2)","v":19},{"$f":"[1]!PowerMod($A10,X$2,$A$2)","v":17},{"$f":"[1]!PowerMod($A10,Y$2,$A$2)","v":1},{"$f":"[1]!PowerMod($A10,Z$2,$A$2)","v":8},{"$f":"[1]!PowerMod($A10,AA$2,$A$2)","v":10},{"$f":"[1]!PowerMod($A10,AB$2,$A$2)","v":26},{"$f":"[1]!PowerMod($A10,AC$2,$A$2)","v":19},{"$f":"[1]!PowerMod($A10,AD$2,$A$2)","v":17},{"$f":"[1]!PowerMod($A10,AE$2,$A$2)","v":1},{"$f":"[1]!PowerMod($A10,AF$2,$A$2)","v":8},{"$f":"[1]!PowerMod($A10,AG$2,$A$2)","v":10},{"$f":"[1]!PowerMod($A10,AH$2,$A$2)","v":26},{"$f":"[1]!PowerMod($A10,AI$2,$A$2)","v":19},{"$f":"[1]!PowerMod($A10,AJ$2,$A$2)","v":17},{"$f":"[1]!PowerMod($A10,AK$2,$A$2)","v":1},{"$f":"[1]!PowerMod($A10,AL$2,$A$2)","v":8},{"$f":"[1]!PowerMod($A10,AM$2,$A$2)","v":10},{"$f":"[1]!PowerMod($A10,AN$2,$A$2)","v":26},{"$f":"[1]!PowerMod($A10,AO$2,$A$2)","v":19},{"$f":"[1]!PowerMod($A10,AP$2,$A$2)","v":17},{"$f":"[1]!PowerMod($A10,AQ$2,$A$2)","v":1},{"$f":"[1]!PowerMod($A10,AR$2,$A$2)","v":8},{"$f":"[1]!PowerMod($A10,AS$2,$A$2)","v":10},{"$f":"[1]!PowerMod($A10,AT$2,$A$2)","v":26},{"$f":"[1]!PowerMod($A10,AU$2,$A$2)","v":19},{"$f":"[1]!PowerMod($A10,AV$2,$A$2)","v":17},{"$f":"[1]!PowerMod($A10,AW$2,$A$2)","v":1},{"$f":"[1]!PowerMod($A10,AX$2,$A$2)","v":8},{"$f":"[1]!PowerMod($A10,AY$2,$A$2)","v":10},{"$f":"[1]!PowerMod($A10,AZ$2,$A$2)","v":26},{"$f":"[1]!PowerMod($A10,BA$2,$A$2)","v":19},{"$f":"[1]!PowerMod($A10,BB$2,$A$2)","v":17},{"$f":"[1]!PowerMod($A10,BC$2,$A$2)","v":1},{"$f":"[1]!PowerMod($A10,BD$2,$A$2)","v":8},{"$f":"[1]!PowerMod($A10,BE$2,$A$2)","v":10},{"$f":"[1]!PowerMod($A10,BF$2,$A$2)","v":26},{"$f":"[1]!PowerMod($A10,BG$2,$A$2)","v":19},{"$f":"[1]!PowerMod($A10,BH$2,$A$2)","v":17},{"$f":"[1]!PowerMod($A10,BI$2,$A$2)","v":1},{"$f":"[1]!PowerMod($A10,BJ$2,$A$2)","v":8},{"$f":"[1]!PowerMod($A10,BK$2,$A$2)","v":10},{"$f":"[1]!PowerMod($A10,BL$2,$A$2)","v":26},{"$f":"[1]!PowerMod($A10,BM$2,$A$2)","v":19},{"$f":"[1]!PowerMod($A10,BN$2,$A$2)","v":17},{"$f":"[1]!PowerMod($A10,BO$2,$A$2)","v":1},{"$f":"[1]!PowerMod($A10,BP$2,$A$2)","v":8},{"$f":"[1]!PowerMod($A10,BQ$2,$A$2)","v":10},{"$f":"[1]!PowerMod($A10,BR$2,$A$2)","v":26},{"$f":"[1]!PowerMod($A10,BS$2,$A$2)","v":19},{"$f":"[1]!PowerMod($A10,BT$2,$A$2)","v":17}]
[9,{"$f":"[1]!PowerMod($A11,B$2,$A$2)","v":9},{"$f":"[1]!PowerMod($A11,C$2,$A$2)","v":0},{"$f":"[1]!PowerMod($A11,D$2,$A$2)","v":0},{"$f":"[1]!PowerMod($A11,E$2,$A$2)","v":0},{"$f":"[1]!PowerMod($A11,F$2,$A$2)","v":0},{"$f":"[1]!PowerMod($A11,G$2,$A$2)","v":0},{"$f":"[1]!PowerMod($A11,H$2,$A$2)","v":0},{"$f":"[1]!PowerMod($A11,I$2,$A$2)","v":0},{"$f":"[1]!PowerMod($A11,J$2,$A$2)","v":0},{"$f":"[1]!PowerMod($A11,K$2,$A$2)","v":0},{"$f":"[1]!PowerMod($A11,L$2,$A$2)","v":0},{"$f":"[1]!PowerMod($A11,M$2,$A$2)","v":0},{"$f":"[1]!PowerMod($A11,N$2,$A$2)","v":0},{"$f":"[1]!PowerMod($A11,O$2,$A$2)","v":0},{"$f":"[1]!PowerMod($A11,P$2,$A$2)","v":0},{"$f":"[1]!PowerMod($A11,Q$2,$A$2)","v":0},{"$f":"[1]!PowerMod($A11,R$2,$A$2)","v":0},{"$f":"[1]!PowerMod($A11,S$2,$A$2)","v":0},{"$f":"[1]!PowerMod($A11,T$2,$A$2)","v":0},{"$f":"[1]!PowerMod($A11,U$2,$A$2)","v":0},{"$f":"[1]!PowerMod($A11,V$2,$A$2)","v":0},{"$f":"[1]!PowerMod($A11,W$2,$A$2)","v":0},{"$f":"[1]!PowerMod($A11,X$2,$A$2)","v":0},{"$f":"[1]!PowerMod($A11,Y$2,$A$2)","v":0},{"$f":"[1]!PowerMod($A11,Z$2,$A$2)","v":0},{"$f":"[1]!PowerMod($A11,AA$2,$A$2)","v":0},{"$f":"[1]!PowerMod($A11,AB$2,$A$2)","v":0},{"$f":"[1]!PowerMod($A11,AC$2,$A$2)","v":0},{"$f":"[1]!PowerMod($A11,AD$2,$A$2)","v":0},{"$f":"[1]!PowerMod($A11,AE$2,$A$2)","v":0},{"$f":"[1]!PowerMod($A11,AF$2,$A$2)","v":0},{"$f":"[1]!PowerMod($A11,AG$2,$A$2)","v":0},{"$f":"[1]!PowerMod($A11,AH$2,$A$2)","v":0},{"$f":"[1]!PowerMod($A11,AI$2,$A$2)","v":0},{"$f":"[1]!PowerMod($A11,AJ$2,$A$2)","v":0},{"$f":"[1]!PowerMod($A11,AK$2,$A$2)","v":0},{"$f":"[1]!PowerMod($A11,AL$2,$A$2)","v":0},{"$f":"[1]!PowerMod($A11,AM$2,$A$2)","v":0},{"$f":"[1]!PowerMod($A11,AN$2,$A$2)","v":0},{"$f":"[1]!PowerMod($A11,AO$2,$A$2)","v":0},{"$f":"[1]!PowerMod($A11,AP$2,$A$2)","v":0},{"$f":"[1]!PowerMod($A11,AQ$2,$A$2)","v":0},{"$f":"[1]!PowerMod($A11,AR$2,$A$2)","v":0},{"$f":"[1]!PowerMod($A11,AS$2,$A$2)","v":0},{"$f":"[1]!PowerMod($A11,AT$2,$A$2)","v":0},{"$f":"[1]!PowerMod($A11,AU$2,$A$2)","v":0},{"$f":"[1]!PowerMod($A11,AV$2,$A$2)","v":0},{"$f":"[1]!PowerMod($A11,AW$2,$A$2)","v":0},{"$f":"[1]!PowerMod($A11,AX$2,$A$2)","v":0},{"$f":"[1]!PowerMod($A11,AY$2,$A$2)","v":0},{"$f":"[1]!PowerMod($A11,AZ$2,$A$2)","v":0},{"$f":"[1]!PowerMod($A11,BA$2,$A$2)","v":0},{"$f":"[1]!PowerMod($A11,BB$2,$A$2)","v":0},{"$f":"[1]!PowerMod($A11,BC$2,$A$2)","v":0},{"$f":"[1]!PowerMod($A11,BD$2,$A$2)","v":0},{"$f":"[1]!PowerMod($A11,BE$2,$A$2)","v":0},{"$f":"[1]!PowerMod($A11,BF$2,$A$2)","v":0},{"$f":"[1]!PowerMod($A11,BG$2,$A$2)","v":0},{"$f":"[1]!PowerMod($A11,BH$2,$A$2)","v":0},{"$f":"[1]!PowerMod($A11,BI$2,$A$2)","v":0},{"$f":"[1]!PowerMod($A11,BJ$2,$A$2)","v":0},{"$f":"[1]!PowerMod($A11,BK$2,$A$2)","v":0},{"$f":"[1]!PowerMod($A11,BL$2,$A$2)","v":0},{"$f":"[1]!PowerMod($A11,BM$2,$A$2)","v":0},{"$f":"[1]!PowerMod($A11,BN$2,$A$2)","v":0},{"$f":"[1]!PowerMod($A11,BO$2,$A$2)","v":0},{"$f":"[1]!PowerMod($A11,BP$2,$A$2)","v":0},{"$f":"[1]!PowerMod($A11,BQ$2,$A$2)","v":0},{"$f":"[1]!PowerMod($A11,BR$2,$A$2)","v":0},{"$f":"[1]!PowerMod($A11,BS$2,$A$2)","v":0},{"$f":"[1]!PowerMod($A11,BT$2,$A$2)","v":0}]
[10,{"$f":"[1]!PowerMod($A12,B$2,$A$2)","v":10},{"$f":"[1]!PowerMod($A12,C$2,$A$2)","v":19},{"$f":"[1]!PowerMod($A12,D$2,$A$2)","v":1},{"$f":"[1]!PowerMod($A12,E$2,$A$2)","v":10},{"$f":"[1]!PowerMod($A12,F$2,$A$2)","v":19},{"$f":"[1]!PowerMod($A12,G$2,$A$2)","v":1},{"$f":"[1]!PowerMod($A12,H$2,$A$2)","v":10},{"$f":"[1]!PowerMod($A12,I$2,$A$2)","v":19},{"$f":"[1]!PowerMod($A12,J$2,$A$2)","v":1},{"$f":"[1]!PowerMod($A12,K$2,$A$2)","v":10},{"$f":"[1]!PowerMod($A12,L$2,$A$2)","v":19},{"$f":"[1]!PowerMod($A12,M$2,$A$2)","v":1},{"$f":"[1]!PowerMod($A12,N$2,$A$2)","v":10},{"$f":"[1]!PowerMod($A12,O$2,$A$2)","v":19},{"$f":"[1]!PowerMod($A12,P$2,$A$2)","v":1},{"$f":"[1]!PowerMod($A12,Q$2,$A$2)","v":10},{"$f":"[1]!PowerMod($A12,R$2,$A$2)","v":19},{"$f":"[1]!PowerMod($A12,S$2,$A$2)","v":1},{"$f":"[1]!PowerMod($A12,T$2,$A$2)","v":10},{"$f":"[1]!PowerMod($A12,U$2,$A$2)","v":19},{"$f":"[1]!PowerMod($A12,V$2,$A$2)","v":1},{"$f":"[1]!PowerMod($A12,W$2,$A$2)","v":10},{"$f":"[1]!PowerMod($A12,X$2,$A$2)","v":19},{"$f":"[1]!PowerMod($A12,Y$2,$A$2)","v":1},{"$f":"[1]!PowerMod($A12,Z$2,$A$2)","v":10},{"$f":"[1]!PowerMod($A12,AA$2,$A$2)","v":19},{"$f":"[1]!PowerMod($A12,AB$2,$A$2)","v":1},{"$f":"[1]!PowerMod($A12,AC$2,$A$2)","v":10},{"$f":"[1]!PowerMod($A12,AD$2,$A$2)","v":19},{"$f":"[1]!PowerMod($A12,AE$2,$A$2)","v":1},{"$f":"[1]!PowerMod($A12,AF$2,$A$2)","v":10},{"$f":"[1]!PowerMod($A12,AG$2,$A$2)","v":19},{"$f":"[1]!PowerMod($A12,AH$2,$A$2)","v":1},{"$f":"[1]!PowerMod($A12,AI$2,$A$2)","v":10},{"$f":"[1]!PowerMod($A12,AJ$2,$A$2)","v":19},{"$f":"[1]!PowerMod($A12,AK$2,$A$2)","v":1},{"$f":"[1]!PowerMod($A12,AL$2,$A$2)","v":10},{"$f":"[1]!PowerMod($A12,AM$2,$A$2)","v":19},{"$f":"[1]!PowerMod($A12,AN$2,$A$2)","v":1},{"$f":"[1]!PowerMod($A12,AO$2,$A$2)","v":10},{"$f":"[1]!PowerMod($A12,AP$2,$A$2)","v":19},{"$f":"[1]!PowerMod($A12,AQ$2,$A$2)","v":1},{"$f":"[1]!PowerMod($A12,AR$2,$A$2)","v":10},{"$f":"[1]!PowerMod($A12,AS$2,$A$2)","v":19},{"$f":"[1]!PowerMod($A12,AT$2,$A$2)","v":1},{"$f":"[1]!PowerMod($A12,AU$2,$A$2)","v":10},{"$f":"[1]!PowerMod($A12,AV$2,$A$2)","v":19},{"$f":"[1]!PowerMod($A12,AW$2,$A$2)","v":1},{"$f":"[1]!PowerMod($A12,AX$2,$A$2)","v":10},{"$f":"[1]!PowerMod($A12,AY$2,$A$2)","v":19},{"$f":"[1]!PowerMod($A12,AZ$2,$A$2)","v":1},{"$f":"[1]!PowerMod($A12,BA$2,$A$2)","v":10},{"$f":"[1]!PowerMod($A12,BB$2,$A$2)","v":19},{"$f":"[1]!PowerMod($A12,BC$2,$A$2)","v":1},{"$f":"[1]!PowerMod($A12,BD$2,$A$2)","v":10},{"$f":"[1]!PowerMod($A12,BE$2,$A$2)","v":19},{"$f":"[1]!PowerMod($A12,BF$2,$A$2)","v":1},{"$f":"[1]!PowerMod($A12,BG$2,$A$2)","v":10},{"$f":"[1]!PowerMod($A12,BH$2,$A$2)","v":19},{"$f":"[1]!PowerMod($A12,BI$2,$A$2)","v":1},{"$f":"[1]!PowerMod($A12,BJ$2,$A$2)","v":10},{"$f":"[1]!PowerMod($A12,BK$2,$A$2)","v":19},{"$f":"[1]!PowerMod($A12,BL$2,$A$2)","v":1},{"$f":"[1]!PowerMod($A12,BM$2,$A$2)","v":10},{"$f":"[1]!PowerMod($A12,BN$2,$A$2)","v":19},{"$f":"[1]!PowerMod($A12,BO$2,$A$2)","v":1},{"$f":"[1]!PowerMod($A12,BP$2,$A$2)","v":10},{"$f":"[1]!PowerMod($A12,BQ$2,$A$2)","v":19},{"$f":"[1]!PowerMod($A12,BR$2,$A$2)","v":1},{"$f":"[1]!PowerMod($A12,BS$2,$A$2)","v":10},{"$f":"[1]!PowerMod($A12,BT$2,$A$2)","v":19}]
[11,{"$f":"[1]!PowerMod($A13,B$2,$A$2)","v":11},{"$f":"[1]!PowerMod($A13,C$2,$A$2)","v":13},{"$f":"[1]!PowerMod($A13,D$2,$A$2)","v":8},{"$f":"[1]!PowerMod($A13,E$2,$A$2)","v":7},{"$f":"[1]!PowerMod($A13,F$2,$A$2)","v":23},{"$f":"[1]!PowerMod($A13,G$2,$A$2)","v":10},{"$f":"[1]!PowerMod($A13,H$2,$A$2)","v":2},{"$f":"[1]!PowerMod($A13,I$2,$A$2)","v":22},{"$f":"[1]!PowerMod($A13,J$2,$A$2)","v":26},{"$f":"[1]!PowerMod($A13,K$2,$A$2)","v":16},{"$f":"[1]!PowerMod($A13,L$2,$A$2)","v":14},{"$f":"[1]!PowerMod($A13,M$2,$A$2)","v":19},{"$f":"[1]!PowerMod($A13,N$2,$A$2)","v":20},{"$f":"[1]!PowerMod($A13,O$2,$A$2)","v":4},{"$f":"[1]!PowerMod($A13,P$2,$A$2)","v":17},{"$f":"[1]!PowerMod($A13,Q$2,$A$2)","v":25},{"$f":"[1]!PowerMod($A13,R$2,$A$2)","v":5},{"$f":"[1]!PowerMod($A13,S$2,$A$2)","v":1},{"$f":"[1]!PowerMod($A13,T$2,$A$2)","v":11},{"$f":"[1]!PowerMod($A13,U$2,$A$2)","v":13},{"$f":"[1]!PowerMod($A13,V$2,$A$2)","v":8},{"$f":"[1]!PowerMod($A13,W$2,$A$2)","v":7},{"$f":"[1]!PowerMod($A13,X$2,$A$2)","v":23},{"$f":"[1]!PowerMod($A13,Y$2,$A$2)","v":10},{"$f":"[1]!PowerMod($A13,Z$2,$A$2)","v":2},{"$f":"[1]!PowerMod($A13,AA$2,$A$2)","v":22},{"$f":"[1]!PowerMod($A13,AB$2,$A$2)","v":26},{"$f":"[1]!PowerMod($A13,AC$2,$A$2)","v":16},{"$f":"[1]!PowerMod($A13,AD$2,$A$2)","v":14},{"$f":"[1]!PowerMod($A13,AE$2,$A$2)","v":19},{"$f":"[1]!PowerMod($A13,AF$2,$A$2)","v":20},{"$f":"[1]!PowerMod($A13,AG$2,$A$2)","v":4},{"$f":"[1]!PowerMod($A13,AH$2,$A$2)","v":17},{"$f":"[1]!PowerMod($A13,AI$2,$A$2)","v":25},{"$f":"[1]!PowerMod($A13,AJ$2,$A$2)","v":5},{"$f":"[1]!PowerMod($A13,AK$2,$A$2)","v":1},{"$f":"[1]!PowerMod($A13,AL$2,$A$2)","v":11},{"$f":"[1]!PowerMod($A13,AM$2,$A$2)","v":13},{"$f":"[1]!PowerMod($A13,AN$2,$A$2)","v":8},{"$f":"[1]!PowerMod($A13,AO$2,$A$2)","v":7},{"$f":"[1]!PowerMod($A13,AP$2,$A$2)","v":23},{"$f":"[1]!PowerMod($A13,AQ$2,$A$2)","v":10},{"$f":"[1]!PowerMod($A13,AR$2,$A$2)","v":2},{"$f":"[1]!PowerMod($A13,AS$2,$A$2)","v":22},{"$f":"[1]!PowerMod($A13,AT$2,$A$2)","v":26},{"$f":"[1]!PowerMod($A13,AU$2,$A$2)","v":16},{"$f":"[1]!PowerMod($A13,AV$2,$A$2)","v":14},{"$f":"[1]!PowerMod($A13,AW$2,$A$2)","v":19},{"$f":"[1]!PowerMod($A13,AX$2,$A$2)","v":20},{"$f":"[1]!PowerMod($A13,AY$2,$A$2)","v":4},{"$f":"[1]!PowerMod($A13,AZ$2,$A$2)","v":17},{"$f":"[1]!PowerMod($A13,BA$2,$A$2)","v":25},{"$f":"[1]!PowerMod($A13,BB$2,$A$2)","v":5},{"$f":"[1]!PowerMod($A13,BC$2,$A$2)","v":1},{"$f":"[1]!PowerMod($A13,BD$2,$A$2)","v":11},{"$f":"[1]!PowerMod($A13,BE$2,$A$2)","v":13},{"$f":"[1]!PowerMod($A13,BF$2,$A$2)","v":8},{"$f":"[1]!PowerMod($A13,BG$2,$A$2)","v":7},{"$f":"[1]!PowerMod($A13,BH$2,$A$2)","v":23},{"$f":"[1]!PowerMod($A13,BI$2,$A$2)","v":10},{"$f":"[1]!PowerMod($A13,BJ$2,$A$2)","v":2},{"$f":"[1]!PowerMod($A13,BK$2,$A$2)","v":22},{"$f":"[1]!PowerMod($A13,BL$2,$A$2)","v":26},{"$f":"[1]!PowerMod($A13,BM$2,$A$2)","v":16},{"$f":"[1]!PowerMod($A13,BN$2,$A$2)","v":14},{"$f":"[1]!PowerMod($A13,BO$2,$A$2)","v":19},{"$f":"[1]!PowerMod($A13,BP$2,$A$2)","v":20},{"$f":"[1]!PowerMod($A13,BQ$2,$A$2)","v":4},{"$f":"[1]!PowerMod($A13,BR$2,$A$2)","v":17},{"$f":"[1]!PowerMod($A13,BS$2,$A$2)","v":25},{"$f":"[1]!PowerMod($A13,BT$2,$A$2)","v":5}]
[12,{"$f":"[1]!PowerMod($A14,B$2,$A$2)","v":12},{"$f":"[1]!PowerMod($A14,C$2,$A$2)","v":9},{"$f":"[1]!PowerMod($A14,D$2,$A$2)","v":0},{"$f":"[1]!PowerMod($A14,E$2,$A$2)","v":0},{"$f":"[1]!PowerMod($A14,F$2,$A$2)","v":0},{"$f":"[1]!PowerMod($A14,G$2,$A$2)","v":0},{"$f":"[1]!PowerMod($A14,H$2,$A$2)","v":0},{"$f":"[1]!PowerMod($A14,I$2,$A$2)","v":0},{"$f":"[1]!PowerMod($A14,J$2,$A$2)","v":0},{"$f":"[1]!PowerMod($A14,K$2,$A$2)","v":0},{"$f":"[1]!PowerMod($A14,L$2,$A$2)","v":0},{"$f":"[1]!PowerMod($A14,M$2,$A$2)","v":0},{"$f":"[1]!PowerMod($A14,N$2,$A$2)","v":0},{"$f":"[1]!PowerMod($A14,O$2,$A$2)","v":0},{"$f":"[1]!PowerMod($A14,P$2,$A$2)","v":0},{"$f":"[1]!PowerMod($A14,Q$2,$A$2)","v":0},{"$f":"[1]!PowerMod($A14,R$2,$A$2)","v":0},{"$f":"[1]!PowerMod($A14,S$2,$A$2)","v":0},{"$f":"[1]!PowerMod($A14,T$2,$A$2)","v":0},{"$f":"[1]!PowerMod($A14,U$2,$A$2)","v":0},{"$f":"[1]!PowerMod($A14,V$2,$A$2)","v":0},{"$f":"[1]!PowerMod($A14,W$2,$A$2)","v":0},{"$f":"[1]!PowerMod($A14,X$2,$A$2)","v":0},{"$f":"[1]!PowerMod($A14,Y$2,$A$2)","v":0},{"$f":"[1]!PowerMod($A14,Z$2,$A$2)","v":0},{"$f":"[1]!PowerMod($A14,AA$2,$A$2)","v":0},{"$f":"[1]!PowerMod($A14,AB$2,$A$2)","v":0},{"$f":"[1]!PowerMod($A14,AC$2,$A$2)","v":0},{"$f":"[1]!PowerMod($A14,AD$2,$A$2)","v":0},{"$f":"[1]!PowerMod($A14,AE$2,$A$2)","v":0},{"$f":"[1]!PowerMod($A14,AF$2,$A$2)","v":0},{"$f":"[1]!PowerMod($A14,AG$2,$A$2)","v":0},{"$f":"[1]!PowerMod($A14,AH$2,$A$2)","v":0},{"$f":"[1]!PowerMod($A14,AI$2,$A$2)","v":0},{"$f":"[1]!PowerMod($A14,AJ$2,$A$2)","v":0},{"$f":"[1]!PowerMod($A14,AK$2,$A$2)","v":0},{"$f":"[1]!PowerMod($A14,AL$2,$A$2)","v":0},{"$f":"[1]!PowerMod($A14,AM$2,$A$2)","v":0},{"$f":"[1]!PowerMod($A14,AN$2,$A$2)","v":0},{"$f":"[1]!PowerMod($A14,AO$2,$A$2)","v":0},{"$f":"[1]!PowerMod($A14,AP$2,$A$2)","v":0},{"$f":"[1]!PowerMod($A14,AQ$2,$A$2)","v":0},{"$f":"[1]!PowerMod($A14,AR$2,$A$2)","v":0},{"$f":"[1]!PowerMod($A14,AS$2,$A$2)","v":0},{"$f":"[1]!PowerMod($A14,AT$2,$A$2)","v":0},{"$f":"[1]!PowerMod($A14,AU$2,$A$2)","v":0},{"$f":"[1]!PowerMod($A14,AV$2,$A$2)","v":0},{"$f":"[1]!PowerMod($A14,AW$2,$A$2)","v":0},{"$f":"[1]!PowerMod($A14,AX$2,$A$2)","v":0},{"$f":"[1]!PowerMod($A14,AY$2,$A$2)","v":0},{"$f":"[1]!PowerMod($A14,AZ$2,$A$2)","v":0},{"$f":"[1]!PowerMod($A14,BA$2,$A$2)","v":0},{"$f":"[1]!PowerMod($A14,BB$2,$A$2)","v":0},{"$f":"[1]!PowerMod($A14,BC$2,$A$2)","v":0},{"$f":"[1]!PowerMod($A14,BD$2,$A$2)","v":0},{"$f":"[1]!PowerMod($A14,BE$2,$A$2)","v":0},{"$f":"[1]!PowerMod($A14,BF$2,$A$2)","v":0},{"$f":"[1]!PowerMod($A14,BG$2,$A$2)","v":0},{"$f":"[1]!PowerMod($A14,BH$2,$A$2)","v":0},{"$f":"[1]!PowerMod($A14,BI$2,$A$2)","v":0},{"$f":"[1]!PowerMod($A14,BJ$2,$A$2)","v":0},{"$f":"[1]!PowerMod($A14,BK$2,$A$2)","v":0},{"$f":"[1]!PowerMod($A14,BL$2,$A$2)","v":0},{"$f":"[1]!PowerMod($A14,BM$2,$A$2)","v":0},{"$f":"[1]!PowerMod($A14,BN$2,$A$2)","v":0},{"$f":"[1]!PowerMod($A14,BO$2,$A$2)","v":0},{"$f":"[1]!PowerMod($A14,BP$2,$A$2)","v":0},{"$f":"[1]!PowerMod($A14,BQ$2,$A$2)","v":0},{"$f":"[1]!PowerMod($A14,BR$2,$A$2)","v":0},{"$f":"[1]!PowerMod($A14,BS$2,$A$2)","v":0},{"$f":"[1]!PowerMod($A14,BT$2,$A$2)","v":0}]
[13,{"$f":"[1]!PowerMod($A15,B$2,$A$2)","v":13},{"$f":"[1]!PowerMod($A15,C$2,$A$2)","v":7},{"$f":"[1]!PowerMod($A15,D$2,$A$2)","v":10},{"$f":"[1]!PowerMod($A15,E$2,$A$2)","v":22},{"$f":"[1]!PowerMod($A15,F$2,$A$2)","v":16},{"$f":"[1]!PowerMod($A15,G$2,$A$2)","v":19},{"$f":"[1]!PowerMod($A15,H$2,$A$2)","v":4},{"$f":"[1]!PowerMod($A15,I$2,$A$2)","v":25},{"$f":"[1]!PowerMod($A15,J$2,$A$2)","v":1},{"$f":"[1]!PowerMod($A15,K$2,$A$2)","v":13},{"$f":"[1]!PowerMod($A15,L$2,$A$2)","v":7},{"$f":"[1]!PowerMod($A15,M$2,$A$2)","v":10},{"$f":"[1]!PowerMod($A15,N$2,$A$2)","v":22},{"$f":"[1]!PowerMod($A15,O$2,$A$2)","v":16},{"$f":"[1]!PowerMod($A15,P$2,$A$2)","v":19},{"$f":"[1]!PowerMod($A15,Q$2,$A$2)","v":4},{"$f":"[1]!PowerMod($A15,R$2,$A$2)","v":25},{"$f":"[1]!PowerMod($A15,S$2,$A$2)","v":1},{"$f":"[1]!PowerMod($A15,T$2,$A$2)","v":13},{"$f":"[1]!PowerMod($A15,U$2,$A$2)","v":7},{"$f":"[1]!PowerMod($A15,V$2,$A$2)","v":10},{"$f":"[1]!PowerMod($A15,W$2,$A$2)","v":22},{"$f":"[1]!PowerMod($A15,X$2,$A$2)","v":16},{"$f":"[1]!PowerMod($A15,Y$2,$A$2)","v":19},{"$f":"[1]!PowerMod($A15,Z$2,$A$2)","v":4},{"$f":"[1]!PowerMod($A15,AA$2,$A$2)","v":25},{"$f":"[1]!PowerMod($A15,AB$2,$A$2)","v":1},{"$f":"[1]!PowerMod($A15,AC$2,$A$2)","v":13},{"$f":"[1]!PowerMod($A15,AD$2,$A$2)","v":7},{"$f":"[1]!PowerMod($A15,AE$2,$A$2)","v":10},{"$f":"[1]!PowerMod($A15,AF$2,$A$2)","v":22},{"$f":"[1]!PowerMod($A15,AG$2,$A$2)","v":16},{"$f":"[1]!PowerMod($A15,AH$2,$A$2)","v":19},{"$f":"[1]!PowerMod($A15,AI$2,$A$2)","v":4},{"$f":"[1]!PowerMod($A15,AJ$2,$A$2)","v":25},{"$f":"[1]!PowerMod($A15,AK$2,$A$2)","v":1},{"$f":"[1]!PowerMod($A15,AL$2,$A$2)","v":13},{"$f":"[1]!PowerMod($A15,AM$2,$A$2)","v":7},{"$f":"[1]!PowerMod($A15,AN$2,$A$2)","v":10},{"$f":"[1]!PowerMod($A15,AO$2,$A$2)","v":22},{"$f":"[1]!PowerMod($A15,AP$2,$A$2)","v":16},{"$f":"[1]!PowerMod($A15,AQ$2,$A$2)","v":19},{"$f":"[1]!PowerMod($A15,AR$2,$A$2)","v":4},{"$f":"[1]!PowerMod($A15,AS$2,$A$2)","v":25},{"$f":"[1]!PowerMod($A15,AT$2,$A$2)","v":1},{"$f":"[1]!PowerMod($A15,AU$2,$A$2)","v":13},{"$f":"[1]!PowerMod($A15,AV$2,$A$2)","v":7},{"$f":"[1]!PowerMod($A15,AW$2,$A$2)","v":10},{"$f":"[1]!PowerMod($A15,AX$2,$A$2)","v":22},{"$f":"[1]!PowerMod($A15,AY$2,$A$2)","v":16},{"$f":"[1]!PowerMod($A15,AZ$2,$A$2)","v":19},{"$f":"[1]!PowerMod($A15,BA$2,$A$2)","v":4},{"$f":"[1]!PowerMod($A15,BB$2,$A$2)","v":25},{"$f":"[1]!PowerMod($A15,BC$2,$A$2)","v":1},{"$f":"[1]!PowerMod($A15,BD$2,$A$2)","v":13},{"$f":"[1]!PowerMod($A15,BE$2,$A$2)","v":7},{"$f":"[1]!PowerMod($A15,BF$2,$A$2)","v":10},{"$f":"[1]!PowerMod($A15,BG$2,$A$2)","v":22},{"$f":"[1]!PowerMod($A15,BH$2,$A$2)","v":16},{"$f":"[1]!PowerMod($A15,BI$2,$A$2)","v":19},{"$f":"[1]!PowerMod($A15,BJ$2,$A$2)","v":4},{"$f":"[1]!PowerMod($A15,BK$2,$A$2)","v":25},{"$f":"[1]!PowerMod($A15,BL$2,$A$2)","v":1},{"$f":"[1]!PowerMod($A15,BM$2,$A$2)","v":13},{"$f":"[1]!PowerMod($A15,BN$2,$A$2)","v":7},{"$f":"[1]!PowerMod($A15,BO$2,$A$2)","v":10},{"$f":"[1]!PowerMod($A15,BP$2,$A$2)","v":22},{"$f":"[1]!PowerMod($A15,BQ$2,$A$2)","v":16},{"$f":"[1]!PowerMod($A15,BR$2,$A$2)","v":19},{"$f":"[1]!PowerMod($A15,BS$2,$A$2)","v":4},{"$f":"[1]!PowerMod($A15,BT$2,$A$2)","v":25}]
[14,{"$f":"[1]!PowerMod($A16,B$2,$A$2)","v":14},{"$f":"[1]!PowerMod($A16,C$2,$A$2)","v":7},{"$f":"[1]!PowerMod($A16,D$2,$A$2)","v":17},{"$f":"[1]!PowerMod($A16,E$2,$A$2)","v":22},{"$f":"[1]!PowerMod($A16,F$2,$A$2)","v":11},{"$f":"[1]!PowerMod($A16,G$2,$A$2)","v":19},{"$f":"[1]!PowerMod($A16,H$2,$A$2)","v":23},{"$f":"[1]!PowerMod($A16,I$2,$A$2)","v":25},{"$f":"[1]!PowerMod($A16,J$2,$A$2)","v":26},{"$f":"[1]!PowerMod($A16,K$2,$A$2)","v":13},{"$f":"[1]!PowerMod($A16,L$2,$A$2)","v":20},{"$f":"[1]!PowerMod($A16,M$2,$A$2)","v":10},{"$f":"[1]!PowerMod($A16,N$2,$A$2)","v":5},{"$f":"[1]!PowerMod($A16,O$2,$A$2)","v":16},{"$f":"[1]!PowerMod($A16,P$2,$A$2)","v":8},{"$f":"[1]!PowerMod($A16,Q$2,$A$2)","v":4},{"$f":"[1]!PowerMod($A16,R$2,$A$2)","v":2},{"$f":"[1]!PowerMod($A16,S$2,$A$2)","v":1},{"$f":"[1]!PowerMod($A16,T$2,$A$2)","v":14},{"$f":"[1]!PowerMod($A16,U$2,$A$2)","v":7},{"$f":"[1]!PowerMod($A16,V$2,$A$2)","v":17},{"$f":"[1]!PowerMod($A16,W$2,$A$2)","v":22},{"$f":"[1]!PowerMod($A16,X$2,$A$2)","v":11},{"$f":"[1]!PowerMod($A16,Y$2,$A$2)","v":19},{"$f":"[1]!PowerMod($A16,Z$2,$A$2)","v":23},{"$f":"[1]!PowerMod($A16,AA$2,$A$2)","v":25},{"$f":"[1]!PowerMod($A16,AB$2,$A$2)","v":26},{"$f":"[1]!PowerMod($A16,AC$2,$A$2)","v":13},{"$f":"[1]!PowerMod($A16,AD$2,$A$2)","v":20},{"$f":"[1]!PowerMod($A16,AE$2,$A$2)","v":10},{"$f":"[1]!PowerMod($A16,AF$2,$A$2)","v":5},{"$f":"[1]!PowerMod($A16,AG$2,$A$2)","v":16},{"$f":"[1]!PowerMod($A16,AH$2,$A$2)","v":8},{"$f":"[1]!PowerMod($A16,AI$2,$A$2)","v":4},{"$f":"[1]!PowerMod($A16,AJ$2,$A$2)","v":2},{"$f":"[1]!PowerMod($A16,AK$2,$A$2)","v":1},{"$f":"[1]!PowerMod($A16,AL$2,$A$2)","v":14},{"$f":"[1]!PowerMod($A16,AM$2,$A$2)","v":7},{"$f":"[1]!PowerMod($A16,AN$2,$A$2)","v":17},{"$f":"[1]!PowerMod($A16,AO$2,$A$2)","v":22},{"$f":"[1]!PowerMod($A16,AP$2,$A$2)","v":11},{"$f":"[1]!PowerMod($A16,AQ$2,$A$2)","v":19},{"$f":"[1]!PowerMod($A16,AR$2,$A$2)","v":23},{"$f":"[1]!PowerMod($A16,AS$2,$A$2)","v":25},{"$f":"[1]!PowerMod($A16,AT$2,$A$2)","v":26},{"$f":"[1]!PowerMod($A16,AU$2,$A$2)","v":13},{"$f":"[1]!PowerMod($A16,AV$2,$A$2)","v":20},{"$f":"[1]!PowerMod($A16,AW$2,$A$2)","v":10},{"$f":"[1]!PowerMod($A16,AX$2,$A$2)","v":5},{"$f":"[1]!PowerMod($A16,AY$2,$A$2)","v":16},{"$f":"[1]!PowerMod($A16,AZ$2,$A$2)","v":8},{"$f":"[1]!PowerMod($A16,BA$2,$A$2)","v":4},{"$f":"[1]!PowerMod($A16,BB$2,$A$2)","v":2},{"$f":"[1]!PowerMod($A16,BC$2,$A$2)","v":1},{"$f":"[1]!PowerMod($A16,BD$2,$A$2)","v":14},{"$f":"[1]!PowerMod($A16,BE$2,$A$2)","v":7},{"$f":"[1]!PowerMod($A16,BF$2,$A$2)","v":17},{"$f":"[1]!PowerMod($A16,BG$2,$A$2)","v":22},{"$f":"[1]!PowerMod($A16,BH$2,$A$2)","v":11},{"$f":"[1]!PowerMod($A16,BI$2,$A$2)","v":19},{"$f":"[1]!PowerMod($A16,BJ$2,$A$2)","v":23},{"$f":"[1]!PowerMod($A16,BK$2,$A$2)","v":25},{"$f":"[1]!PowerMod($A16,BL$2,$A$2)","v":26},{"$f":"[1]!PowerMod($A16,BM$2,$A$2)","v":13},{"$f":"[1]!PowerMod($A16,BN$2,$A$2)","v":20},{"$f":"[1]!PowerMod($A16,BO$2,$A$2)","v":10},{"$f":"[1]!PowerMod($A16,BP$2,$A$2)","v":5},{"$f":"[1]!PowerMod($A16,BQ$2,$A$2)","v":16},{"$f":"[1]!PowerMod($A16,BR$2,$A$2)","v":8},{"$f":"[1]!PowerMod($A16,BS$2,$A$2)","v":4},{"$f":"[1]!PowerMod($A16,BT$2,$A$2)","v":2}]
[15,{"$f":"[1]!PowerMod($A17,B$2,$A$2)","v":15},{"$f":"[1]!PowerMod($A17,C$2,$A$2)","v":9},{"$f":"[1]!PowerMod($A17,D$2,$A$2)","v":0},{"$f":"[1]!PowerMod($A17,E$2,$A$2)","v":0},{"$f":"[1]!PowerMod($A17,F$2,$A$2)","v":0},{"$f":"[1]!PowerMod($A17,G$2,$A$2)","v":0},{"$f":"[1]!PowerMod($A17,H$2,$A$2)","v":0},{"$f":"[1]!PowerMod($A17,I$2,$A$2)","v":0},{"$f":"[1]!PowerMod($A17,J$2,$A$2)","v":0},{"$f":"[1]!PowerMod($A17,K$2,$A$2)","v":0},{"$f":"[1]!PowerMod($A17,L$2,$A$2)","v":0},{"$f":"[1]!PowerMod($A17,M$2,$A$2)","v":0},{"$f":"[1]!PowerMod($A17,N$2,$A$2)","v":0},{"$f":"[1]!PowerMod($A17,O$2,$A$2)","v":0},{"$f":"[1]!PowerMod($A17,P$2,$A$2)","v":0},{"$f":"[1]!PowerMod($A17,Q$2,$A$2)","v":0},{"$f":"[1]!PowerMod($A17,R$2,$A$2)","v":0},{"$f":"[1]!PowerMod($A17,S$2,$A$2)","v":0},{"$f":"[1]!PowerMod($A17,T$2,$A$2)","v":0},{"$f":"[1]!PowerMod($A17,U$2,$A$2)","v":0},{"$f":"[1]!PowerMod($A17,V$2,$A$2)","v":0},{"$f":"[1]!PowerMod($A17,W$2,$A$2)","v":0},{"$f":"[1]!PowerMod($A17,X$2,$A$2)","v":0},{"$f":"[1]!PowerMod($A17,Y$2,$A$2)","v":0},{"$f":"[1]!PowerMod($A17,Z$2,$A$2)","v":0},{"$f":"[1]!PowerMod($A17,AA$2,$A$2)","v":0},{"$f":"[1]!PowerMod($A17,AB$2,$A$2)","v":0},{"$f":"[1]!PowerMod($A17,AC$2,$A$2)","v":0},{"$f":"[1]!PowerMod($A17,AD$2,$A$2)","v":0},{"$f":"[1]!PowerMod($A17,AE$2,$A$2)","v":0},{"$f":"[1]!PowerMod($A17,AF$2,$A$2)","v":0},{"$f":"[1]!PowerMod($A17,AG$2,$A$2)","v":0},{"$f":"[1]!PowerMod($A17,AH$2,$A$2)","v":0},{"$f":"[1]!PowerMod($A17,AI$2,$A$2)","v":0},{"$f":"[1]!PowerMod($A17,AJ$2,$A$2)","v":0},{"$f":"[1]!PowerMod($A17,AK$2,$A$2)","v":0},{"$f":"[1]!PowerMod($A17,AL$2,$A$2)","v":0},{"$f":"[1]!PowerMod($A17,AM$2,$A$2)","v":0},{"$f":"[1]!PowerMod($A17,AN$2,$A$2)","v":0},{"$f":"[1]!PowerMod($A17,AO$2,$A$2)","v":0},{"$f":"[1]!PowerMod($A17,AP$2,$A$2)","v":0},{"$f":"[1]!PowerMod($A17,AQ$2,$A$2)","v":0},{"$f":"[1]!PowerMod($A17,AR$2,$A$2)","v":0},{"$f":"[1]!PowerMod($A17,AS$2,$A$2)","v":0},{"$f":"[1]!PowerMod($A17,AT$2,$A$2)","v":0},{"$f":"[1]!PowerMod($A17,AU$2,$A$2)","v":0},{"$f":"[1]!PowerMod($A17,AV$2,$A$2)","v":0},{"$f":"[1]!PowerMod($A17,AW$2,$A$2)","v":0},{"$f":"[1]!PowerMod($A17,AX$2,$A$2)","v":0},{"$f":"[1]!PowerMod($A17,AY$2,$A$2)","v":0},{"$f":"[1]!PowerMod($A17,AZ$2,$A$2)","v":0},{"$f":"[1]!PowerMod($A17,BA$2,$A$2)","v":0},{"$f":"[1]!PowerMod($A17,BB$2,$A$2)","v":0},{"$f":"[1]!PowerMod($A17,BC$2,$A$2)","v":0},{"$f":"[1]!PowerMod($A17,BD$2,$A$2)","v":0},{"$f":"[1]!PowerMod($A17,BE$2,$A$2)","v":0},{"$f":"[1]!PowerMod($A17,BF$2,$A$2)","v":0},{"$f":"[1]!PowerMod($A17,BG$2,$A$2)","v":0},{"$f":"[1]!PowerMod($A17,BH$2,$A$2)","v":0},{"$f":"[1]!PowerMod($A17,BI$2,$A$2)","v":0},{"$f":"[1]!PowerMod($A17,BJ$2,$A$2)","v":0},{"$f":"[1]!PowerMod($A17,BK$2,$A$2)","v":0},{"$f":"[1]!PowerMod($A17,BL$2,$A$2)","v":0},{"$f":"[1]!PowerMod($A17,BM$2,$A$2)","v":0},{"$f":"[1]!PowerMod($A17,BN$2,$A$2)","v":0},{"$f":"[1]!PowerMod($A17,BO$2,$A$2)","v":0},{"$f":"[1]!PowerMod($A17,BP$2,$A$2)","v":0},{"$f":"[1]!PowerMod($A17,BQ$2,$A$2)","v":0},{"$f":"[1]!PowerMod($A17,BR$2,$A$2)","v":0},{"$f":"[1]!PowerMod($A17,BS$2,$A$2)","v":0},{"$f":"[1]!PowerMod($A17,BT$2,$A$2)","v":0}]
[16,{"$f":"[1]!PowerMod($A18,B$2,$A$2)","v":16},{"$f":"[1]!PowerMod($A18,C$2,$A$2)","v":13},{"$f":"[1]!PowerMod($A18,D$2,$A$2)","v":19},{"$f":"[1]!PowerMod($A18,E$2,$A$2)","v":7},{"$f":"[1]!PowerMod($A18,F$2,$A$2)","v":4},{"$f":"[1]!PowerMod($A18,G$2,$A$2)","v":10},{"$f":"[1]!PowerMod($A18,H$2,$A$2)","v":25},{"$f":"[1]!PowerMod($A18,I$2,$A$2)","v":22},{"$f":"[1]!PowerMod($A18,J$2,$A$2)","v":1},{"$f":"[1]!PowerMod($A18,K$2,$A$2)","v":16},{"$f":"[1]!PowerMod($A18,L$2,$A$2)","v":13},{"$f":"[1]!PowerMod($A18,M$2,$A$2)","v":19},{"$f":"[1]!PowerMod($A18,N$2,$A$2)","v":7},{"$f":"[1]!PowerMod($A18,O$2,$A$2)","v":4},{"$f":"[1]!PowerMod($A18,P$2,$A$2)","v":10},{"$f":"[1]!PowerMod($A18,Q$2,$A$2)","v":25},{"$f":"[1]!PowerMod($A18,R$2,$A$2)","v":22},{"$f":"[1]!PowerMod($A18,S$2,$A$2)","v":1},{"$f":"[1]!PowerMod($A18,T$2,$A$2)","v":16},{"$f":"[1]!PowerMod($A18,U$2,$A$2)","v":13},{"$f":"[1]!PowerMod($A18,V$2,$A$2)","v":19},{"$f":"[1]!PowerMod($A18,W$2,$A$2)","v":7},{"$f":"[1]!PowerMod($A18,X$2,$A$2)","v":4},{"$f":"[1]!PowerMod($A18,Y$2,$A$2)","v":10},{"$f":"[1]!PowerMod($A18,Z$2,$A$2)","v":25},{"$f":"[1]!PowerMod($A18,AA$2,$A$2)","v":22},{"$f":"[1]!PowerMod($A18,AB$2,$A$2)","v":1},{"$f":"[1]!PowerMod($A18,AC$2,$A$2)","v":16},{"$f":"[1]!PowerMod($A18,AD$2,$A$2)","v":13},{"$f":"[1]!PowerMod($A18,AE$2,$A$2)","v":19},{"$f":"[1]!PowerMod($A18,AF$2,$A$2)","v":7},{"$f":"[1]!PowerMod($A18,AG$2,$A$2)","v":4},{"$f":"[1]!PowerMod($A18,AH$2,$A$2)","v":10},{"$f":"[1]!PowerMod($A18,AI$2,$A$2)","v":25},{"$f":"[1]!PowerMod($A18,AJ$2,$A$2)","v":22},{"$f":"[1]!PowerMod($A18,AK$2,$A$2)","v":1},{"$f":"[1]!PowerMod($A18,AL$2,$A$2)","v":16},{"$f":"[1]!PowerMod($A18,AM$2,$A$2)","v":13},{"$f":"[1]!PowerMod($A18,AN$2,$A$2)","v":19},{"$f":"[1]!PowerMod($A18,AO$2,$A$2)","v":7},{"$f":"[1]!PowerMod($A18,AP$2,$A$2)","v":4},{"$f":"[1]!PowerMod($A18,AQ$2,$A$2)","v":10},{"$f":"[1]!PowerMod($A18,AR$2,$A$2)","v":25},{"$f":"[1]!PowerMod($A18,AS$2,$A$2)","v":22},{"$f":"[1]!PowerMod($A18,AT$2,$A$2)","v":1},{"$f":"[1]!PowerMod($A18,AU$2,$A$2)","v":16},{"$f":"[1]!PowerMod($A18,AV$2,$A$2)","v":13},{"$f":"[1]!PowerMod($A18,AW$2,$A$2)","v":19},{"$f":"[1]!PowerMod($A18,AX$2,$A$2)","v":7},{"$f":"[1]!PowerMod($A18,AY$2,$A$2)","v":4},{"$f":"[1]!PowerMod($A18,AZ$2,$A$2)","v":10},{"$f":"[1]!PowerMod($A18,BA$2,$A$2)","v":25},{"$f":"[1]!PowerMod($A18,BB$2,$A$2)","v":22},{"$f":"[1]!PowerMod($A18,BC$2,$A$2)","v":1},{"$f":"[1]!PowerMod($A18,BD$2,$A$2)","v":16},{"$f":"[1]!PowerMod($A18,BE$2,$A$2)","v":13},{"$f":"[1]!PowerMod($A18,BF$2,$A$2)","v":19},{"$f":"[1]!PowerMod($A18,BG$2,$A$2)","v":7},{"$f":"[1]!PowerMod($A18,BH$2,$A$2)","v":4},{"$f":"[1]!PowerMod($A18,BI$2,$A$2)","v":10},{"$f":"[1]!PowerMod($A18,BJ$2,$A$2)","v":25},{"$f":"[1]!PowerMod($A18,BK$2,$A$2)","v":22},{"$f":"[1]!PowerMod($A18,BL$2,$A$2)","v":1},{"$f":"[1]!PowerMod($A18,BM$2,$A$2)","v":16},{"$f":"[1]!PowerMod($A18,BN$2,$A$2)","v":13},{"$f":"[1]!PowerMod($A18,BO$2,$A$2)","v":19},{"$f":"[1]!PowerMod($A18,BP$2,$A$2)","v":7},{"$f":"[1]!PowerMod($A18,BQ$2,$A$2)","v":4},{"$f":"[1]!PowerMod($A18,BR$2,$A$2)","v":10},{"$f":"[1]!PowerMod($A18,BS$2,$A$2)","v":25},{"$f":"[1]!PowerMod($A18,BT$2,$A$2)","v":22}]
[17,{"$f":"[1]!PowerMod($A19,B$2,$A$2)","v":17},{"$f":"[1]!PowerMod($A19,C$2,$A$2)","v":19},{"$f":"[1]!PowerMod($A19,D$2,$A$2)","v":26},{"$f":"[1]!PowerMod($A19,E$2,$A$2)","v":10},{"$f":"[1]!PowerMod($A19,F$2,$A$2)","v":8},{"$f":"[1]!PowerMod($A19,G$2,$A$2)","v":1},{"$f":"[1]!PowerMod($A19,H$2,$A$2)","v":17},{"$f":"[1]!PowerMod($A19,I$2,$A$2)","v":19},{"$f":"[1]!PowerMod($A19,J$2,$A$2)","v":26},{"$f":"[1]!PowerMod($A19,K$2,$A$2)","v":10},{"$f":"[1]!PowerMod($A19,L$2,$A$2)","v":8},{"$f":"[1]!PowerMod($A19,M$2,$A$2)","v":1},{"$f":"[1]!PowerMod($A19,N$2,$A$2)","v":17},{"$f":"[1]!PowerMod($A19,O$2,$A$2)","v":19},{"$f":"[1]!PowerMod($A19,P$2,$A$2)","v":26},{"$f":"[1]!PowerMod($A19,Q$2,$A$2)","v":10},{"$f":"[1]!PowerMod($A19,R$2,$A$2)","v":8},{"$f":"[1]!PowerMod($A19,S$2,$A$2)","v":1},{"$f":"[1]!PowerMod($A19,T$2,$A$2)","v":17},{"$f":"[1]!PowerMod($A19,U$2,$A$2)","v":19},{"$f":"[1]!PowerMod($A19,V$2,$A$2)","v":26},{"$f":"[1]!PowerMod($A19,W$2,$A$2)","v":10},{"$f":"[1]!PowerMod($A19,X$2,$A$2)","v":8},{"$f":"[1]!PowerMod($A19,Y$2,$A$2)","v":1},{"$f":"[1]!PowerMod($A19,Z$2,$A$2)","v":17},{"$f":"[1]!PowerMod($A19,AA$2,$A$2)","v":19},{"$f":"[1]!PowerMod($A19,AB$2,$A$2)","v":26},{"$f":"[1]!PowerMod($A19,AC$2,$A$2)","v":10},{"$f":"[1]!PowerMod($A19,AD$2,$A$2)","v":8},{"$f":"[1]!PowerMod($A19,AE$2,$A$2)","v":1},{"$f":"[1]!PowerMod($A19,AF$2,$A$2)","v":17},{"$f":"[1]!PowerMod($A19,AG$2,$A$2)","v":19},{"$f":"[1]!PowerMod($A19,AH$2,$A$2)","v":26},{"$f":"[1]!PowerMod($A19,AI$2,$A$2)","v":10},{"$f":"[1]!PowerMod($A19,AJ$2,$A$2)","v":8},{"$f":"[1]!PowerMod($A19,AK$2,$A$2)","v":1},{"$f":"[1]!PowerMod($A19,AL$2,$A$2)","v":17},{"$f":"[1]!PowerMod($A19,AM$2,$A$2)","v":19},{"$f":"[1]!PowerMod($A19,AN$2,$A$2)","v":26},{"$f":"[1]!PowerMod($A19,AO$2,$A$2)","v":10},{"$f":"[1]!PowerMod($A19,AP$2,$A$2)","v":8},{"$f":"[1]!PowerMod($A19,AQ$2,$A$2)","v":1},{"$f":"[1]!PowerMod($A19,AR$2,$A$2)","v":17},{"$f":"[1]!PowerMod($A19,AS$2,$A$2)","v":19},{"$f":"[1]!PowerMod($A19,AT$2,$A$2)","v":26},{"$f":"[1]!PowerMod($A19,AU$2,$A$2)","v":10},{"$f":"[1]!PowerMod($A19,AV$2,$A$2)","v":8},{"$f":"[1]!PowerMod($A19,AW$2,$A$2)","v":1},{"$f":"[1]!PowerMod($A19,AX$2,$A$2)","v":17},{"$f":"[1]!PowerMod($A19,AY$2,$A$2)","v":19},{"$f":"[1]!PowerMod($A19,AZ$2,$A$2)","v":26},{"$f":"[1]!PowerMod($A19,BA$2,$A$2)","v":10},{"$f":"[1]!PowerMod($A19,BB$2,$A$2)","v":8},{"$f":"[1]!PowerMod($A19,BC$2,$A$2)","v":1},{"$f":"[1]!PowerMod($A19,BD$2,$A$2)","v":17},{"$f":"[1]!PowerMod($A19,BE$2,$A$2)","v":19},{"$f":"[1]!PowerMod($A19,BF$2,$A$2)","v":26},{"$f":"[1]!PowerMod($A19,BG$2,$A$2)","v":10},{"$f":"[1]!PowerMod($A19,BH$2,$A$2)","v":8},{"$f":"[1]!PowerMod($A19,BI$2,$A$2)","v":1},{"$f":"[1]!PowerMod($A19,BJ$2,$A$2)","v":17},{"$f":"[1]!PowerMod($A19,BK$2,$A$2)","v":19},{"$f":"[1]!PowerMod($A19,BL$2,$A$2)","v":26},{"$f":"[1]!PowerMod($A19,BM$2,$A$2)","v":10},{"$f":"[1]!PowerMod($A19,BN$2,$A$2)","v":8},{"$f":"[1]!PowerMod($A19,BO$2,$A$2)","v":1},{"$f":"[1]!PowerMod($A19,BP$2,$A$2)","v":17},{"$f":"[1]!PowerMod($A19,BQ$2,$A$2)","v":19},{"$f":"[1]!PowerMod($A19,BR$2,$A$2)","v":26},{"$f":"[1]!PowerMod($A19,BS$2,$A$2)","v":10},{"$f":"[1]!PowerMod($A19,BT$2,$A$2)","v":8}]
[18,{"$f":"[1]!PowerMod($A20,B$2,$A$2)","v":18},{"$f":"[1]!PowerMod($A20,C$2,$A$2)","v":0},{"$f":"[1]!PowerMod($A20,D$2,$A$2)","v":0},{"$f":"[1]!PowerMod($A20,E$2,$A$2)","v":0},{"$f":"[1]!PowerMod($A20,F$2,$A$2)","v":0},{"$f":"[1]!PowerMod($A20,G$2,$A$2)","v":0},{"$f":"[1]!PowerMod($A20,H$2,$A$2)","v":0},{"$f":"[1]!PowerMod($A20,I$2,$A$2)","v":0},{"$f":"[1]!PowerMod($A20,J$2,$A$2)","v":0},{"$f":"[1]!PowerMod($A20,K$2,$A$2)","v":0},{"$f":"[1]!PowerMod($A20,L$2,$A$2)","v":0},{"$f":"[1]!PowerMod($A20,M$2,$A$2)","v":0},{"$f":"[1]!PowerMod($A20,N$2,$A$2)","v":0},{"$f":"[1]!PowerMod($A20,O$2,$A$2)","v":0},{"$f":"[1]!PowerMod($A20,P$2,$A$2)","v":0},{"$f":"[1]!PowerMod($A20,Q$2,$A$2)","v":0},{"$f":"[1]!PowerMod($A20,R$2,$A$2)","v":0},{"$f":"[1]!PowerMod($A20,S$2,$A$2)","v":0},{"$f":"[1]!PowerMod($A20,T$2,$A$2)","v":0},{"$f":"[1]!PowerMod($A20,U$2,$A$2)","v":0},{"$f":"[1]!PowerMod($A20,V$2,$A$2)","v":0},{"$f":"[1]!PowerMod($A20,W$2,$A$2)","v":0},{"$f":"[1]!PowerMod($A20,X$2,$A$2)","v":0},{"$f":"[1]!PowerMod($A20,Y$2,$A$2)","v":0},{"$f":"[1]!PowerMod($A20,Z$2,$A$2)","v":0},{"$f":"[1]!PowerMod($A20,AA$2,$A$2)","v":0},{"$f":"[1]!PowerMod($A20,AB$2,$A$2)","v":0},{"$f":"[1]!PowerMod($A20,AC$2,$A$2)","v":0},{"$f":"[1]!PowerMod($A20,AD$2,$A$2)","v":0},{"$f":"[1]!PowerMod($A20,AE$2,$A$2)","v":0},{"$f":"[1]!PowerMod($A20,AF$2,$A$2)","v":0},{"$f":"[1]!PowerMod($A20,AG$2,$A$2)","v":0},{"$f":"[1]!PowerMod($A20,AH$2,$A$2)","v":0},{"$f":"[1]!PowerMod($A20,AI$2,$A$2)","v":0},{"$f":"[1]!PowerMod($A20,AJ$2,$A$2)","v":0},{"$f":"[1]!PowerMod($A20,AK$2,$A$2)","v":0},{"$f":"[1]!PowerMod($A20,AL$2,$A$2)","v":0},{"$f":"[1]!PowerMod($A20,AM$2,$A$2)","v":0},{"$f":"[1]!PowerMod($A20,AN$2,$A$2)","v":0},{"$f":"[1]!PowerMod($A20,AO$2,$A$2)","v":0},{"$f":"[1]!PowerMod($A20,AP$2,$A$2)","v":0},{"$f":"[1]!PowerMod($A20,AQ$2,$A$2)","v":0},{"$f":"[1]!PowerMod($A20,AR$2,$A$2)","v":0},{"$f":"[1]!PowerMod($A20,AS$2,$A$2)","v":0},{"$f":"[1]!PowerMod($A20,AT$2,$A$2)","v":0},{"$f":"[1]!PowerMod($A20,AU$2,$A$2)","v":0},{"$f":"[1]!PowerMod($A20,AV$2,$A$2)","v":0},{"$f":"[1]!PowerMod($A20,AW$2,$A$2)","v":0},{"$f":"[1]!PowerMod($A20,AX$2,$A$2)","v":0},{"$f":"[1]!PowerMod($A20,AY$2,$A$2)","v":0},{"$f":"[1]!PowerMod($A20,AZ$2,$A$2)","v":0},{"$f":"[1]!PowerMod($A20,BA$2,$A$2)","v":0},{"$f":"[1]!PowerMod($A20,BB$2,$A$2)","v":0},{"$f":"[1]!PowerMod($A20,BC$2,$A$2)","v":0},{"$f":"[1]!PowerMod($A20,BD$2,$A$2)","v":0},{"$f":"[1]!PowerMod($A20,BE$2,$A$2)","v":0},{"$f":"[1]!PowerMod($A20,BF$2,$A$2)","v":0},{"$f":"[1]!PowerMod($A20,BG$2,$A$2)","v":0},{"$f":"[1]!PowerMod($A20,BH$2,$A$2)","v":0},{"$f":"[1]!PowerMod($A20,BI$2,$A$2)","v":0},{"$f":"[1]!PowerMod($A20,BJ$2,$A$2)","v":0},{"$f":"[1]!PowerMod($A20,BK$2,$A$2)","v":0},{"$f":"[1]!PowerMod($A20,BL$2,$A$2)","v":0},{"$f":"[1]!PowerMod($A20,BM$2,$A$2)","v":0},{"$f":"[1]!PowerMod($A20,BN$2,$A$2)","v":0},{"$f":"[1]!PowerMod($A20,BO$2,$A$2)","v":0},{"$f":"[1]!PowerMod($A20,BP$2,$A$2)","v":0},{"$f":"[1]!PowerMod($A20,BQ$2,$A$2)","v":0},{"$f":"[1]!PowerMod($A20,BR$2,$A$2)","v":0},{"$f":"[1]!PowerMod($A20,BS$2,$A$2)","v":0},{"$f":"[1]!PowerMod($A20,BT$2,$A$2)","v":0}]
[19,{"$f":"[1]!PowerMod($A21,B$2,$A$2)","v":19},{"$f":"[1]!PowerMod($A21,C$2,$A$2)","v":10},{"$f":"[1]!PowerMod($A21,D$2,$A$2)","v":1},{"$f":"[1]!PowerMod($A21,E$2,$A$2)","v":19},{"$f":"[1]!PowerMod($A21,F$2,$A$2)","v":10},{"$f":"[1]!PowerMod($A21,G$2,$A$2)","v":1},{"$f":"[1]!PowerMod($A21,H$2,$A$2)","v":19},{"$f":"[1]!PowerMod($A21,I$2,$A$2)","v":10},{"$f":"[1]!PowerMod($A21,J$2,$A$2)","v":1},{"$f":"[1]!PowerMod($A21,K$2,$A$2)","v":19},{"$f":"[1]!PowerMod($A21,L$2,$A$2)","v":10},{"$f":"[1]!PowerMod($A21,M$2,$A$2)","v":1},{"$f":"[1]!PowerMod($A21,N$2,$A$2)","v":19},{"$f":"[1]!PowerMod($A21,O$2,$A$2)","v":10},{"$f":"[1]!PowerMod($A21,P$2,$A$2)","v":1},{"$f":"[1]!PowerMod($A21,Q$2,$A$2)","v":19},{"$f":"[1]!PowerMod($A21,R$2,$A$2)","v":10},{"$f":"[1]!PowerMod($A21,S$2,$A$2)","v":1},{"$f":"[1]!PowerMod($A21,T$2,$A$2)","v":19},{"$f":"[1]!PowerMod($A21,U$2,$A$2)","v":10},{"$f":"[1]!PowerMod($A21,V$2,$A$2)","v":1},{"$f":"[1]!PowerMod($A21,W$2,$A$2)","v":19},{"$f":"[1]!PowerMod($A21,X$2,$A$2)","v":10},{"$f":"[1]!PowerMod($A21,Y$2,$A$2)","v":1},{"$f":"[1]!PowerMod($A21,Z$2,$A$2)","v":19},{"$f":"[1]!PowerMod($A21,AA$2,$A$2)","v":10},{"$f":"[1]!PowerMod($A21,AB$2,$A$2)","v":1},{"$f":"[1]!PowerMod($A21,AC$2,$A$2)","v":19},{"$f":"[1]!PowerMod($A21,AD$2,$A$2)","v":10},{"$f":"[1]!PowerMod($A21,AE$2,$A$2)","v":1},{"$f":"[1]!PowerMod($A21,AF$2,$A$2)","v":19},{"$f":"[1]!PowerMod($A21,AG$2,$A$2)","v":10},{"$f":"[1]!PowerMod($A21,AH$2,$A$2)","v":1},{"$f":"[1]!PowerMod($A21,AI$2,$A$2)","v":19},{"$f":"[1]!PowerMod($A21,AJ$2,$A$2)","v":10},{"$f":"[1]!PowerMod($A21,AK$2,$A$2)","v":1},{"$f":"[1]!PowerMod($A21,AL$2,$A$2)","v":19},{"$f":"[1]!PowerMod($A21,AM$2,$A$2)","v":10},{"$f":"[1]!PowerMod($A21,AN$2,$A$2)","v":1},{"$f":"[1]!PowerMod($A21,AO$2,$A$2)","v":19},{"$f":"[1]!PowerMod($A21,AP$2,$A$2)","v":10},{"$f":"[1]!PowerMod($A21,AQ$2,$A$2)","v":1},{"$f":"[1]!PowerMod($A21,AR$2,$A$2)","v":19},{"$f":"[1]!PowerMod($A21,AS$2,$A$2)","v":10},{"$f":"[1]!PowerMod($A21,AT$2,$A$2)","v":1},{"$f":"[1]!PowerMod($A21,AU$2,$A$2)","v":19},{"$f":"[1]!PowerMod($A21,AV$2,$A$2)","v":10},{"$f":"[1]!PowerMod($A21,AW$2,$A$2)","v":1},{"$f":"[1]!PowerMod($A21,AX$2,$A$2)","v":19},{"$f":"[1]!PowerMod($A21,AY$2,$A$2)","v":10},{"$f":"[1]!PowerMod($A21,AZ$2,$A$2)","v":1},{"$f":"[1]!PowerMod($A21,BA$2,$A$2)","v":19},{"$f":"[1]!PowerMod($A21,BB$2,$A$2)","v":10},{"$f":"[1]!PowerMod($A21,BC$2,$A$2)","v":1},{"$f":"[1]!PowerMod($A21,BD$2,$A$2)","v":19},{"$f":"[1]!PowerMod($A21,BE$2,$A$2)","v":10},{"$f":"[1]!PowerMod($A21,BF$2,$A$2)","v":1},{"$f":"[1]!PowerMod($A21,BG$2,$A$2)","v":19},{"$f":"[1]!PowerMod($A21,BH$2,$A$2)","v":10},{"$f":"[1]!PowerMod($A21,BI$2,$A$2)","v":1},{"$f":"[1]!PowerMod($A21,BJ$2,$A$2)","v":19},{"$f":"[1]!PowerMod($A21,BK$2,$A$2)","v":10},{"$f":"[1]!PowerMod($A21,BL$2,$A$2)","v":1},{"$f":"[1]!PowerMod($A21,BM$2,$A$2)","v":19},{"$f":"[1]!PowerMod($A21,BN$2,$A$2)","v":10},{"$f":"[1]!PowerMod($A21,BO$2,$A$2)","v":1},{"$f":"[1]!PowerMod($A21,BP$2,$A$2)","v":19},{"$f":"[1]!PowerMod($A21,BQ$2,$A$2)","v":10},{"$f":"[1]!PowerMod($A21,BR$2,$A$2)","v":1},{"$f":"[1]!PowerMod($A21,BS$2,$A$2)","v":19},{"$f":"[1]!PowerMod($A21,BT$2,$A$2)","v":10}]
[20,{"$f":"[1]!PowerMod($A22,B$2,$A$2)","v":20},{"$f":"[1]!PowerMod($A22,C$2,$A$2)","v":22},{"$f":"[1]!PowerMod($A22,D$2,$A$2)","v":8},{"$f":"[1]!PowerMod($A22,E$2,$A$2)","v":25},{"$f":"[1]!PowerMod($A22,F$2,$A$2)","v":14},{"$f":"[1]!PowerMod($A22,G$2,$A$2)","v":10},{"$f":"[1]!PowerMod($A22,H$2,$A$2)","v":11},{"$f":"[1]!PowerMod($A22,I$2,$A$2)","v":4},{"$f":"[1]!PowerMod($A22,J$2,$A$2)","v":26},{"$f":"[1]!PowerMod($A22,K$2,$A$2)","v":7},{"$f":"[1]!PowerMod($A22,L$2,$A$2)","v":5},{"$f":"[1]!PowerMod($A22,M$2,$A$2)","v":19},{"$f":"[1]!PowerMod($A22,N$2,$A$2)","v":2},{"$f":"[1]!PowerMod($A22,O$2,$A$2)","v":13},{"$f":"[1]!PowerMod($A22,P$2,$A$2)","v":17},{"$f":"[1]!PowerMod($A22,Q$2,$A$2)","v":16},{"$f":"[1]!PowerMod($A22,R$2,$A$2)","v":23},{"$f":"[1]!PowerMod($A22,S$2,$A$2)","v":1},{"$f":"[1]!PowerMod($A22,T$2,$A$2)","v":20},{"$f":"[1]!PowerMod($A22,U$2,$A$2)","v":22},{"$f":"[1]!PowerMod($A22,V$2,$A$2)","v":8},{"$f":"[1]!PowerMod($A22,W$2,$A$2)","v":25},{"$f":"[1]!PowerMod($A22,X$2,$A$2)","v":14},{"$f":"[1]!PowerMod($A22,Y$2,$A$2)","v":10},{"$f":"[1]!PowerMod($A22,Z$2,$A$2)","v":11},{"$f":"[1]!PowerMod($A22,AA$2,$A$2)","v":4},{"$f":"[1]!PowerMod($A22,AB$2,$A$2)","v":26},{"$f":"[1]!PowerMod($A22,AC$2,$A$2)","v":7},{"$f":"[1]!PowerMod($A22,AD$2,$A$2)","v":5},{"$f":"[1]!PowerMod($A22,AE$2,$A$2)","v":19},{"$f":"[1]!PowerMod($A22,AF$2,$A$2)","v":2},{"$f":"[1]!PowerMod($A22,AG$2,$A$2)","v":13},{"$f":"[1]!PowerMod($A22,AH$2,$A$2)","v":17},{"$f":"[1]!PowerMod($A22,AI$2,$A$2)","v":16},{"$f":"[1]!PowerMod($A22,AJ$2,$A$2)","v":23},{"$f":"[1]!PowerMod($A22,AK$2,$A$2)","v":1},{"$f":"[1]!PowerMod($A22,AL$2,$A$2)","v":20},{"$f":"[1]!PowerMod($A22,AM$2,$A$2)","v":22},{"$f":"[1]!PowerMod($A22,AN$2,$A$2)","v":8},{"$f":"[1]!PowerMod($A22,AO$2,$A$2)","v":25},{"$f":"[1]!PowerMod($A22,AP$2,$A$2)","v":14},{"$f":"[1]!PowerMod($A22,AQ$2,$A$2)","v":10},{"$f":"[1]!PowerMod($A22,AR$2,$A$2)","v":11},{"$f":"[1]!PowerMod($A22,AS$2,$A$2)","v":4},{"$f":"[1]!PowerMod($A22,AT$2,$A$2)","v":26},{"$f":"[1]!PowerMod($A22,AU$2,$A$2)","v":7},{"$f":"[1]!PowerMod($A22,AV$2,$A$2)","v":5},{"$f":"[1]!PowerMod($A22,AW$2,$A$2)","v":19},{"$f":"[1]!PowerMod($A22,AX$2,$A$2)","v":2},{"$f":"[1]!PowerMod($A22,AY$2,$A$2)","v":13},{"$f":"[1]!PowerMod($A22,AZ$2,$A$2)","v":17},{"$f":"[1]!PowerMod($A22,BA$2,$A$2)","v":16},{"$f":"[1]!PowerMod($A22,BB$2,$A$2)","v":23},{"$f":"[1]!PowerMod($A22,BC$2,$A$2)","v":1},{"$f":"[1]!PowerMod($A22,BD$2,$A$2)","v":20},{"$f":"[1]!PowerMod($A22,BE$2,$A$2)","v":22},{"$f":"[1]!PowerMod($A22,BF$2,$A$2)","v":8},{"$f":"[1]!PowerMod($A22,BG$2,$A$2)","v":25},{"$f":"[1]!PowerMod($A22,BH$2,$A$2)","v":14},{"$f":"[1]!PowerMod($A22,BI$2,$A$2)","v":10},{"$f":"[1]!PowerMod($A22,BJ$2,$A$2)","v":11},{"$f":"[1]!PowerMod($A22,BK$2,$A$2)","v":4},{"$f":"[1]!PowerMod($A22,BL$2,$A$2)","v":26},{"$f":"[1]!PowerMod($A22,BM$2,$A$2)","v":7},{"$f":"[1]!PowerMod($A22,BN$2,$A$2)","v":5},{"$f":"[1]!PowerMod($A22,BO$2,$A$2)","v":19},{"$f":"[1]!PowerMod($A22,BP$2,$A$2)","v":2},{"$f":"[1]!PowerMod($A22,BQ$2,$A$2)","v":13},{"$f":"[1]!PowerMod($A22,BR$2,$A$2)","v":17},{"$f":"[1]!PowerMod($A22,BS$2,$A$2)","v":16},{"$f":"[1]!PowerMod($A22,BT$2,$A$2)","v":23}]
[21,{"$f":"[1]!PowerMod($A23,B$2,$A$2)","v":21},{"$f":"[1]!PowerMod($A23,C$2,$A$2)","v":9},{"$f":"[1]!PowerMod($A23,D$2,$A$2)","v":0},{"$f":"[1]!PowerMod($A23,E$2,$A$2)","v":0},{"$f":"[1]!PowerMod($A23,F$2,$A$2)","v":0},{"$f":"[1]!PowerMod($A23,G$2,$A$2)","v":0},{"$f":"[1]!PowerMod($A23,H$2,$A$2)","v":0},{"$f":"[1]!PowerMod($A23,I$2,$A$2)","v":0},{"$f":"[1]!PowerMod($A23,J$2,$A$2)","v":0},{"$f":"[1]!PowerMod($A23,K$2,$A$2)","v":0},{"$f":"[1]!PowerMod($A23,L$2,$A$2)","v":0},{"$f":"[1]!PowerMod($A23,M$2,$A$2)","v":0},{"$f":"[1]!PowerMod($A23,N$2,$A$2)","v":0},{"$f":"[1]!PowerMod($A23,O$2,$A$2)","v":0},{"$f":"[1]!PowerMod($A23,P$2,$A$2)","v":0},{"$f":"[1]!PowerMod($A23,Q$2,$A$2)","v":0},{"$f":"[1]!PowerMod($A23,R$2,$A$2)","v":0},{"$f":"[1]!PowerMod($A23,S$2,$A$2)","v":0},{"$f":"[1]!PowerMod($A23,T$2,$A$2)","v":0},{"$f":"[1]!PowerMod($A23,U$2,$A$2)","v":0},{"$f":"[1]!PowerMod($A23,V$2,$A$2)","v":0},{"$f":"[1]!PowerMod($A23,W$2,$A$2)","v":0},{"$f":"[1]!PowerMod($A23,X$2,$A$2)","v":0},{"$f":"[1]!PowerMod($A23,Y$2,$A$2)","v":0},{"$f":"[1]!PowerMod($A23,Z$2,$A$2)","v":0},{"$f":"[1]!PowerMod($A23,AA$2,$A$2)","v":0},{"$f":"[1]!PowerMod($A23,AB$2,$A$2)","v":0},{"$f":"[1]!PowerMod($A23,AC$2,$A$2)","v":0},{"$f":"[1]!PowerMod($A23,AD$2,$A$2)","v":0},{"$f":"[1]!PowerMod($A23,AE$2,$A$2)","v":0},{"$f":"[1]!PowerMod($A23,AF$2,$A$2)","v":0},{"$f":"[1]!PowerMod($A23,AG$2,$A$2)","v":0},{"$f":"[1]!PowerMod($A23,AH$2,$A$2)","v":0},{"$f":"[1]!PowerMod($A23,AI$2,$A$2)","v":0},{"$f":"[1]!PowerMod($A23,AJ$2,$A$2)","v":0},{"$f":"[1]!PowerMod($A23,AK$2,$A$2)","v":0},{"$f":"[1]!PowerMod($A23,AL$2,$A$2)","v":0},{"$f":"[1]!PowerMod($A23,AM$2,$A$2)","v":0},{"$f":"[1]!PowerMod($A23,AN$2,$A$2)","v":0},{"$f":"[1]!PowerMod($A23,AO$2,$A$2)","v":0},{"$f":"[1]!PowerMod($A23,AP$2,$A$2)","v":0},{"$f":"[1]!PowerMod($A23,AQ$2,$A$2)","v":0},{"$f":"[1]!PowerMod($A23,AR$2,$A$2)","v":0},{"$f":"[1]!PowerMod($A23,AS$2,$A$2)","v":0},{"$f":"[1]!PowerMod($A23,AT$2,$A$2)","v":0},{"$f":"[1]!PowerMod($A23,AU$2,$A$2)","v":0},{"$f":"[1]!PowerMod($A23,AV$2,$A$2)","v":0},{"$f":"[1]!PowerMod($A23,AW$2,$A$2)","v":0},{"$f":"[1]!PowerMod($A23,AX$2,$A$2)","v":0},{"$f":"[1]!PowerMod($A23,AY$2,$A$2)","v":0},{"$f":"[1]!PowerMod($A23,AZ$2,$A$2)","v":0},{"$f":"[1]!PowerMod($A23,BA$2,$A$2)","v":0},{"$f":"[1]!PowerMod($A23,BB$2,$A$2)","v":0},{"$f":"[1]!PowerMod($A23,BC$2,$A$2)","v":0},{"$f":"[1]!PowerMod($A23,BD$2,$A$2)","v":0},{"$f":"[1]!PowerMod($A23,BE$2,$A$2)","v":0},{"$f":"[1]!PowerMod($A23,BF$2,$A$2)","v":0},{"$f":"[1]!PowerMod($A23,BG$2,$A$2)","v":0},{"$f":"[1]!PowerMod($A23,BH$2,$A$2)","v":0},{"$f":"[1]!PowerMod($A23,BI$2,$A$2)","v":0},{"$f":"[1]!PowerMod($A23,BJ$2,$A$2)","v":0},{"$f":"[1]!PowerMod($A23,BK$2,$A$2)","v":0},{"$f":"[1]!PowerMod($A23,BL$2,$A$2)","v":0},{"$f":"[1]!PowerMod($A23,BM$2,$A$2)","v":0},{"$f":"[1]!PowerMod($A23,BN$2,$A$2)","v":0},{"$f":"[1]!PowerMod($A23,BO$2,$A$2)","v":0},{"$f":"[1]!PowerMod($A23,BP$2,$A$2)","v":0},{"$f":"[1]!PowerMod($A23,BQ$2,$A$2)","v":0},{"$f":"[1]!PowerMod($A23,BR$2,$A$2)","v":0},{"$f":"[1]!PowerMod($A23,BS$2,$A$2)","v":0},{"$f":"[1]!PowerMod($A23,BT$2,$A$2)","v":0}]
[22,{"$f":"[1]!PowerMod($A24,B$2,$A$2)","v":22},{"$f":"[1]!PowerMod($A24,C$2,$A$2)","v":25},{"$f":"[1]!PowerMod($A24,D$2,$A$2)","v":10},{"$f":"[1]!PowerMod($A24,E$2,$A$2)","v":4},{"$f":"[1]!PowerMod($A24,F$2,$A$2)","v":7},{"$f":"[1]!PowerMod($A24,G$2,$A$2)","v":19},{"$f":"[1]!PowerMod($A24,H$2,$A$2)","v":13},{"$f":"[1]!PowerMod($A24,I$2,$A$2)","v":16},{"$f":"[1]!PowerMod($A24,J$2,$A$2)","v":1},{"$f":"[1]!PowerMod($A24,K$2,$A$2)","v":22},{"$f":"[1]!PowerMod($A24,L$2,$A$2)","v":25},{"$f":"[1]!PowerMod($A24,M$2,$A$2)","v":10},{"$f":"[1]!PowerMod($A24,N$2,$A$2)","v":4},{"$f":"[1]!PowerMod($A24,O$2,$A$2)","v":7},{"$f":"[1]!PowerMod($A24,P$2,$A$2)","v":19},{"$f":"[1]!PowerMod($A24,Q$2,$A$2)","v":13},{"$f":"[1]!PowerMod($A24,R$2,$A$2)","v":16},{"$f":"[1]!PowerMod($A24,S$2,$A$2)","v":1},{"$f":"[1]!PowerMod($A24,T$2,$A$2)","v":22},{"$f":"[1]!PowerMod($A24,U$2,$A$2)","v":25},{"$f":"[1]!PowerMod($A24,V$2,$A$2)","v":10},{"$f":"[1]!PowerMod($A24,W$2,$A$2)","v":4},{"$f":"[1]!PowerMod($A24,X$2,$A$2)","v":7},{"$f":"[1]!PowerMod($A24,Y$2,$A$2)","v":19},{"$f":"[1]!PowerMod($A24,Z$2,$A$2)","v":13},{"$f":"[1]!PowerMod($A24,AA$2,$A$2)","v":16},{"$f":"[1]!PowerMod($A24,AB$2,$A$2)","v":1},{"$f":"[1]!PowerMod($A24,AC$2,$A$2)","v":22},{"$f":"[1]!PowerMod($A24,AD$2,$A$2)","v":25},{"$f":"[1]!PowerMod($A24,AE$2,$A$2)","v":10},{"$f":"[1]!PowerMod($A24,AF$2,$A$2)","v":4},{"$f":"[1]!PowerMod($A24,AG$2,$A$2)","v":7},{"$f":"[1]!PowerMod($A24,AH$2,$A$2)","v":19},{"$f":"[1]!PowerMod($A24,AI$2,$A$2)","v":13},{"$f":"[1]!PowerMod($A24,AJ$2,$A$2)","v":16},{"$f":"[1]!PowerMod($A24,AK$2,$A$2)","v":1},{"$f":"[1]!PowerMod($A24,AL$2,$A$2)","v":22},{"$f":"[1]!PowerMod($A24,AM$2,$A$2)","v":25},{"$f":"[1]!PowerMod($A24,AN$2,$A$2)","v":10},{"$f":"[1]!PowerMod($A24,AO$2,$A$2)","v":4},{"$f":"[1]!PowerMod($A24,AP$2,$A$2)","v":7},{"$f":"[1]!PowerMod($A24,AQ$2,$A$2)","v":19},{"$f":"[1]!PowerMod($A24,AR$2,$A$2)","v":13},{"$f":"[1]!PowerMod($A24,AS$2,$A$2)","v":16},{"$f":"[1]!PowerMod($A24,AT$2,$A$2)","v":1},{"$f":"[1]!PowerMod($A24,AU$2,$A$2)","v":22},{"$f":"[1]!PowerMod($A24,AV$2,$A$2)","v":25},{"$f":"[1]!PowerMod($A24,AW$2,$A$2)","v":10},{"$f":"[1]!PowerMod($A24,AX$2,$A$2)","v":4},{"$f":"[1]!PowerMod($A24,AY$2,$A$2)","v":7},{"$f":"[1]!PowerMod($A24,AZ$2,$A$2)","v":19},{"$f":"[1]!PowerMod($A24,BA$2,$A$2)","v":13},{"$f":"[1]!PowerMod($A24,BB$2,$A$2)","v":16},{"$f":"[1]!PowerMod($A24,BC$2,$A$2)","v":1},{"$f":"[1]!PowerMod($A24,BD$2,$A$2)","v":22},{"$f":"[1]!PowerMod($A24,BE$2,$A$2)","v":25},{"$f":"[1]!PowerMod($A24,BF$2,$A$2)","v":10},{"$f":"[1]!PowerMod($A24,BG$2,$A$2)","v":4},{"$f":"[1]!PowerMod($A24,BH$2,$A$2)","v":7},{"$f":"[1]!PowerMod($A24,BI$2,$A$2)","v":19},{"$f":"[1]!PowerMod($A24,BJ$2,$A$2)","v":13},{"$f":"[1]!PowerMod($A24,BK$2,$A$2)","v":16},{"$f":"[1]!PowerMod($A24,BL$2,$A$2)","v":1},{"$f":"[1]!PowerMod($A24,BM$2,$A$2)","v":22},{"$f":"[1]!PowerMod($A24,BN$2,$A$2)","v":25},{"$f":"[1]!PowerMod($A24,BO$2,$A$2)","v":10},{"$f":"[1]!PowerMod($A24,BP$2,$A$2)","v":4},{"$f":"[1]!PowerMod($A24,BQ$2,$A$2)","v":7},{"$f":"[1]!PowerMod($A24,BR$2,$A$2)","v":19},{"$f":"[1]!PowerMod($A24,BS$2,$A$2)","v":13},{"$f":"[1]!PowerMod($A24,BT$2,$A$2)","v":16}]
[23,{"$f":"[1]!PowerMod($A25,B$2,$A$2)","v":23},{"$f":"[1]!PowerMod($A25,C$2,$A$2)","v":16},{"$f":"[1]!PowerMod($A25,D$2,$A$2)","v":17},{"$f":"[1]!PowerMod($A25,E$2,$A$2)","v":13},{"$f":"[1]!PowerMod($A25,F$2,$A$2)","v":2},{"$f":"[1]!PowerMod($A25,G$2,$A$2)","v":19},{"$f":"[1]!PowerMod($A25,H$2,$A$2)","v":5},{"$f":"[1]!PowerMod($A25,I$2,$A$2)","v":7},{"$f":"[1]!PowerMod($A25,J$2,$A$2)","v":26},{"$f":"[1]!PowerMod($A25,K$2,$A$2)","v":4},{"$f":"[1]!PowerMod($A25,L$2,$A$2)","v":11},{"$f":"[1]!PowerMod($A25,M$2,$A$2)","v":10},{"$f":"[1]!PowerMod($A25,N$2,$A$2)","v":14},{"$f":"[1]!PowerMod($A25,O$2,$A$2)","v":25},{"$f":"[1]!PowerMod($A25,P$2,$A$2)","v":8},{"$f":"[1]!PowerMod($A25,Q$2,$A$2)","v":22},{"$f":"[1]!PowerMod($A25,R$2,$A$2)","v":20},{"$f":"[1]!PowerMod($A25,S$2,$A$2)","v":1},{"$f":"[1]!PowerMod($A25,T$2,$A$2)","v":23},{"$f":"[1]!PowerMod($A25,U$2,$A$2)","v":16},{"$f":"[1]!PowerMod($A25,V$2,$A$2)","v":17},{"$f":"[1]!PowerMod($A25,W$2,$A$2)","v":13},{"$f":"[1]!PowerMod($A25,X$2,$A$2)","v":2},{"$f":"[1]!PowerMod($A25,Y$2,$A$2)","v":19},{"$f":"[1]!PowerMod($A25,Z$2,$A$2)","v":5},{"$f":"[1]!PowerMod($A25,AA$2,$A$2)","v":7},{"$f":"[1]!PowerMod($A25,AB$2,$A$2)","v":26},{"$f":"[1]!PowerMod($A25,AC$2,$A$2)","v":4},{"$f":"[1]!PowerMod($A25,AD$2,$A$2)","v":11},{"$f":"[1]!PowerMod($A25,AE$2,$A$2)","v":10},{"$f":"[1]!PowerMod($A25,AF$2,$A$2)","v":14},{"$f":"[1]!PowerMod($A25,AG$2,$A$2)","v":25},{"$f":"[1]!PowerMod($A25,AH$2,$A$2)","v":8},{"$f":"[1]!PowerMod($A25,AI$2,$A$2)","v":22},{"$f":"[1]!PowerMod($A25,AJ$2,$A$2)","v":20},{"$f":"[1]!PowerMod($A25,AK$2,$A$2)","v":1},{"$f":"[1]!PowerMod($A25,AL$2,$A$2)","v":23},{"$f":"[1]!PowerMod($A25,AM$2,$A$2)","v":16},{"$f":"[1]!PowerMod($A25,AN$2,$A$2)","v":17},{"$f":"[1]!PowerMod($A25,AO$2,$A$2)","v":13},{"$f":"[1]!PowerMod($A25,AP$2,$A$2)","v":2},{"$f":"[1]!PowerMod($A25,AQ$2,$A$2)","v":19},{"$f":"[1]!PowerMod($A25,AR$2,$A$2)","v":5},{"$f":"[1]!PowerMod($A25,AS$2,$A$2)","v":7},{"$f":"[1]!PowerMod($A25,AT$2,$A$2)","v":26},{"$f":"[1]!PowerMod($A25,AU$2,$A$2)","v":4},{"$f":"[1]!PowerMod($A25,AV$2,$A$2)","v":11},{"$f":"[1]!PowerMod($A25,AW$2,$A$2)","v":10},{"$f":"[1]!PowerMod($A25,AX$2,$A$2)","v":14},{"$f":"[1]!PowerMod($A25,AY$2,$A$2)","v":25},{"$f":"[1]!PowerMod($A25,AZ$2,$A$2)","v":8},{"$f":"[1]!PowerMod($A25,BA$2,$A$2)","v":22},{"$f":"[1]!PowerMod($A25,BB$2,$A$2)","v":20},{"$f":"[1]!PowerMod($A25,BC$2,$A$2)","v":1},{"$f":"[1]!PowerMod($A25,BD$2,$A$2)","v":23},{"$f":"[1]!PowerMod($A25,BE$2,$A$2)","v":16},{"$f":"[1]!PowerMod($A25,BF$2,$A$2)","v":17},{"$f":"[1]!PowerMod($A25,BG$2,$A$2)","v":13},{"$f":"[1]!PowerMod($A25,BH$2,$A$2)","v":2},{"$f":"[1]!PowerMod($A25,BI$2,$A$2)","v":19},{"$f":"[1]!PowerMod($A25,BJ$2,$A$2)","v":5},{"$f":"[1]!PowerMod($A25,BK$2,$A$2)","v":7},{"$f":"[1]!PowerMod($A25,BL$2,$A$2)","v":26},{"$f":"[1]!PowerMod($A25,BM$2,$A$2)","v":4},{"$f":"[1]!PowerMod($A25,BN$2,$A$2)","v":11},{"$f":"[1]!PowerMod($A25,BO$2,$A$2)","v":10},{"$f":"[1]!PowerMod($A25,BP$2,$A$2)","v":14},{"$f":"[1]!PowerMod($A25,BQ$2,$A$2)","v":25},{"$f":"[1]!PowerMod($A25,BR$2,$A$2)","v":8},{"$f":"[1]!PowerMod($A25,BS$2,$A$2)","v":22},{"$f":"[1]!PowerMod($A25,BT$2,$A$2)","v":20}]
[24,{"$f":"[1]!PowerMod($A26,B$2,$A$2)","v":24},{"$f":"[1]!PowerMod($A26,C$2,$A$2)","v":9},{"$f":"[1]!PowerMod($A26,D$2,$A$2)","v":0},{"$f":"[1]!PowerMod($A26,E$2,$A$2)","v":0},{"$f":"[1]!PowerMod($A26,F$2,$A$2)","v":0},{"$f":"[1]!PowerMod($A26,G$2,$A$2)","v":0},{"$f":"[1]!PowerMod($A26,H$2,$A$2)","v":0},{"$f":"[1]!PowerMod($A26,I$2,$A$2)","v":0},{"$f":"[1]!PowerMod($A26,J$2,$A$2)","v":0},{"$f":"[1]!PowerMod($A26,K$2,$A$2)","v":0},{"$f":"[1]!PowerMod($A26,L$2,$A$2)","v":0},{"$f":"[1]!PowerMod($A26,M$2,$A$2)","v":0},{"$f":"[1]!PowerMod($A26,N$2,$A$2)","v":0},{"$f":"[1]!PowerMod($A26,O$2,$A$2)","v":0},{"$f":"[1]!PowerMod($A26,P$2,$A$2)","v":0},{"$f":"[1]!PowerMod($A26,Q$2,$A$2)","v":0},{"$f":"[1]!PowerMod($A26,R$2,$A$2)","v":0},{"$f":"[1]!PowerMod($A26,S$2,$A$2)","v":0},{"$f":"[1]!PowerMod($A26,T$2,$A$2)","v":0},{"$f":"[1]!PowerMod($A26,U$2,$A$2)","v":0},{"$f":"[1]!PowerMod($A26,V$2,$A$2)","v":0},{"$f":"[1]!PowerMod($A26,W$2,$A$2)","v":0},{"$f":"[1]!PowerMod($A26,X$2,$A$2)","v":0},{"$f":"[1]!PowerMod($A26,Y$2,$A$2)","v":0},{"$f":"[1]!PowerMod($A26,Z$2,$A$2)","v":0},{"$f":"[1]!PowerMod($A26,AA$2,$A$2)","v":0},{"$f":"[1]!PowerMod($A26,AB$2,$A$2)","v":0},{"$f":"[1]!PowerMod($A26,AC$2,$A$2)","v":0},{"$f":"[1]!PowerMod($A26,AD$2,$A$2)","v":0},{"$f":"[1]!PowerMod($A26,AE$2,$A$2)","v":0},{"$f":"[1]!PowerMod($A26,AF$2,$A$2)","v":0},{"$f":"[1]!PowerMod($A26,AG$2,$A$2)","v":0},{"$f":"[1]!PowerMod($A26,AH$2,$A$2)","v":0},{"$f":"[1]!PowerMod($A26,AI$2,$A$2)","v":0},{"$f":"[1]!PowerMod($A26,AJ$2,$A$2)","v":0},{"$f":"[1]!PowerMod($A26,AK$2,$A$2)","v":0},{"$f":"[1]!PowerMod($A26,AL$2,$A$2)","v":0},{"$f":"[1]!PowerMod($A26,AM$2,$A$2)","v":0},{"$f":"[1]!PowerMod($A26,AN$2,$A$2)","v":0},{"$f":"[1]!PowerMod($A26,AO$2,$A$2)","v":0},{"$f":"[1]!PowerMod($A26,AP$2,$A$2)","v":0},{"$f":"[1]!PowerMod($A26,AQ$2,$A$2)","v":0},{"$f":"[1]!PowerMod($A26,AR$2,$A$2)","v":0},{"$f":"[1]!PowerMod($A26,AS$2,$A$2)","v":0},{"$f":"[1]!PowerMod($A26,AT$2,$A$2)","v":0},{"$f":"[1]!PowerMod($A26,AU$2,$A$2)","v":0},{"$f":"[1]!PowerMod($A26,AV$2,$A$2)","v":0},{"$f":"[1]!PowerMod($A26,AW$2,$A$2)","v":0},{"$f":"[1]!PowerMod($A26,AX$2,$A$2)","v":0},{"$f":"[1]!PowerMod($A26,AY$2,$A$2)","v":0},{"$f":"[1]!PowerMod($A26,AZ$2,$A$2)","v":0},{"$f":"[1]!PowerMod($A26,BA$2,$A$2)","v":0},{"$f":"[1]!PowerMod($A26,BB$2,$A$2)","v":0},{"$f":"[1]!PowerMod($A26,BC$2,$A$2)","v":0},{"$f":"[1]!PowerMod($A26,BD$2,$A$2)","v":0},{"$f":"[1]!PowerMod($A26,BE$2,$A$2)","v":0},{"$f":"[1]!PowerMod($A26,BF$2,$A$2)","v":0},{"$f":"[1]!PowerMod($A26,BG$2,$A$2)","v":0},{"$f":"[1]!PowerMod($A26,BH$2,$A$2)","v":0},{"$f":"[1]!PowerMod($A26,BI$2,$A$2)","v":0},{"$f":"[1]!PowerMod($A26,BJ$2,$A$2)","v":0},{"$f":"[1]!PowerMod($A26,BK$2,$A$2)","v":0},{"$f":"[1]!PowerMod($A26,BL$2,$A$2)","v":0},{"$f":"[1]!PowerMod($A26,BM$2,$A$2)","v":0},{"$f":"[1]!PowerMod($A26,BN$2,$A$2)","v":0},{"$f":"[1]!PowerMod($A26,BO$2,$A$2)","v":0},{"$f":"[1]!PowerMod($A26,BP$2,$A$2)","v":0},{"$f":"[1]!PowerMod($A26,BQ$2,$A$2)","v":0},{"$f":"[1]!PowerMod($A26,BR$2,$A$2)","v":0},{"$f":"[1]!PowerMod($A26,BS$2,$A$2)","v":0},{"$f":"[1]!PowerMod($A26,BT$2,$A$2)","v":0}]
[25,{"$f":"[1]!PowerMod($A27,B$2,$A$2)","v":25},{"$f":"[1]!PowerMod($A27,C$2,$A$2)","v":4},{"$f":"[1]!PowerMod($A27,D$2,$A$2)","v":19},{"$f":"[1]!PowerMod($A27,E$2,$A$2)","v":16},{"$f":"[1]!PowerMod($A27,F$2,$A$2)","v":22},{"$f":"[1]!PowerMod($A27,G$2,$A$2)","v":10},{"$f":"[1]!PowerMod($A27,H$2,$A$2)","v":7},{"$f":"[1]!PowerMod($A27,I$2,$A$2)","v":13},{"$f":"[1]!PowerMod($A27,J$2,$A$2)","v":1},{"$f":"[1]!PowerMod($A27,K$2,$A$2)","v":25},{"$f":"[1]!PowerMod($A27,L$2,$A$2)","v":4},{"$f":"[1]!PowerMod($A27,M$2,$A$2)","v":19},{"$f":"[1]!PowerMod($A27,N$2,$A$2)","v":16},{"$f":"[1]!PowerMod($A27,O$2,$A$2)","v":22},{"$f":"[1]!PowerMod($A27,P$2,$A$2)","v":10},{"$f":"[1]!PowerMod($A27,Q$2,$A$2)","v":7},{"$f":"[1]!PowerMod($A27,R$2,$A$2)","v":13},{"$f":"[1]!PowerMod($A27,S$2,$A$2)","v":1},{"$f":"[1]!PowerMod($A27,T$2,$A$2)","v":25},{"$f":"[1]!PowerMod($A27,U$2,$A$2)","v":4},{"$f":"[1]!PowerMod($A27,V$2,$A$2)","v":19},{"$f":"[1]!PowerMod($A27,W$2,$A$2)","v":16},{"$f":"[1]!PowerMod($A27,X$2,$A$2)","v":22},{"$f":"[1]!PowerMod($A27,Y$2,$A$2)","v":10},{"$f":"[1]!PowerMod($A27,Z$2,$A$2)","v":7},{"$f":"[1]!PowerMod($A27,AA$2,$A$2)","v":13},{"$f":"[1]!PowerMod($A27,AB$2,$A$2)","v":1},{"$f":"[1]!PowerMod($A27,AC$2,$A$2)","v":25},{"$f":"[1]!PowerMod($A27,AD$2,$A$2)","v":4},{"$f":"[1]!PowerMod($A27,AE$2,$A$2)","v":19},{"$f":"[1]!PowerMod($A27,AF$2,$A$2)","v":16},{"$f":"[1]!PowerMod($A27,AG$2,$A$2)","v":22},{"$f":"[1]!PowerMod($A27,AH$2,$A$2)","v":10},{"$f":"[1]!PowerMod($A27,AI$2,$A$2)","v":7},{"$f":"[1]!PowerMod($A27,AJ$2,$A$2)","v":13},{"$f":"[1]!PowerMod($A27,AK$2,$A$2)","v":1},{"$f":"[1]!PowerMod($A27,AL$2,$A$2)","v":25},{"$f":"[1]!PowerMod($A27,AM$2,$A$2)","v":4},{"$f":"[1]!PowerMod($A27,AN$2,$A$2)","v":19},{"$f":"[1]!PowerMod($A27,AO$2,$A$2)","v":16},{"$f":"[1]!PowerMod($A27,AP$2,$A$2)","v":22},{"$f":"[1]!PowerMod($A27,AQ$2,$A$2)","v":10},{"$f":"[1]!PowerMod($A27,AR$2,$A$2)","v":7},{"$f":"[1]!PowerMod($A27,AS$2,$A$2)","v":13},{"$f":"[1]!PowerMod($A27,AT$2,$A$2)","v":1},{"$f":"[1]!PowerMod($A27,AU$2,$A$2)","v":25},{"$f":"[1]!PowerMod($A27,AV$2,$A$2)","v":4},{"$f":"[1]!PowerMod($A27,AW$2,$A$2)","v":19},{"$f":"[1]!PowerMod($A27,AX$2,$A$2)","v":16},{"$f":"[1]!PowerMod($A27,AY$2,$A$2)","v":22},{"$f":"[1]!PowerMod($A27,AZ$2,$A$2)","v":10},{"$f":"[1]!PowerMod($A27,BA$2,$A$2)","v":7},{"$f":"[1]!PowerMod($A27,BB$2,$A$2)","v":13},{"$f":"[1]!PowerMod($A27,BC$2,$A$2)","v":1},{"$f":"[1]!PowerMod($A27,BD$2,$A$2)","v":25},{"$f":"[1]!PowerMod($A27,BE$2,$A$2)","v":4},{"$f":"[1]!PowerMod($A27,BF$2,$A$2)","v":19},{"$f":"[1]!PowerMod($A27,BG$2,$A$2)","v":16},{"$f":"[1]!PowerMod($A27,BH$2,$A$2)","v":22},{"$f":"[1]!PowerMod($A27,BI$2,$A$2)","v":10},{"$f":"[1]!PowerMod($A27,BJ$2,$A$2)","v":7},{"$f":"[1]!PowerMod($A27,BK$2,$A$2)","v":13},{"$f":"[1]!PowerMod($A27,BL$2,$A$2)","v":1},{"$f":"[1]!PowerMod($A27,BM$2,$A$2)","v":25},{"$f":"[1]!PowerMod($A27,BN$2,$A$2)","v":4},{"$f":"[1]!PowerMod($A27,BO$2,$A$2)","v":19},{"$f":"[1]!PowerMod($A27,BP$2,$A$2)","v":16},{"$f":"[1]!PowerMod($A27,BQ$2,$A$2)","v":22},{"$f":"[1]!PowerMod($A27,BR$2,$A$2)","v":10},{"$f":"[1]!PowerMod($A27,BS$2,$A$2)","v":7},{"$f":"[1]!PowerMod($A27,BT$2,$A$2)","v":13}]
[26,{"$f":"[1]!PowerMod($A28,B$2,$A$2)","v":26},{"$f":"[1]!PowerMod($A28,C$2,$A$2)","v":1},{"$f":"[1]!PowerMod($A28,D$2,$A$2)","v":26},{"$f":"[1]!PowerMod($A28,E$2,$A$2)","v":1},{"$f":"[1]!PowerMod($A28,F$2,$A$2)","v":26},{"$f":"[1]!PowerMod($A28,G$2,$A$2)","v":1},{"$f":"[1]!PowerMod($A28,H$2,$A$2)","v":26},{"$f":"[1]!PowerMod($A28,I$2,$A$2)","v":1},{"$f":"[1]!PowerMod($A28,J$2,$A$2)","v":26},{"$f":"[1]!PowerMod($A28,K$2,$A$2)","v":1},{"$f":"[1]!PowerMod($A28,L$2,$A$2)","v":26},{"$f":"[1]!PowerMod($A28,M$2,$A$2)","v":1},{"$f":"[1]!PowerMod($A28,N$2,$A$2)","v":26},{"$f":"[1]!PowerMod($A28,O$2,$A$2)","v":1},{"$f":"[1]!PowerMod($A28,P$2,$A$2)","v":26},{"$f":"[1]!PowerMod($A28,Q$2,$A$2)","v":1},{"$f":"[1]!PowerMod($A28,R$2,$A$2)","v":26},{"$f":"[1]!PowerMod($A28,S$2,$A$2)","v":1},{"$f":"[1]!PowerMod($A28,T$2,$A$2)","v":26},{"$f":"[1]!PowerMod($A28,U$2,$A$2)","v":1},{"$f":"[1]!PowerMod($A28,V$2,$A$2)","v":26},{"$f":"[1]!PowerMod($A28,W$2,$A$2)","v":1},{"$f":"[1]!PowerMod($A28,X$2,$A$2)","v":26},{"$f":"[1]!PowerMod($A28,Y$2,$A$2)","v":1},{"$f":"[1]!PowerMod($A28,Z$2,$A$2)","v":26},{"$f":"[1]!PowerMod($A28,AA$2,$A$2)","v":1},{"$f":"[1]!PowerMod($A28,AB$2,$A$2)","v":26},{"$f":"[1]!PowerMod($A28,AC$2,$A$2)","v":1},{"$f":"[1]!PowerMod($A28,AD$2,$A$2)","v":26},{"$f":"[1]!PowerMod($A28,AE$2,$A$2)","v":1},{"$f":"[1]!PowerMod($A28,AF$2,$A$2)","v":26},{"$f":"[1]!PowerMod($A28,AG$2,$A$2)","v":1},{"$f":"[1]!PowerMod($A28,AH$2,$A$2)","v":26},{"$f":"[1]!PowerMod($A28,AI$2,$A$2)","v":1},{"$f":"[1]!PowerMod($A28,AJ$2,$A$2)","v":26},{"$f":"[1]!PowerMod($A28,AK$2,$A$2)","v":1},{"$f":"[1]!PowerMod($A28,AL$2,$A$2)","v":26},{"$f":"[1]!PowerMod($A28,AM$2,$A$2)","v":1},{"$f":"[1]!PowerMod($A28,AN$2,$A$2)","v":26},{"$f":"[1]!PowerMod($A28,AO$2,$A$2)","v":1},{"$f":"[1]!PowerMod($A28,AP$2,$A$2)","v":26},{"$f":"[1]!PowerMod($A28,AQ$2,$A$2)","v":1},{"$f":"[1]!PowerMod($A28,AR$2,$A$2)","v":26},{"$f":"[1]!PowerMod($A28,AS$2,$A$2)","v":1},{"$f":"[1]!PowerMod($A28,AT$2,$A$2)","v":26},{"$f":"[1]!PowerMod($A28,AU$2,$A$2)","v":1},{"$f":"[1]!PowerMod($A28,AV$2,$A$2)","v":26},{"$f":"[1]!PowerMod($A28,AW$2,$A$2)","v":1},{"$f":"[1]!PowerMod($A28,AX$2,$A$2)","v":26},{"$f":"[1]!PowerMod($A28,AY$2,$A$2)","v":1},{"$f":"[1]!PowerMod($A28,AZ$2,$A$2)","v":26},{"$f":"[1]!PowerMod($A28,BA$2,$A$2)","v":1},{"$f":"[1]!PowerMod($A28,BB$2,$A$2)","v":26},{"$f":"[1]!PowerMod($A28,BC$2,$A$2)","v":1},{"$f":"[1]!PowerMod($A28,BD$2,$A$2)","v":26},{"$f":"[1]!PowerMod($A28,BE$2,$A$2)","v":1},{"$f":"[1]!PowerMod($A28,BF$2,$A$2)","v":26},{"$f":"[1]!PowerMod($A28,BG$2,$A$2)","v":1},{"$f":"[1]!PowerMod($A28,BH$2,$A$2)","v":26},{"$f":"[1]!PowerMod($A28,BI$2,$A$2)","v":1},{"$f":"[1]!PowerMod($A28,BJ$2,$A$2)","v":26},{"$f":"[1]!PowerMod($A28,BK$2,$A$2)","v":1},{"$f":"[1]!PowerMod($A28,BL$2,$A$2)","v":26},{"$f":"[1]!PowerMod($A28,BM$2,$A$2)","v":1},{"$f":"[1]!PowerMod($A28,BN$2,$A$2)","v":26},{"$f":"[1]!PowerMod($A28,BO$2,$A$2)","v":1},{"$f":"[1]!PowerMod($A28,BP$2,$A$2)","v":26},{"$f":"[1]!PowerMod($A28,BQ$2,$A$2)","v":1},{"$f":"[1]!PowerMod($A28,BR$2,$A$2)","v":26},{"$f":"[1]!PowerMod($A28,BS$2,$A$2)","v":1},{"$f":"[1]!PowerMod($A28,BT$2,$A$2)","v":26}]
[27,{"$f":"[1]!PowerMod($A29,B$2,$A$2)","v":0},{"$f":"[1]!PowerMod($A29,C$2,$A$2)","v":0},{"$f":"[1]!PowerMod($A29,D$2,$A$2)","v":0},{"$f":"[1]!PowerMod($A29,E$2,$A$2)","v":0},{"$f":"[1]!PowerMod($A29,F$2,$A$2)","v":0},{"$f":"[1]!PowerMod($A29,G$2,$A$2)","v":0},{"$f":"[1]!PowerMod($A29,H$2,$A$2)","v":0},{"$f":"[1]!PowerMod($A29,I$2,$A$2)","v":0},{"$f":"[1]!PowerMod($A29,J$2,$A$2)","v":0},{"$f":"[1]!PowerMod($A29,K$2,$A$2)","v":0},{"$f":"[1]!PowerMod($A29,L$2,$A$2)","v":0},{"$f":"[1]!PowerMod($A29,M$2,$A$2)","v":0},{"$f":"[1]!PowerMod($A29,N$2,$A$2)","v":0},{"$f":"[1]!PowerMod($A29,O$2,$A$2)","v":0},{"$f":"[1]!PowerMod($A29,P$2,$A$2)","v":0},{"$f":"[1]!PowerMod($A29,Q$2,$A$2)","v":0},{"$f":"[1]!PowerMod($A29,R$2,$A$2)","v":0},{"$f":"[1]!PowerMod($A29,S$2,$A$2)","v":0},{"$f":"[1]!PowerMod($A29,T$2,$A$2)","v":0},{"$f":"[1]!PowerMod($A29,U$2,$A$2)","v":0},{"$f":"[1]!PowerMod($A29,V$2,$A$2)","v":0},{"$f":"[1]!PowerMod($A29,W$2,$A$2)","v":0},{"$f":"[1]!PowerMod($A29,X$2,$A$2)","v":0},{"$f":"[1]!PowerMod($A29,Y$2,$A$2)","v":0},{"$f":"[1]!PowerMod($A29,Z$2,$A$2)","v":0},{"$f":"[1]!PowerMod($A29,AA$2,$A$2)","v":0},{"$f":"[1]!PowerMod($A29,AB$2,$A$2)","v":0},{"$f":"[1]!PowerMod($A29,AC$2,$A$2)","v":0},{"$f":"[1]!PowerMod($A29,AD$2,$A$2)","v":0},{"$f":"[1]!PowerMod($A29,AE$2,$A$2)","v":0},{"$f":"[1]!PowerMod($A29,AF$2,$A$2)","v":0},{"$f":"[1]!PowerMod($A29,AG$2,$A$2)","v":0},{"$f":"[1]!PowerMod($A29,AH$2,$A$2)","v":0},{"$f":"[1]!PowerMod($A29,AI$2,$A$2)","v":0},{"$f":"[1]!PowerMod($A29,AJ$2,$A$2)","v":0},{"$f":"[1]!PowerMod($A29,AK$2,$A$2)","v":0},{"$f":"[1]!PowerMod($A29,AL$2,$A$2)","v":0},{"$f":"[1]!PowerMod($A29,AM$2,$A$2)","v":0},{"$f":"[1]!PowerMod($A29,AN$2,$A$2)","v":0},{"$f":"[1]!PowerMod($A29,AO$2,$A$2)","v":0},{"$f":"[1]!PowerMod($A29,AP$2,$A$2)","v":0},{"$f":"[1]!PowerMod($A29,AQ$2,$A$2)","v":0},{"$f":"[1]!PowerMod($A29,AR$2,$A$2)","v":0},{"$f":"[1]!PowerMod($A29,AS$2,$A$2)","v":0},{"$f":"[1]!PowerMod($A29,AT$2,$A$2)","v":0},{"$f":"[1]!PowerMod($A29,AU$2,$A$2)","v":0},{"$f":"[1]!PowerMod($A29,AV$2,$A$2)","v":0},{"$f":"[1]!PowerMod($A29,AW$2,$A$2)","v":0},{"$f":"[1]!PowerMod($A29,AX$2,$A$2)","v":0},{"$f":"[1]!PowerMod($A29,AY$2,$A$2)","v":0},{"$f":"[1]!PowerMod($A29,AZ$2,$A$2)","v":0},{"$f":"[1]!PowerMod($A29,BA$2,$A$2)","v":0},{"$f":"[1]!PowerMod($A29,BB$2,$A$2)","v":0},{"$f":"[1]!PowerMod($A29,BC$2,$A$2)","v":0},{"$f":"[1]!PowerMod($A29,BD$2,$A$2)","v":0},{"$f":"[1]!PowerMod($A29,BE$2,$A$2)","v":0},{"$f":"[1]!PowerMod($A29,BF$2,$A$2)","v":0},{"$f":"[1]!PowerMod($A29,BG$2,$A$2)","v":0},{"$f":"[1]!PowerMod($A29,BH$2,$A$2)","v":0},{"$f":"[1]!PowerMod($A29,BI$2,$A$2)","v":0},{"$f":"[1]!PowerMod($A29,BJ$2,$A$2)","v":0},{"$f":"[1]!PowerMod($A29,BK$2,$A$2)","v":0},{"$f":"[1]!PowerMod($A29,BL$2,$A$2)","v":0},{"$f":"[1]!PowerMod($A29,BM$2,$A$2)","v":0},{"$f":"[1]!PowerMod($A29,BN$2,$A$2)","v":0},{"$f":"[1]!PowerMod($A29,BO$2,$A$2)","v":0},{"$f":"[1]!PowerMod($A29,BP$2,$A$2)","v":0},{"$f":"[1]!PowerMod($A29,BQ$2,$A$2)","v":0},{"$f":"[1]!PowerMod($A29,BR$2,$A$2)","v":0},{"$f":"[1]!PowerMod($A29,BS$2,$A$2)","v":0},{"$f":"[1]!PowerMod($A29,BT$2,$A$2)","v":0}]
[28,{"$f":"[1]!PowerMod($A30,B$2,$A$2)","v":1},{"$f":"[1]!PowerMod($A30,C$2,$A$2)","v":1},{"$f":"[1]!PowerMod($A30,D$2,$A$2)","v":1},{"$f":"[1]!PowerMod($A30,E$2,$A$2)","v":1},{"$f":"[1]!PowerMod($A30,F$2,$A$2)","v":1},{"$f":"[1]!PowerMod($A30,G$2,$A$2)","v":1},{"$f":"[1]!PowerMod($A30,H$2,$A$2)","v":1},{"$f":"[1]!PowerMod($A30,I$2,$A$2)","v":1},{"$f":"[1]!PowerMod($A30,J$2,$A$2)","v":1},{"$f":"[1]!PowerMod($A30,K$2,$A$2)","v":1},{"$f":"[1]!PowerMod($A30,L$2,$A$2)","v":1},{"$f":"[1]!PowerMod($A30,M$2,$A$2)","v":1},{"$f":"[1]!PowerMod($A30,N$2,$A$2)","v":1},{"$f":"[1]!PowerMod($A30,O$2,$A$2)","v":1},{"$f":"[1]!PowerMod($A30,P$2,$A$2)","v":1},{"$f":"[1]!PowerMod($A30,Q$2,$A$2)","v":1},{"$f":"[1]!PowerMod($A30,R$2,$A$2)","v":1},{"$f":"[1]!PowerMod($A30,S$2,$A$2)","v":1},{"$f":"[1]!PowerMod($A30,T$2,$A$2)","v":1},{"$f":"[1]!PowerMod($A30,U$2,$A$2)","v":1},{"$f":"[1]!PowerMod($A30,V$2,$A$2)","v":1},{"$f":"[1]!PowerMod($A30,W$2,$A$2)","v":1},{"$f":"[1]!PowerMod($A30,X$2,$A$2)","v":1},{"$f":"[1]!PowerMod($A30,Y$2,$A$2)","v":1},{"$f":"[1]!PowerMod($A30,Z$2,$A$2)","v":1},{"$f":"[1]!PowerMod($A30,AA$2,$A$2)","v":1},{"$f":"[1]!PowerMod($A30,AB$2,$A$2)","v":1},{"$f":"[1]!PowerMod($A30,AC$2,$A$2)","v":1},{"$f":"[1]!PowerMod($A30,AD$2,$A$2)","v":1},{"$f":"[1]!PowerMod($A30,AE$2,$A$2)","v":1},{"$f":"[1]!PowerMod($A30,AF$2,$A$2)","v":1},{"$f":"[1]!PowerMod($A30,AG$2,$A$2)","v":1},{"$f":"[1]!PowerMod($A30,AH$2,$A$2)","v":1},{"$f":"[1]!PowerMod($A30,AI$2,$A$2)","v":1},{"$f":"[1]!PowerMod($A30,AJ$2,$A$2)","v":1},{"$f":"[1]!PowerMod($A30,AK$2,$A$2)","v":1},{"$f":"[1]!PowerMod($A30,AL$2,$A$2)","v":1},{"$f":"[1]!PowerMod($A30,AM$2,$A$2)","v":1},{"$f":"[1]!PowerMod($A30,AN$2,$A$2)","v":1},{"$f":"[1]!PowerMod($A30,AO$2,$A$2)","v":1},{"$f":"[1]!PowerMod($A30,AP$2,$A$2)","v":1},{"$f":"[1]!PowerMod($A30,AQ$2,$A$2)","v":1},{"$f":"[1]!PowerMod($A30,AR$2,$A$2)","v":1},{"$f":"[1]!PowerMod($A30,AS$2,$A$2)","v":1},{"$f":"[1]!PowerMod($A30,AT$2,$A$2)","v":1},{"$f":"[1]!PowerMod($A30,AU$2,$A$2)","v":1},{"$f":"[1]!PowerMod($A30,AV$2,$A$2)","v":1},{"$f":"[1]!PowerMod($A30,AW$2,$A$2)","v":1},{"$f":"[1]!PowerMod($A30,AX$2,$A$2)","v":1},{"$f":"[1]!PowerMod($A30,AY$2,$A$2)","v":1},{"$f":"[1]!PowerMod($A30,AZ$2,$A$2)","v":1},{"$f":"[1]!PowerMod($A30,BA$2,$A$2)","v":1},{"$f":"[1]!PowerMod($A30,BB$2,$A$2)","v":1},{"$f":"[1]!PowerMod($A30,BC$2,$A$2)","v":1},{"$f":"[1]!PowerMod($A30,BD$2,$A$2)","v":1},{"$f":"[1]!PowerMod($A30,BE$2,$A$2)","v":1},{"$f":"[1]!PowerMod($A30,BF$2,$A$2)","v":1},{"$f":"[1]!PowerMod($A30,BG$2,$A$2)","v":1},{"$f":"[1]!PowerMod($A30,BH$2,$A$2)","v":1},{"$f":"[1]!PowerMod($A30,BI$2,$A$2)","v":1},{"$f":"[1]!PowerMod($A30,BJ$2,$A$2)","v":1},{"$f":"[1]!PowerMod($A30,BK$2,$A$2)","v":1},{"$f":"[1]!PowerMod($A30,BL$2,$A$2)","v":1},{"$f":"[1]!PowerMod($A30,BM$2,$A$2)","v":1},{"$f":"[1]!PowerMod($A30,BN$2,$A$2)","v":1},{"$f":"[1]!PowerMod($A30,BO$2,$A$2)","v":1},{"$f":"[1]!PowerMod($A30,BP$2,$A$2)","v":1},{"$f":"[1]!PowerMod($A30,BQ$2,$A$2)","v":1},{"$f":"[1]!PowerMod($A30,BR$2,$A$2)","v":1},{"$f":"[1]!PowerMod($A30,BS$2,$A$2)","v":1},{"$f":"[1]!PowerMod($A30,BT$2,$A$2)","v":1}]
[29,{"$f":"[1]!PowerMod($A31,B$2,$A$2)","v":2},{"$f":"[1]!PowerMod($A31,C$2,$A$2)","v":4},{"$f":"[1]!PowerMod($A31,D$2,$A$2)","v":8},{"$f":"[1]!PowerMod($A31,E$2,$A$2)","v":16},{"$f":"[1]!PowerMod($A31,F$2,$A$2)","v":5},{"$f":"[1]!PowerMod($A31,G$2,$A$2)","v":10},{"$f":"[1]!PowerMod($A31,H$2,$A$2)","v":20},{"$f":"[1]!PowerMod($A31,I$2,$A$2)","v":13},{"$f":"[1]!PowerMod($A31,J$2,$A$2)","v":26},{"$f":"[1]!PowerMod($A31,K$2,$A$2)","v":25},{"$f":"[1]!PowerMod($A31,L$2,$A$2)","v":23},{"$f":"[1]!PowerMod($A31,M$2,$A$2)","v":19},{"$f":"[1]!PowerMod($A31,N$2,$A$2)","v":11},{"$f":"[1]!PowerMod($A31,O$2,$A$2)","v":22},{"$f":"[1]!PowerMod($A31,P$2,$A$2)","v":17},{"$f":"[1]!PowerMod($A31,Q$2,$A$2)","v":7},{"$f":"[1]!PowerMod($A31,R$2,$A$2)","v":14},{"$f":"[1]!PowerMod($A31,S$2,$A$2)","v":1},{"$f":"[1]!PowerMod($A31,T$2,$A$2)","v":2},{"$f":"[1]!PowerMod($A31,U$2,$A$2)","v":4},{"$f":"[1]!PowerMod($A31,V$2,$A$2)","v":8},{"$f":"[1]!PowerMod($A31,W$2,$A$2)","v":16},{"$f":"[1]!PowerMod($A31,X$2,$A$2)","v":5},{"$f":"[1]!PowerMod($A31,Y$2,$A$2)","v":10},{"$f":"[1]!PowerMod($A31,Z$2,$A$2)","v":20},{"$f":"[1]!PowerMod($A31,AA$2,$A$2)","v":13},{"$f":"[1]!PowerMod($A31,AB$2,$A$2)","v":26},{"$f":"[1]!PowerMod($A31,AC$2,$A$2)","v":25},{"$f":"[1]!PowerMod($A31,AD$2,$A$2)","v":23},{"$f":"[1]!PowerMod($A31,AE$2,$A$2)","v":19},{"$f":"[1]!PowerMod($A31,AF$2,$A$2)","v":11},{"$f":"[1]!PowerMod($A31,AG$2,$A$2)","v":22},{"$f":"[1]!PowerMod($A31,AH$2,$A$2)","v":17},{"$f":"[1]!PowerMod($A31,AI$2,$A$2)","v":7},{"$f":"[1]!PowerMod($A31,AJ$2,$A$2)","v":14},{"$f":"[1]!PowerMod($A31,AK$2,$A$2)","v":1},{"$f":"[1]!PowerMod($A31,AL$2,$A$2)","v":2},{"$f":"[1]!PowerMod($A31,AM$2,$A$2)","v":4},{"$f":"[1]!PowerMod($A31,AN$2,$A$2)","v":8},{"$f":"[1]!PowerMod($A31,AO$2,$A$2)","v":16},{"$f":"[1]!PowerMod($A31,AP$2,$A$2)","v":5},{"$f":"[1]!PowerMod($A31,AQ$2,$A$2)","v":10},{"$f":"[1]!PowerMod($A31,AR$2,$A$2)","v":20},{"$f":"[1]!PowerMod($A31,AS$2,$A$2)","v":13},{"$f":"[1]!PowerMod($A31,AT$2,$A$2)","v":26},{"$f":"[1]!PowerMod($A31,AU$2,$A$2)","v":25},{"$f":"[1]!PowerMod($A31,AV$2,$A$2)","v":23},{"$f":"[1]!PowerMod($A31,AW$2,$A$2)","v":19},{"$f":"[1]!PowerMod($A31,AX$2,$A$2)","v":11},{"$f":"[1]!PowerMod($A31,AY$2,$A$2)","v":22},{"$f":"[1]!PowerMod($A31,AZ$2,$A$2)","v":17},{"$f":"[1]!PowerMod($A31,BA$2,$A$2)","v":7},{"$f":"[1]!PowerMod($A31,BB$2,$A$2)","v":14},{"$f":"[1]!PowerMod($A31,BC$2,$A$2)","v":1},{"$f":"[1]!PowerMod($A31,BD$2,$A$2)","v":2},{"$f":"[1]!PowerMod($A31,BE$2,$A$2)","v":4},{"$f":"[1]!PowerMod($A31,BF$2,$A$2)","v":8},{"$f":"[1]!PowerMod($A31,BG$2,$A$2)","v":16},{"$f":"[1]!PowerMod($A31,BH$2,$A$2)","v":5},{"$f":"[1]!PowerMod($A31,BI$2,$A$2)","v":10},{"$f":"[1]!PowerMod($A31,BJ$2,$A$2)","v":20},{"$f":"[1]!PowerMod($A31,BK$2,$A$2)","v":13},{"$f":"[1]!PowerMod($A31,BL$2,$A$2)","v":26},{"$f":"[1]!PowerMod($A31,BM$2,$A$2)","v":25},{"$f":"[1]!PowerMod($A31,BN$2,$A$2)","v":23},{"$f":"[1]!PowerMod($A31,BO$2,$A$2)","v":19},{"$f":"[1]!PowerMod($A31,BP$2,$A$2)","v":11},{"$f":"[1]!PowerMod($A31,BQ$2,$A$2)","v":22},{"$f":"[1]!PowerMod($A31,BR$2,$A$2)","v":17},{"$f":"[1]!PowerMod($A31,BS$2,$A$2)","v":7},{"$f":"[1]!PowerMod($A31,BT$2,$A$2)","v":14}]
[30,{"$f":"[1]!PowerMod($A32,B$2,$A$2)","v":3},{"$f":"[1]!PowerMod($A32,C$2,$A$2)","v":9},{"$f":"[1]!PowerMod($A32,D$2,$A$2)","v":0},{"$f":"[1]!PowerMod($A32,E$2,$A$2)","v":0},{"$f":"[1]!PowerMod($A32,F$2,$A$2)","v":0},{"$f":"[1]!PowerMod($A32,G$2,$A$2)","v":0},{"$f":"[1]!PowerMod($A32,H$2,$A$2)","v":0},{"$f":"[1]!PowerMod($A32,I$2,$A$2)","v":0},{"$f":"[1]!PowerMod($A32,J$2,$A$2)","v":0},{"$f":"[1]!PowerMod($A32,K$2,$A$2)","v":0},{"$f":"[1]!PowerMod($A32,L$2,$A$2)","v":0},{"$f":"[1]!PowerMod($A32,M$2,$A$2)","v":0},{"$f":"[1]!PowerMod($A32,N$2,$A$2)","v":0},{"$f":"[1]!PowerMod($A32,O$2,$A$2)","v":0},{"$f":"[1]!PowerMod($A32,P$2,$A$2)","v":0},{"$f":"[1]!PowerMod($A32,Q$2,$A$2)","v":0},{"$f":"[1]!PowerMod($A32,R$2,$A$2)","v":0},{"$f":"[1]!PowerMod($A32,S$2,$A$2)","v":0},{"$f":"[1]!PowerMod($A32,T$2,$A$2)","v":0},{"$f":"[1]!PowerMod($A32,U$2,$A$2)","v":0},{"$f":"[1]!PowerMod($A32,V$2,$A$2)","v":0},{"$f":"[1]!PowerMod($A32,W$2,$A$2)","v":0},{"$f":"[1]!PowerMod($A32,X$2,$A$2)","v":0},{"$f":"[1]!PowerMod($A32,Y$2,$A$2)","v":0},{"$f":"[1]!PowerMod($A32,Z$2,$A$2)","v":0},{"$f":"[1]!PowerMod($A32,AA$2,$A$2)","v":0},{"$f":"[1]!PowerMod($A32,AB$2,$A$2)","v":0},{"$f":"[1]!PowerMod($A32,AC$2,$A$2)","v":0},{"$f":"[1]!PowerMod($A32,AD$2,$A$2)","v":0},{"$f":"[1]!PowerMod($A32,AE$2,$A$2)","v":0},{"$f":"[1]!PowerMod($A32,AF$2,$A$2)","v":0},{"$f":"[1]!PowerMod($A32,AG$2,$A$2)","v":0},{"$f":"[1]!PowerMod($A32,AH$2,$A$2)","v":0},{"$f":"[1]!PowerMod($A32,AI$2,$A$2)","v":0},{"$f":"[1]!PowerMod($A32,AJ$2,$A$2)","v":0},{"$f":"[1]!PowerMod($A32,AK$2,$A$2)","v":0},{"$f":"[1]!PowerMod($A32,AL$2,$A$2)","v":0},{"$f":"[1]!PowerMod($A32,AM$2,$A$2)","v":0},{"$f":"[1]!PowerMod($A32,AN$2,$A$2)","v":0},{"$f":"[1]!PowerMod($A32,AO$2,$A$2)","v":0},{"$f":"[1]!PowerMod($A32,AP$2,$A$2)","v":0},{"$f":"[1]!PowerMod($A32,AQ$2,$A$2)","v":0},{"$f":"[1]!PowerMod($A32,AR$2,$A$2)","v":0},{"$f":"[1]!PowerMod($A32,AS$2,$A$2)","v":0},{"$f":"[1]!PowerMod($A32,AT$2,$A$2)","v":0},{"$f":"[1]!PowerMod($A32,AU$2,$A$2)","v":0},{"$f":"[1]!PowerMod($A32,AV$2,$A$2)","v":0},{"$f":"[1]!PowerMod($A32,AW$2,$A$2)","v":0},{"$f":"[1]!PowerMod($A32,AX$2,$A$2)","v":0},{"$f":"[1]!PowerMod($A32,AY$2,$A$2)","v":0},{"$f":"[1]!PowerMod($A32,AZ$2,$A$2)","v":0},{"$f":"[1]!PowerMod($A32,BA$2,$A$2)","v":0},{"$f":"[1]!PowerMod($A32,BB$2,$A$2)","v":0},{"$f":"[1]!PowerMod($A32,BC$2,$A$2)","v":0},{"$f":"[1]!PowerMod($A32,BD$2,$A$2)","v":0},{"$f":"[1]!PowerMod($A32,BE$2,$A$2)","v":0},{"$f":"[1]!PowerMod($A32,BF$2,$A$2)","v":0},{"$f":"[1]!PowerMod($A32,BG$2,$A$2)","v":0},{"$f":"[1]!PowerMod($A32,BH$2,$A$2)","v":0},{"$f":"[1]!PowerMod($A32,BI$2,$A$2)","v":0},{"$f":"[1]!PowerMod($A32,BJ$2,$A$2)","v":0},{"$f":"[1]!PowerMod($A32,BK$2,$A$2)","v":0},{"$f":"[1]!PowerMod($A32,BL$2,$A$2)","v":0},{"$f":"[1]!PowerMod($A32,BM$2,$A$2)","v":0},{"$f":"[1]!PowerMod($A32,BN$2,$A$2)","v":0},{"$f":"[1]!PowerMod($A32,BO$2,$A$2)","v":0},{"$f":"[1]!PowerMod($A32,BP$2,$A$2)","v":0},{"$f":"[1]!PowerMod($A32,BQ$2,$A$2)","v":0},{"$f":"[1]!PowerMod($A32,BR$2,$A$2)","v":0},{"$f":"[1]!PowerMod($A32,BS$2,$A$2)","v":0},{"$f":"[1]!PowerMod($A32,BT$2,$A$2)","v":0}]
[31,{"$f":"[1]!PowerMod($A33,B$2,$A$2)","v":4},{"$f":"[1]!PowerMod($A33,C$2,$A$2)","v":16},{"$f":"[1]!PowerMod($A33,D$2,$A$2)","v":10},{"$f":"[1]!PowerMod($A33,E$2,$A$2)","v":13},{"$f":"[1]!PowerMod($A33,F$2,$A$2)","v":25},{"$f":"[1]!PowerMod($A33,G$2,$A$2)","v":19},{"$f":"[1]!PowerMod($A33,H$2,$A$2)","v":22},{"$f":"[1]!PowerMod($A33,I$2,$A$2)","v":7},{"$f":"[1]!PowerMod($A33,J$2,$A$2)","v":1},{"$f":"[1]!PowerMod($A33,K$2,$A$2)","v":4},{"$f":"[1]!PowerMod($A33,L$2,$A$2)","v":16},{"$f":"[1]!PowerMod($A33,M$2,$A$2)","v":10},{"$f":"[1]!PowerMod($A33,N$2,$A$2)","v":13},{"$f":"[1]!PowerMod($A33,O$2,$A$2)","v":25},{"$f":"[1]!PowerMod($A33,P$2,$A$2)","v":19},{"$f":"[1]!PowerMod($A33,Q$2,$A$2)","v":22},{"$f":"[1]!PowerMod($A33,R$2,$A$2)","v":7},{"$f":"[1]!PowerMod($A33,S$2,$A$2)","v":1},{"$f":"[1]!PowerMod($A33,T$2,$A$2)","v":4},{"$f":"[1]!PowerMod($A33,U$2,$A$2)","v":16},{"$f":"[1]!PowerMod($A33,V$2,$A$2)","v":10},{"$f":"[1]!PowerMod($A33,W$2,$A$2)","v":13},{"$f":"[1]!PowerMod($A33,X$2,$A$2)","v":25},{"$f":"[1]!PowerMod($A33,Y$2,$A$2)","v":19},{"$f":"[1]!PowerMod($A33,Z$2,$A$2)","v":22},{"$f":"[1]!PowerMod($A33,AA$2,$A$2)","v":7},{"$f":"[1]!PowerMod($A33,AB$2,$A$2)","v":1},{"$f":"[1]!PowerMod($A33,AC$2,$A$2)","v":4},{"$f":"[1]!PowerMod($A33,AD$2,$A$2)","v":16},{"$f":"[1]!PowerMod($A33,AE$2,$A$2)","v":10},{"$f":"[1]!PowerMod($A33,AF$2,$A$2)","v":13},{"$f":"[1]!PowerMod($A33,AG$2,$A$2)","v":25},{"$f":"[1]!PowerMod($A33,AH$2,$A$2)","v":19},{"$f":"[1]!PowerMod($A33,AI$2,$A$2)","v":22},{"$f":"[1]!PowerMod($A33,AJ$2,$A$2)","v":7},{"$f":"[1]!PowerMod($A33,AK$2,$A$2)","v":1},{"$f":"[1]!PowerMod($A33,AL$2,$A$2)","v":4},{"$f":"[1]!PowerMod($A33,AM$2,$A$2)","v":16},{"$f":"[1]!PowerMod($A33,AN$2,$A$2)","v":10},{"$f":"[1]!PowerMod($A33,AO$2,$A$2)","v":13},{"$f":"[1]!PowerMod($A33,AP$2,$A$2)","v":25},{"$f":"[1]!PowerMod($A33,AQ$2,$A$2)","v":19},{"$f":"[1]!PowerMod($A33,AR$2,$A$2)","v":22},{"$f":"[1]!PowerMod($A33,AS$2,$A$2)","v":7},{"$f":"[1]!PowerMod($A33,AT$2,$A$2)","v":1},{"$f":"[1]!PowerMod($A33,AU$2,$A$2)","v":4},{"$f":"[1]!PowerMod($A33,AV$2,$A$2)","v":16},{"$f":"[1]!PowerMod($A33,AW$2,$A$2)","v":10},{"$f":"[1]!PowerMod($A33,AX$2,$A$2)","v":13},{"$f":"[1]!PowerMod($A33,AY$2,$A$2)","v":25},{"$f":"[1]!PowerMod($A33,AZ$2,$A$2)","v":19},{"$f":"[1]!PowerMod($A33,BA$2,$A$2)","v":22},{"$f":"[1]!PowerMod($A33,BB$2,$A$2)","v":7},{"$f":"[1]!PowerMod($A33,BC$2,$A$2)","v":1},{"$f":"[1]!PowerMod($A33,BD$2,$A$2)","v":4},{"$f":"[1]!PowerMod($A33,BE$2,$A$2)","v":16},{"$f":"[1]!PowerMod($A33,BF$2,$A$2)","v":10},{"$f":"[1]!PowerMod($A33,BG$2,$A$2)","v":13},{"$f":"[1]!PowerMod($A33,BH$2,$A$2)","v":25},{"$f":"[1]!PowerMod($A33,BI$2,$A$2)","v":19},{"$f":"[1]!PowerMod($A33,BJ$2,$A$2)","v":22},{"$f":"[1]!PowerMod($A33,BK$2,$A$2)","v":7},{"$f":"[1]!PowerMod($A33,BL$2,$A$2)","v":1},{"$f":"[1]!PowerMod($A33,BM$2,$A$2)","v":4},{"$f":"[1]!PowerMod($A33,BN$2,$A$2)","v":16},{"$f":"[1]!PowerMod($A33,BO$2,$A$2)","v":10},{"$f":"[1]!PowerMod($A33,BP$2,$A$2)","v":13},{"$f":"[1]!PowerMod($A33,BQ$2,$A$2)","v":25},{"$f":"[1]!PowerMod($A33,BR$2,$A$2)","v":19},{"$f":"[1]!PowerMod($A33,BS$2,$A$2)","v":22},{"$f":"[1]!PowerMod($A33,BT$2,$A$2)","v":7}]
[32,{"$f":"[1]!PowerMod($A34,B$2,$A$2)","v":5},{"$f":"[1]!PowerMod($A34,C$2,$A$2)","v":25},{"$f":"[1]!PowerMod($A34,D$2,$A$2)","v":17},{"$f":"[1]!PowerMod($A34,E$2,$A$2)","v":4},{"$f":"[1]!PowerMod($A34,F$2,$A$2)","v":20},{"$f":"[1]!PowerMod($A34,G$2,$A$2)","v":19},{"$f":"[1]!PowerMod($A34,H$2,$A$2)","v":14},{"$f":"[1]!PowerMod($A34,I$2,$A$2)","v":16},{"$f":"[1]!PowerMod($A34,J$2,$A$2)","v":26},{"$f":"[1]!PowerMod($A34,K$2,$A$2)","v":22},{"$f":"[1]!PowerMod($A34,L$2,$A$2)","v":2},{"$f":"[1]!PowerMod($A34,M$2,$A$2)","v":10},{"$f":"[1]!PowerMod($A34,N$2,$A$2)","v":23},{"$f":"[1]!PowerMod($A34,O$2,$A$2)","v":7},{"$f":"[1]!PowerMod($A34,P$2,$A$2)","v":8},{"$f":"[1]!PowerMod($A34,Q$2,$A$2)","v":13},{"$f":"[1]!PowerMod($A34,R$2,$A$2)","v":11},{"$f":"[1]!PowerMod($A34,S$2,$A$2)","v":1},{"$f":"[1]!PowerMod($A34,T$2,$A$2)","v":5},{"$f":"[1]!PowerMod($A34,U$2,$A$2)","v":25},{"$f":"[1]!PowerMod($A34,V$2,$A$2)","v":17},{"$f":"[1]!PowerMod($A34,W$2,$A$2)","v":4},{"$f":"[1]!PowerMod($A34,X$2,$A$2)","v":20},{"$f":"[1]!PowerMod($A34,Y$2,$A$2)","v":19},{"$f":"[1]!PowerMod($A34,Z$2,$A$2)","v":14},{"$f":"[1]!PowerMod($A34,AA$2,$A$2)","v":16},{"$f":"[1]!PowerMod($A34,AB$2,$A$2)","v":26},{"$f":"[1]!PowerMod($A34,AC$2,$A$2)","v":22},{"$f":"[1]!PowerMod($A34,AD$2,$A$2)","v":2},{"$f":"[1]!PowerMod($A34,AE$2,$A$2)","v":10},{"$f":"[1]!PowerMod($A34,AF$2,$A$2)","v":23},{"$f":"[1]!PowerMod($A34,AG$2,$A$2)","v":7},{"$f":"[1]!PowerMod($A34,AH$2,$A$2)","v":8},{"$f":"[1]!PowerMod($A34,AI$2,$A$2)","v":13},{"$f":"[1]!PowerMod($A34,AJ$2,$A$2)","v":11},{"$f":"[1]!PowerMod($A34,AK$2,$A$2)","v":1},{"$f":"[1]!PowerMod($A34,AL$2,$A$2)","v":5},{"$f":"[1]!PowerMod($A34,AM$2,$A$2)","v":25},{"$f":"[1]!PowerMod($A34,AN$2,$A$2)","v":17},{"$f":"[1]!PowerMod($A34,AO$2,$A$2)","v":4},{"$f":"[1]!PowerMod($A34,AP$2,$A$2)","v":20},{"$f":"[1]!PowerMod($A34,AQ$2,$A$2)","v":19},{"$f":"[1]!PowerMod($A34,AR$2,$A$2)","v":14},{"$f":"[1]!PowerMod($A34,AS$2,$A$2)","v":16},{"$f":"[1]!PowerMod($A34,AT$2,$A$2)","v":26},{"$f":"[1]!PowerMod($A34,AU$2,$A$2)","v":22},{"$f":"[1]!PowerMod($A34,AV$2,$A$2)","v":2},{"$f":"[1]!PowerMod($A34,AW$2,$A$2)","v":10},{"$f":"[1]!PowerMod($A34,AX$2,$A$2)","v":23},{"$f":"[1]!PowerMod($A34,AY$2,$A$2)","v":7},{"$f":"[1]!PowerMod($A34,AZ$2,$A$2)","v":8},{"$f":"[1]!PowerMod($A34,BA$2,$A$2)","v":13},{"$f":"[1]!PowerMod($A34,BB$2,$A$2)","v":11},{"$f":"[1]!PowerMod($A34,BC$2,$A$2)","v":1},{"$f":"[1]!PowerMod($A34,BD$2,$A$2)","v":5},{"$f":"[1]!PowerMod($A34,BE$2,$A$2)","v":25},{"$f":"[1]!PowerMod($A34,BF$2,$A$2)","v":17},{"$f":"[1]!PowerMod($A34,BG$2,$A$2)","v":4},{"$f":"[1]!PowerMod($A34,BH$2,$A$2)","v":20},{"$f":"[1]!PowerMod($A34,BI$2,$A$2)","v":19},{"$f":"[1]!PowerMod($A34,BJ$2,$A$2)","v":14},{"$f":"[1]!PowerMod($A34,BK$2,$A$2)","v":16},{"$f":"[1]!PowerMod($A34,BL$2,$A$2)","v":26},{"$f":"[1]!PowerMod($A34,BM$2,$A$2)","v":22},{"$f":"[1]!PowerMod($A34,BN$2,$A$2)","v":2},{"$f":"[1]!PowerMod($A34,BO$2,$A$2)","v":10},{"$f":"[1]!PowerMod($A34,BP$2,$A$2)","v":23},{"$f":"[1]!PowerMod($A34,BQ$2,$A$2)","v":7},{"$f":"[1]!PowerMod($A34,BR$2,$A$2)","v":8},{"$f":"[1]!PowerMod($A34,BS$2,$A$2)","v":13},{"$f":"[1]!PowerMod($A34,BT$2,$A$2)","v":11}]
[33,{"$f":"[1]!PowerMod($A35,B$2,$A$2)","v":6},{"$f":"[1]!PowerMod($A35,C$2,$A$2)","v":9},{"$f":"[1]!PowerMod($A35,D$2,$A$2)","v":0},{"$f":"[1]!PowerMod($A35,E$2,$A$2)","v":0},{"$f":"[1]!PowerMod($A35,F$2,$A$2)","v":0},{"$f":"[1]!PowerMod($A35,G$2,$A$2)","v":0},{"$f":"[1]!PowerMod($A35,H$2,$A$2)","v":0},{"$f":"[1]!PowerMod($A35,I$2,$A$2)","v":0},{"$f":"[1]!PowerMod($A35,J$2,$A$2)","v":0},{"$f":"[1]!PowerMod($A35,K$2,$A$2)","v":0},{"$f":"[1]!PowerMod($A35,L$2,$A$2)","v":0},{"$f":"[1]!PowerMod($A35,M$2,$A$2)","v":0},{"$f":"[1]!PowerMod($A35,N$2,$A$2)","v":0},{"$f":"[1]!PowerMod($A35,O$2,$A$2)","v":0},{"$f":"[1]!PowerMod($A35,P$2,$A$2)","v":0},{"$f":"[1]!PowerMod($A35,Q$2,$A$2)","v":0},{"$f":"[1]!PowerMod($A35,R$2,$A$2)","v":0},{"$f":"[1]!PowerMod($A35,S$2,$A$2)","v":0},{"$f":"[1]!PowerMod($A35,T$2,$A$2)","v":0},{"$f":"[1]!PowerMod($A35,U$2,$A$2)","v":0},{"$f":"[1]!PowerMod($A35,V$2,$A$2)","v":0},{"$f":"[1]!PowerMod($A35,W$2,$A$2)","v":0},{"$f":"[1]!PowerMod($A35,X$2,$A$2)","v":0},{"$f":"[1]!PowerMod($A35,Y$2,$A$2)","v":0},{"$f":"[1]!PowerMod($A35,Z$2,$A$2)","v":0},{"$f":"[1]!PowerMod($A35,AA$2,$A$2)","v":0},{"$f":"[1]!PowerMod($A35,AB$2,$A$2)","v":0},{"$f":"[1]!PowerMod($A35,AC$2,$A$2)","v":0},{"$f":"[1]!PowerMod($A35,AD$2,$A$2)","v":0},{"$f":"[1]!PowerMod($A35,AE$2,$A$2)","v":0},{"$f":"[1]!PowerMod($A35,AF$2,$A$2)","v":0},{"$f":"[1]!PowerMod($A35,AG$2,$A$2)","v":0},{"$f":"[1]!PowerMod($A35,AH$2,$A$2)","v":0},{"$f":"[1]!PowerMod($A35,AI$2,$A$2)","v":0},{"$f":"[1]!PowerMod($A35,AJ$2,$A$2)","v":0},{"$f":"[1]!PowerMod($A35,AK$2,$A$2)","v":0},{"$f":"[1]!PowerMod($A35,AL$2,$A$2)","v":0},{"$f":"[1]!PowerMod($A35,AM$2,$A$2)","v":0},{"$f":"[1]!PowerMod($A35,AN$2,$A$2)","v":0},{"$f":"[1]!PowerMod($A35,AO$2,$A$2)","v":0},{"$f":"[1]!PowerMod($A35,AP$2,$A$2)","v":0},{"$f":"[1]!PowerMod($A35,AQ$2,$A$2)","v":0},{"$f":"[1]!PowerMod($A35,AR$2,$A$2)","v":0},{"$f":"[1]!PowerMod($A35,AS$2,$A$2)","v":0},{"$f":"[1]!PowerMod($A35,AT$2,$A$2)","v":0},{"$f":"[1]!PowerMod($A35,AU$2,$A$2)","v":0},{"$f":"[1]!PowerMod($A35,AV$2,$A$2)","v":0},{"$f":"[1]!PowerMod($A35,AW$2,$A$2)","v":0},{"$f":"[1]!PowerMod($A35,AX$2,$A$2)","v":0},{"$f":"[1]!PowerMod($A35,AY$2,$A$2)","v":0},{"$f":"[1]!PowerMod($A35,AZ$2,$A$2)","v":0},{"$f":"[1]!PowerMod($A35,BA$2,$A$2)","v":0},{"$f":"[1]!PowerMod($A35,BB$2,$A$2)","v":0},{"$f":"[1]!PowerMod($A35,BC$2,$A$2)","v":0},{"$f":"[1]!PowerMod($A35,BD$2,$A$2)","v":0},{"$f":"[1]!PowerMod($A35,BE$2,$A$2)","v":0},{"$f":"[1]!PowerMod($A35,BF$2,$A$2)","v":0},{"$f":"[1]!PowerMod($A35,BG$2,$A$2)","v":0},{"$f":"[1]!PowerMod($A35,BH$2,$A$2)","v":0},{"$f":"[1]!PowerMod($A35,BI$2,$A$2)","v":0},{"$f":"[1]!PowerMod($A35,BJ$2,$A$2)","v":0},{"$f":"[1]!PowerMod($A35,BK$2,$A$2)","v":0},{"$f":"[1]!PowerMod($A35,BL$2,$A$2)","v":0},{"$f":"[1]!PowerMod($A35,BM$2,$A$2)","v":0},{"$f":"[1]!PowerMod($A35,BN$2,$A$2)","v":0},{"$f":"[1]!PowerMod($A35,BO$2,$A$2)","v":0},{"$f":"[1]!PowerMod($A35,BP$2,$A$2)","v":0},{"$f":"[1]!PowerMod($A35,BQ$2,$A$2)","v":0},{"$f":"[1]!PowerMod($A35,BR$2,$A$2)","v":0},{"$f":"[1]!PowerMod($A35,BS$2,$A$2)","v":0},{"$f":"[1]!PowerMod($A35,BT$2,$A$2)","v":0}]
[34,{"$f":"[1]!PowerMod($A36,B$2,$A$2)","v":7},{"$f":"[1]!PowerMod($A36,C$2,$A$2)","v":22},{"$f":"[1]!PowerMod($A36,D$2,$A$2)","v":19},{"$f":"[1]!PowerMod($A36,E$2,$A$2)","v":25},{"$f":"[1]!PowerMod($A36,F$2,$A$2)","v":13},{"$f":"[1]!PowerMod($A36,G$2,$A$2)","v":10},{"$f":"[1]!PowerMod($A36,H$2,$A$2)","v":16},{"$f":"[1]!PowerMod($A36,I$2,$A$2)","v":4},{"$f":"[1]!PowerMod($A36,J$2,$A$2)","v":1},{"$f":"[1]!PowerMod($A36,K$2,$A$2)","v":7},{"$f":"[1]!PowerMod($A36,L$2,$A$2)","v":22},{"$f":"[1]!PowerMod($A36,M$2,$A$2)","v":19},{"$f":"[1]!PowerMod($A36,N$2,$A$2)","v":25},{"$f":"[1]!PowerMod($A36,O$2,$A$2)","v":13},{"$f":"[1]!PowerMod($A36,P$2,$A$2)","v":10},{"$f":"[1]!PowerMod($A36,Q$2,$A$2)","v":16},{"$f":"[1]!PowerMod($A36,R$2,$A$2)","v":4},{"$f":"[1]!PowerMod($A36,S$2,$A$2)","v":1},{"$f":"[1]!PowerMod($A36,T$2,$A$2)","v":7},{"$f":"[1]!PowerMod($A36,U$2,$A$2)","v":22},{"$f":"[1]!PowerMod($A36,V$2,$A$2)","v":19},{"$f":"[1]!PowerMod($A36,W$2,$A$2)","v":25},{"$f":"[1]!PowerMod($A36,X$2,$A$2)","v":13},{"$f":"[1]!PowerMod($A36,Y$2,$A$2)","v":10},{"$f":"[1]!PowerMod($A36,Z$2,$A$2)","v":16},{"$f":"[1]!PowerMod($A36,AA$2,$A$2)","v":4},{"$f":"[1]!PowerMod($A36,AB$2,$A$2)","v":1},{"$f":"[1]!PowerMod($A36,AC$2,$A$2)","v":7},{"$f":"[1]!PowerMod($A36,AD$2,$A$2)","v":22},{"$f":"[1]!PowerMod($A36,AE$2,$A$2)","v":19},{"$f":"[1]!PowerMod($A36,AF$2,$A$2)","v":25},{"$f":"[1]!PowerMod($A36,AG$2,$A$2)","v":13},{"$f":"[1]!PowerMod($A36,AH$2,$A$2)","v":10},{"$f":"[1]!PowerMod($A36,AI$2,$A$2)","v":16},{"$f":"[1]!PowerMod($A36,AJ$2,$A$2)","v":4},{"$f":"[1]!PowerMod($A36,AK$2,$A$2)","v":1},{"$f":"[1]!PowerMod($A36,AL$2,$A$2)","v":7},{"$f":"[1]!PowerMod($A36,AM$2,$A$2)","v":22},{"$f":"[1]!PowerMod($A36,AN$2,$A$2)","v":19},{"$f":"[1]!PowerMod($A36,AO$2,$A$2)","v":25},{"$f":"[1]!PowerMod($A36,AP$2,$A$2)","v":13},{"$f":"[1]!PowerMod($A36,AQ$2,$A$2)","v":10},{"$f":"[1]!PowerMod($A36,AR$2,$A$2)","v":16},{"$f":"[1]!PowerMod($A36,AS$2,$A$2)","v":4},{"$f":"[1]!PowerMod($A36,AT$2,$A$2)","v":1},{"$f":"[1]!PowerMod($A36,AU$2,$A$2)","v":7},{"$f":"[1]!PowerMod($A36,AV$2,$A$2)","v":22},{"$f":"[1]!PowerMod($A36,AW$2,$A$2)","v":19},{"$f":"[1]!PowerMod($A36,AX$2,$A$2)","v":25},{"$f":"[1]!PowerMod($A36,AY$2,$A$2)","v":13},{"$f":"[1]!PowerMod($A36,AZ$2,$A$2)","v":10},{"$f":"[1]!PowerMod($A36,BA$2,$A$2)","v":16},{"$f":"[1]!PowerMod($A36,BB$2,$A$2)","v":4},{"$f":"[1]!PowerMod($A36,BC$2,$A$2)","v":1},{"$f":"[1]!PowerMod($A36,BD$2,$A$2)","v":7},{"$f":"[1]!PowerMod($A36,BE$2,$A$2)","v":22},{"$f":"[1]!PowerMod($A36,BF$2,$A$2)","v":19},{"$f":"[1]!PowerMod($A36,BG$2,$A$2)","v":25},{"$f":"[1]!PowerMod($A36,BH$2,$A$2)","v":13},{"$f":"[1]!PowerMod($A36,BI$2,$A$2)","v":10},{"$f":"[1]!PowerMod($A36,BJ$2,$A$2)","v":16},{"$f":"[1]!PowerMod($A36,BK$2,$A$2)","v":4},{"$f":"[1]!PowerMod($A36,BL$2,$A$2)","v":1},{"$f":"[1]!PowerMod($A36,BM$2,$A$2)","v":7},{"$f":"[1]!PowerMod($A36,BN$2,$A$2)","v":22},{"$f":"[1]!PowerMod($A36,BO$2,$A$2)","v":19},{"$f":"[1]!PowerMod($A36,BP$2,$A$2)","v":25},{"$f":"[1]!PowerMod($A36,BQ$2,$A$2)","v":13},{"$f":"[1]!PowerMod($A36,BR$2,$A$2)","v":10},{"$f":"[1]!PowerMod($A36,BS$2,$A$2)","v":16},{"$f":"[1]!PowerMod($A36,BT$2,$A$2)","v":4}]
[35,{"$f":"[1]!PowerMod($A37,B$2,$A$2)","v":8},{"$f":"[1]!PowerMod($A37,C$2,$A$2)","v":10},{"$f":"[1]!PowerMod($A37,D$2,$A$2)","v":26},{"$f":"[1]!PowerMod($A37,E$2,$A$2)","v":19},{"$f":"[1]!PowerMod($A37,F$2,$A$2)","v":17},{"$f":"[1]!PowerMod($A37,G$2,$A$2)","v":1},{"$f":"[1]!PowerMod($A37,H$2,$A$2)","v":8},{"$f":"[1]!PowerMod($A37,I$2,$A$2)","v":10},{"$f":"[1]!PowerMod($A37,J$2,$A$2)","v":26},{"$f":"[1]!PowerMod($A37,K$2,$A$2)","v":19},{"$f":"[1]!PowerMod($A37,L$2,$A$2)","v":17},{"$f":"[1]!PowerMod($A37,M$2,$A$2)","v":1},{"$f":"[1]!PowerMod($A37,N$2,$A$2)","v":8},{"$f":"[1]!PowerMod($A37,O$2,$A$2)","v":10},{"$f":"[1]!PowerMod($A37,P$2,$A$2)","v":26},{"$f":"[1]!PowerMod($A37,Q$2,$A$2)","v":19},{"$f":"[1]!PowerMod($A37,R$2,$A$2)","v":17},{"$f":"[1]!PowerMod($A37,S$2,$A$2)","v":1},{"$f":"[1]!PowerMod($A37,T$2,$A$2)","v":8},{"$f":"[1]!PowerMod($A37,U$2,$A$2)","v":10},{"$f":"[1]!PowerMod($A37,V$2,$A$2)","v":26},{"$f":"[1]!PowerMod($A37,W$2,$A$2)","v":19},{"$f":"[1]!PowerMod($A37,X$2,$A$2)","v":17},{"$f":"[1]!PowerMod($A37,Y$2,$A$2)","v":1},{"$f":"[1]!PowerMod($A37,Z$2,$A$2)","v":8},{"$f":"[1]!PowerMod($A37,AA$2,$A$2)","v":10},{"$f":"[1]!PowerMod($A37,AB$2,$A$2)","v":26},{"$f":"[1]!PowerMod($A37,AC$2,$A$2)","v":19},{"$f":"[1]!PowerMod($A37,AD$2,$A$2)","v":17},{"$f":"[1]!PowerMod($A37,AE$2,$A$2)","v":1},{"$f":"[1]!PowerMod($A37,AF$2,$A$2)","v":8},{"$f":"[1]!PowerMod($A37,AG$2,$A$2)","v":10},{"$f":"[1]!PowerMod($A37,AH$2,$A$2)","v":26},{"$f":"[1]!PowerMod($A37,AI$2,$A$2)","v":19},{"$f":"[1]!PowerMod($A37,AJ$2,$A$2)","v":17},{"$f":"[1]!PowerMod($A37,AK$2,$A$2)","v":1},{"$f":"[1]!PowerMod($A37,AL$2,$A$2)","v":8},{"$f":"[1]!PowerMod($A37,AM$2,$A$2)","v":10},{"$f":"[1]!PowerMod($A37,AN$2,$A$2)","v":26},{"$f":"[1]!PowerMod($A37,AO$2,$A$2)","v":19},{"$f":"[1]!PowerMod($A37,AP$2,$A$2)","v":17},{"$f":"[1]!PowerMod($A37,AQ$2,$A$2)","v":1},{"$f":"[1]!PowerMod($A37,AR$2,$A$2)","v":8},{"$f":"[1]!PowerMod($A37,AS$2,$A$2)","v":10},{"$f":"[1]!PowerMod($A37,AT$2,$A$2)","v":26},{"$f":"[1]!PowerMod($A37,AU$2,$A$2)","v":19},{"$f":"[1]!PowerMod($A37,AV$2,$A$2)","v":17},{"$f":"[1]!PowerMod($A37,AW$2,$A$2)","v":1},{"$f":"[1]!PowerMod($A37,AX$2,$A$2)","v":8},{"$f":"[1]!PowerMod($A37,AY$2,$A$2)","v":10},{"$f":"[1]!PowerMod($A37,AZ$2,$A$2)","v":26},{"$f":"[1]!PowerMod($A37,BA$2,$A$2)","v":19},{"$f":"[1]!PowerMod($A37,BB$2,$A$2)","v":17},{"$f":"[1]!PowerMod($A37,BC$2,$A$2)","v":1},{"$f":"[1]!PowerMod($A37,BD$2,$A$2)","v":8},{"$f":"[1]!PowerMod($A37,BE$2,$A$2)","v":10},{"$f":"[1]!PowerMod($A37,BF$2,$A$2)","v":26},{"$f":"[1]!PowerMod($A37,BG$2,$A$2)","v":19},{"$f":"[1]!PowerMod($A37,BH$2,$A$2)","v":17},{"$f":"[1]!PowerMod($A37,BI$2,$A$2)","v":1},{"$f":"[1]!PowerMod($A37,BJ$2,$A$2)","v":8},{"$f":"[1]!PowerMod($A37,BK$2,$A$2)","v":10},{"$f":"[1]!PowerMod($A37,BL$2,$A$2)","v":26},{"$f":"[1]!PowerMod($A37,BM$2,$A$2)","v":19},{"$f":"[1]!PowerMod($A37,BN$2,$A$2)","v":17},{"$f":"[1]!PowerMod($A37,BO$2,$A$2)","v":1},{"$f":"[1]!PowerMod($A37,BP$2,$A$2)","v":8},{"$f":"[1]!PowerMod($A37,BQ$2,$A$2)","v":10},{"$f":"[1]!PowerMod($A37,BR$2,$A$2)","v":26},{"$f":"[1]!PowerMod($A37,BS$2,$A$2)","v":19},{"$f":"[1]!PowerMod($A37,BT$2,$A$2)","v":17}]
[36,{"$f":"[1]!PowerMod($A38,B$2,$A$2)","v":9},{"$f":"[1]!PowerMod($A38,C$2,$A$2)","v":0},{"$f":"[1]!PowerMod($A38,D$2,$A$2)","v":0},{"$f":"[1]!PowerMod($A38,E$2,$A$2)","v":0},{"$f":"[1]!PowerMod($A38,F$2,$A$2)","v":0},{"$f":"[1]!PowerMod($A38,G$2,$A$2)","v":0},{"$f":"[1]!PowerMod($A38,H$2,$A$2)","v":0},{"$f":"[1]!PowerMod($A38,I$2,$A$2)","v":0},{"$f":"[1]!PowerMod($A38,J$2,$A$2)","v":0},{"$f":"[1]!PowerMod($A38,K$2,$A$2)","v":0},{"$f":"[1]!PowerMod($A38,L$2,$A$2)","v":0},{"$f":"[1]!PowerMod($A38,M$2,$A$2)","v":0},{"$f":"[1]!PowerMod($A38,N$2,$A$2)","v":0},{"$f":"[1]!PowerMod($A38,O$2,$A$2)","v":0},{"$f":"[1]!PowerMod($A38,P$2,$A$2)","v":0},{"$f":"[1]!PowerMod($A38,Q$2,$A$2)","v":0},{"$f":"[1]!PowerMod($A38,R$2,$A$2)","v":0},{"$f":"[1]!PowerMod($A38,S$2,$A$2)","v":0},{"$f":"[1]!PowerMod($A38,T$2,$A$2)","v":0},{"$f":"[1]!PowerMod($A38,U$2,$A$2)","v":0},{"$f":"[1]!PowerMod($A38,V$2,$A$2)","v":0},{"$f":"[1]!PowerMod($A38,W$2,$A$2)","v":0},{"$f":"[1]!PowerMod($A38,X$2,$A$2)","v":0},{"$f":"[1]!PowerMod($A38,Y$2,$A$2)","v":0},{"$f":"[1]!PowerMod($A38,Z$2,$A$2)","v":0},{"$f":"[1]!PowerMod($A38,AA$2,$A$2)","v":0},{"$f":"[1]!PowerMod($A38,AB$2,$A$2)","v":0},{"$f":"[1]!PowerMod($A38,AC$2,$A$2)","v":0},{"$f":"[1]!PowerMod($A38,AD$2,$A$2)","v":0},{"$f":"[1]!PowerMod($A38,AE$2,$A$2)","v":0},{"$f":"[1]!PowerMod($A38,AF$2,$A$2)","v":0},{"$f":"[1]!PowerMod($A38,AG$2,$A$2)","v":0},{"$f":"[1]!PowerMod($A38,AH$2,$A$2)","v":0},{"$f":"[1]!PowerMod($A38,AI$2,$A$2)","v":0},{"$f":"[1]!PowerMod($A38,AJ$2,$A$2)","v":0},{"$f":"[1]!PowerMod($A38,AK$2,$A$2)","v":0},{"$f":"[1]!PowerMod($A38,AL$2,$A$2)","v":0},{"$f":"[1]!PowerMod($A38,AM$2,$A$2)","v":0},{"$f":"[1]!PowerMod($A38,AN$2,$A$2)","v":0},{"$f":"[1]!PowerMod($A38,AO$2,$A$2)","v":0},{"$f":"[1]!PowerMod($A38,AP$2,$A$2)","v":0},{"$f":"[1]!PowerMod($A38,AQ$2,$A$2)","v":0},{"$f":"[1]!PowerMod($A38,AR$2,$A$2)","v":0},{"$f":"[1]!PowerMod($A38,AS$2,$A$2)","v":0},{"$f":"[1]!PowerMod($A38,AT$2,$A$2)","v":0},{"$f":"[1]!PowerMod($A38,AU$2,$A$2)","v":0},{"$f":"[1]!PowerMod($A38,AV$2,$A$2)","v":0},{"$f":"[1]!PowerMod($A38,AW$2,$A$2)","v":0},{"$f":"[1]!PowerMod($A38,AX$2,$A$2)","v":0},{"$f":"[1]!PowerMod($A38,AY$2,$A$2)","v":0},{"$f":"[1]!PowerMod($A38,AZ$2,$A$2)","v":0},{"$f":"[1]!PowerMod($A38,BA$2,$A$2)","v":0},{"$f":"[1]!PowerMod($A38,BB$2,$A$2)","v":0},{"$f":"[1]!PowerMod($A38,BC$2,$A$2)","v":0},{"$f":"[1]!PowerMod($A38,BD$2,$A$2)","v":0},{"$f":"[1]!PowerMod($A38,BE$2,$A$2)","v":0},{"$f":"[1]!PowerMod($A38,BF$2,$A$2)","v":0},{"$f":"[1]!PowerMod($A38,BG$2,$A$2)","v":0},{"$f":"[1]!PowerMod($A38,BH$2,$A$2)","v":0},{"$f":"[1]!PowerMod($A38,BI$2,$A$2)","v":0},{"$f":"[1]!PowerMod($A38,BJ$2,$A$2)","v":0},{"$f":"[1]!PowerMod($A38,BK$2,$A$2)","v":0},{"$f":"[1]!PowerMod($A38,BL$2,$A$2)","v":0},{"$f":"[1]!PowerMod($A38,BM$2,$A$2)","v":0},{"$f":"[1]!PowerMod($A38,BN$2,$A$2)","v":0},{"$f":"[1]!PowerMod($A38,BO$2,$A$2)","v":0},{"$f":"[1]!PowerMod($A38,BP$2,$A$2)","v":0},{"$f":"[1]!PowerMod($A38,BQ$2,$A$2)","v":0},{"$f":"[1]!PowerMod($A38,BR$2,$A$2)","v":0},{"$f":"[1]!PowerMod($A38,BS$2,$A$2)","v":0},{"$f":"[1]!PowerMod($A38,BT$2,$A$2)","v":0}]
[37,{"$f":"[1]!PowerMod($A39,B$2,$A$2)","v":10},{"$f":"[1]!PowerMod($A39,C$2,$A$2)","v":19},{"$f":"[1]!PowerMod($A39,D$2,$A$2)","v":1},{"$f":"[1]!PowerMod($A39,E$2,$A$2)","v":10},{"$f":"[1]!PowerMod($A39,F$2,$A$2)","v":19},{"$f":"[1]!PowerMod($A39,G$2,$A$2)","v":1},{"$f":"[1]!PowerMod($A39,H$2,$A$2)","v":10},{"$f":"[1]!PowerMod($A39,I$2,$A$2)","v":19},{"$f":"[1]!PowerMod($A39,J$2,$A$2)","v":1},{"$f":"[1]!PowerMod($A39,K$2,$A$2)","v":10},{"$f":"[1]!PowerMod($A39,L$2,$A$2)","v":19},{"$f":"[1]!PowerMod($A39,M$2,$A$2)","v":1},{"$f":"[1]!PowerMod($A39,N$2,$A$2)","v":10},{"$f":"[1]!PowerMod($A39,O$2,$A$2)","v":19},{"$f":"[1]!PowerMod($A39,P$2,$A$2)","v":1},{"$f":"[1]!PowerMod($A39,Q$2,$A$2)","v":10},{"$f":"[1]!PowerMod($A39,R$2,$A$2)","v":19},{"$f":"[1]!PowerMod($A39,S$2,$A$2)","v":1},{"$f":"[1]!PowerMod($A39,T$2,$A$2)","v":10},{"$f":"[1]!PowerMod($A39,U$2,$A$2)","v":19},{"$f":"[1]!PowerMod($A39,V$2,$A$2)","v":1},{"$f":"[1]!PowerMod($A39,W$2,$A$2)","v":10},{"$f":"[1]!PowerMod($A39,X$2,$A$2)","v":19},{"$f":"[1]!PowerMod($A39,Y$2,$A$2)","v":1},{"$f":"[1]!PowerMod($A39,Z$2,$A$2)","v":10},{"$f":"[1]!PowerMod($A39,AA$2,$A$2)","v":19},{"$f":"[1]!PowerMod($A39,AB$2,$A$2)","v":1},{"$f":"[1]!PowerMod($A39,AC$2,$A$2)","v":10},{"$f":"[1]!PowerMod($A39,AD$2,$A$2)","v":19},{"$f":"[1]!PowerMod($A39,AE$2,$A$2)","v":1},{"$f":"[1]!PowerMod($A39,AF$2,$A$2)","v":10},{"$f":"[1]!PowerMod($A39,AG$2,$A$2)","v":19},{"$f":"[1]!PowerMod($A39,AH$2,$A$2)","v":1},{"$f":"[1]!PowerMod($A39,AI$2,$A$2)","v":10},{"$f":"[1]!PowerMod($A39,AJ$2,$A$2)","v":19},{"$f":"[1]!PowerMod($A39,AK$2,$A$2)","v":1},{"$f":"[1]!PowerMod($A39,AL$2,$A$2)","v":10},{"$f":"[1]!PowerMod($A39,AM$2,$A$2)","v":19},{"$f":"[1]!PowerMod($A39,AN$2,$A$2)","v":1},{"$f":"[1]!PowerMod($A39,AO$2,$A$2)","v":10},{"$f":"[1]!PowerMod($A39,AP$2,$A$2)","v":19},{"$f":"[1]!PowerMod($A39,AQ$2,$A$2)","v":1},{"$f":"[1]!PowerMod($A39,AR$2,$A$2)","v":10},{"$f":"[1]!PowerMod($A39,AS$2,$A$2)","v":19},{"$f":"[1]!PowerMod($A39,AT$2,$A$2)","v":1},{"$f":"[1]!PowerMod($A39,AU$2,$A$2)","v":10},{"$f":"[1]!PowerMod($A39,AV$2,$A$2)","v":19},{"$f":"[1]!PowerMod($A39,AW$2,$A$2)","v":1},{"$f":"[1]!PowerMod($A39,AX$2,$A$2)","v":10},{"$f":"[1]!PowerMod($A39,AY$2,$A$2)","v":19},{"$f":"[1]!PowerMod($A39,AZ$2,$A$2)","v":1},{"$f":"[1]!PowerMod($A39,BA$2,$A$2)","v":10},{"$f":"[1]!PowerMod($A39,BB$2,$A$2)","v":19},{"$f":"[1]!PowerMod($A39,BC$2,$A$2)","v":1},{"$f":"[1]!PowerMod($A39,BD$2,$A$2)","v":10},{"$f":"[1]!PowerMod($A39,BE$2,$A$2)","v":19},{"$f":"[1]!PowerMod($A39,BF$2,$A$2)","v":1},{"$f":"[1]!PowerMod($A39,BG$2,$A$2)","v":10},{"$f":"[1]!PowerMod($A39,BH$2,$A$2)","v":19},{"$f":"[1]!PowerMod($A39,BI$2,$A$2)","v":1},{"$f":"[1]!PowerMod($A39,BJ$2,$A$2)","v":10},{"$f":"[1]!PowerMod($A39,BK$2,$A$2)","v":19},{"$f":"[1]!PowerMod($A39,BL$2,$A$2)","v":1},{"$f":"[1]!PowerMod($A39,BM$2,$A$2)","v":10},{"$f":"[1]!PowerMod($A39,BN$2,$A$2)","v":19},{"$f":"[1]!PowerMod($A39,BO$2,$A$2)","v":1},{"$f":"[1]!PowerMod($A39,BP$2,$A$2)","v":10},{"$f":"[1]!PowerMod($A39,BQ$2,$A$2)","v":19},{"$f":"[1]!PowerMod($A39,BR$2,$A$2)","v":1},{"$f":"[1]!PowerMod($A39,BS$2,$A$2)","v":10},{"$f":"[1]!PowerMod($A39,BT$2,$A$2)","v":19}]
[38,{"$f":"[1]!PowerMod($A40,B$2,$A$2)","v":11},{"$f":"[1]!PowerMod($A40,C$2,$A$2)","v":13},{"$f":"[1]!PowerMod($A40,D$2,$A$2)","v":8},{"$f":"[1]!PowerMod($A40,E$2,$A$2)","v":7},{"$f":"[1]!PowerMod($A40,F$2,$A$2)","v":23},{"$f":"[1]!PowerMod($A40,G$2,$A$2)","v":10},{"$f":"[1]!PowerMod($A40,H$2,$A$2)","v":2},{"$f":"[1]!PowerMod($A40,I$2,$A$2)","v":22},{"$f":"[1]!PowerMod($A40,J$2,$A$2)","v":26},{"$f":"[1]!PowerMod($A40,K$2,$A$2)","v":16},{"$f":"[1]!PowerMod($A40,L$2,$A$2)","v":14},{"$f":"[1]!PowerMod($A40,M$2,$A$2)","v":19},{"$f":"[1]!PowerMod($A40,N$2,$A$2)","v":20},{"$f":"[1]!PowerMod($A40,O$2,$A$2)","v":4},{"$f":"[1]!PowerMod($A40,P$2,$A$2)","v":17},{"$f":"[1]!PowerMod($A40,Q$2,$A$2)","v":25},{"$f":"[1]!PowerMod($A40,R$2,$A$2)","v":5},{"$f":"[1]!PowerMod($A40,S$2,$A$2)","v":1},{"$f":"[1]!PowerMod($A40,T$2,$A$2)","v":11},{"$f":"[1]!PowerMod($A40,U$2,$A$2)","v":13},{"$f":"[1]!PowerMod($A40,V$2,$A$2)","v":8},{"$f":"[1]!PowerMod($A40,W$2,$A$2)","v":7},{"$f":"[1]!PowerMod($A40,X$2,$A$2)","v":23},{"$f":"[1]!PowerMod($A40,Y$2,$A$2)","v":10},{"$f":"[1]!PowerMod($A40,Z$2,$A$2)","v":2},{"$f":"[1]!PowerMod($A40,AA$2,$A$2)","v":22},{"$f":"[1]!PowerMod($A40,AB$2,$A$2)","v":26},{"$f":"[1]!PowerMod($A40,AC$2,$A$2)","v":16},{"$f":"[1]!PowerMod($A40,AD$2,$A$2)","v":14},{"$f":"[1]!PowerMod($A40,AE$2,$A$2)","v":19},{"$f":"[1]!PowerMod($A40,AF$2,$A$2)","v":20},{"$f":"[1]!PowerMod($A40,AG$2,$A$2)","v":4},{"$f":"[1]!PowerMod($A40,AH$2,$A$2)","v":17},{"$f":"[1]!PowerMod($A40,AI$2,$A$2)","v":25},{"$f":"[1]!PowerMod($A40,AJ$2,$A$2)","v":5},{"$f":"[1]!PowerMod($A40,AK$2,$A$2)","v":1},{"$f":"[1]!PowerMod($A40,AL$2,$A$2)","v":11},{"$f":"[1]!PowerMod($A40,AM$2,$A$2)","v":13},{"$f":"[1]!PowerMod($A40,AN$2,$A$2)","v":8},{"$f":"[1]!PowerMod($A40,AO$2,$A$2)","v":7},{"$f":"[1]!PowerMod($A40,AP$2,$A$2)","v":23},{"$f":"[1]!PowerMod($A40,AQ$2,$A$2)","v":10},{"$f":"[1]!PowerMod($A40,AR$2,$A$2)","v":2},{"$f":"[1]!PowerMod($A40,AS$2,$A$2)","v":22},{"$f":"[1]!PowerMod($A40,AT$2,$A$2)","v":26},{"$f":"[1]!PowerMod($A40,AU$2,$A$2)","v":16},{"$f":"[1]!PowerMod($A40,AV$2,$A$2)","v":14},{"$f":"[1]!PowerMod($A40,AW$2,$A$2)","v":19},{"$f":"[1]!PowerMod($A40,AX$2,$A$2)","v":20},{"$f":"[1]!PowerMod($A40,AY$2,$A$2)","v":4},{"$f":"[1]!PowerMod($A40,AZ$2,$A$2)","v":17},{"$f":"[1]!PowerMod($A40,BA$2,$A$2)","v":25},{"$f":"[1]!PowerMod($A40,BB$2,$A$2)","v":5},{"$f":"[1]!PowerMod($A40,BC$2,$A$2)","v":1},{"$f":"[1]!PowerMod($A40,BD$2,$A$2)","v":11},{"$f":"[1]!PowerMod($A40,BE$2,$A$2)","v":13},{"$f":"[1]!PowerMod($A40,BF$2,$A$2)","v":8},{"$f":"[1]!PowerMod($A40,BG$2,$A$2)","v":7},{"$f":"[1]!PowerMod($A40,BH$2,$A$2)","v":23},{"$f":"[1]!PowerMod($A40,BI$2,$A$2)","v":10},{"$f":"[1]!PowerMod($A40,BJ$2,$A$2)","v":2},{"$f":"[1]!PowerMod($A40,BK$2,$A$2)","v":22},{"$f":"[1]!PowerMod($A40,BL$2,$A$2)","v":26},{"$f":"[1]!PowerMod($A40,BM$2,$A$2)","v":16},{"$f":"[1]!PowerMod($A40,BN$2,$A$2)","v":14},{"$f":"[1]!PowerMod($A40,BO$2,$A$2)","v":19},{"$f":"[1]!PowerMod($A40,BP$2,$A$2)","v":20},{"$f":"[1]!PowerMod($A40,BQ$2,$A$2)","v":4},{"$f":"[1]!PowerMod($A40,BR$2,$A$2)","v":17},{"$f":"[1]!PowerMod($A40,BS$2,$A$2)","v":25},{"$f":"[1]!PowerMod($A40,BT$2,$A$2)","v":5}]
[39,{"$f":"[1]!PowerMod($A41,B$2,$A$2)","v":12},{"$f":"[1]!PowerMod($A41,C$2,$A$2)","v":9},{"$f":"[1]!PowerMod($A41,D$2,$A$2)","v":0},{"$f":"[1]!PowerMod($A41,E$2,$A$2)","v":0},{"$f":"[1]!PowerMod($A41,F$2,$A$2)","v":0},{"$f":"[1]!PowerMod($A41,G$2,$A$2)","v":0},{"$f":"[1]!PowerMod($A41,H$2,$A$2)","v":0},{"$f":"[1]!PowerMod($A41,I$2,$A$2)","v":0},{"$f":"[1]!PowerMod($A41,J$2,$A$2)","v":0},{"$f":"[1]!PowerMod($A41,K$2,$A$2)","v":0},{"$f":"[1]!PowerMod($A41,L$2,$A$2)","v":0},{"$f":"[1]!PowerMod($A41,M$2,$A$2)","v":0},{"$f":"[1]!PowerMod($A41,N$2,$A$2)","v":0},{"$f":"[1]!PowerMod($A41,O$2,$A$2)","v":0},{"$f":"[1]!PowerMod($A41,P$2,$A$2)","v":0},{"$f":"[1]!PowerMod($A41,Q$2,$A$2)","v":0},{"$f":"[1]!PowerMod($A41,R$2,$A$2)","v":0},{"$f":"[1]!PowerMod($A41,S$2,$A$2)","v":0},{"$f":"[1]!PowerMod($A41,T$2,$A$2)","v":0},{"$f":"[1]!PowerMod($A41,U$2,$A$2)","v":0},{"$f":"[1]!PowerMod($A41,V$2,$A$2)","v":0},{"$f":"[1]!PowerMod($A41,W$2,$A$2)","v":0},{"$f":"[1]!PowerMod($A41,X$2,$A$2)","v":0},{"$f":"[1]!PowerMod($A41,Y$2,$A$2)","v":0},{"$f":"[1]!PowerMod($A41,Z$2,$A$2)","v":0},{"$f":"[1]!PowerMod($A41,AA$2,$A$2)","v":0},{"$f":"[1]!PowerMod($A41,AB$2,$A$2)","v":0},{"$f":"[1]!PowerMod($A41,AC$2,$A$2)","v":0},{"$f":"[1]!PowerMod($A41,AD$2,$A$2)","v":0},{"$f":"[1]!PowerMod($A41,AE$2,$A$2)","v":0},{"$f":"[1]!PowerMod($A41,AF$2,$A$2)","v":0},{"$f":"[1]!PowerMod($A41,AG$2,$A$2)","v":0},{"$f":"[1]!PowerMod($A41,AH$2,$A$2)","v":0},{"$f":"[1]!PowerMod($A41,AI$2,$A$2)","v":0},{"$f":"[1]!PowerMod($A41,AJ$2,$A$2)","v":0},{"$f":"[1]!PowerMod($A41,AK$2,$A$2)","v":0},{"$f":"[1]!PowerMod($A41,AL$2,$A$2)","v":0},{"$f":"[1]!PowerMod($A41,AM$2,$A$2)","v":0},{"$f":"[1]!PowerMod($A41,AN$2,$A$2)","v":0},{"$f":"[1]!PowerMod($A41,AO$2,$A$2)","v":0},{"$f":"[1]!PowerMod($A41,AP$2,$A$2)","v":0},{"$f":"[1]!PowerMod($A41,AQ$2,$A$2)","v":0},{"$f":"[1]!PowerMod($A41,AR$2,$A$2)","v":0},{"$f":"[1]!PowerMod($A41,AS$2,$A$2)","v":0},{"$f":"[1]!PowerMod($A41,AT$2,$A$2)","v":0},{"$f":"[1]!PowerMod($A41,AU$2,$A$2)","v":0},{"$f":"[1]!PowerMod($A41,AV$2,$A$2)","v":0},{"$f":"[1]!PowerMod($A41,AW$2,$A$2)","v":0},{"$f":"[1]!PowerMod($A41,AX$2,$A$2)","v":0},{"$f":"[1]!PowerMod($A41,AY$2,$A$2)","v":0},{"$f":"[1]!PowerMod($A41,AZ$2,$A$2)","v":0},{"$f":"[1]!PowerMod($A41,BA$2,$A$2)","v":0},{"$f":"[1]!PowerMod($A41,BB$2,$A$2)","v":0},{"$f":"[1]!PowerMod($A41,BC$2,$A$2)","v":0},{"$f":"[1]!PowerMod($A41,BD$2,$A$2)","v":0},{"$f":"[1]!PowerMod($A41,BE$2,$A$2)","v":0},{"$f":"[1]!PowerMod($A41,BF$2,$A$2)","v":0},{"$f":"[1]!PowerMod($A41,BG$2,$A$2)","v":0},{"$f":"[1]!PowerMod($A41,BH$2,$A$2)","v":0},{"$f":"[1]!PowerMod($A41,BI$2,$A$2)","v":0},{"$f":"[1]!PowerMod($A41,BJ$2,$A$2)","v":0},{"$f":"[1]!PowerMod($A41,BK$2,$A$2)","v":0},{"$f":"[1]!PowerMod($A41,BL$2,$A$2)","v":0},{"$f":"[1]!PowerMod($A41,BM$2,$A$2)","v":0},{"$f":"[1]!PowerMod($A41,BN$2,$A$2)","v":0},{"$f":"[1]!PowerMod($A41,BO$2,$A$2)","v":0},{"$f":"[1]!PowerMod($A41,BP$2,$A$2)","v":0},{"$f":"[1]!PowerMod($A41,BQ$2,$A$2)","v":0},{"$f":"[1]!PowerMod($A41,BR$2,$A$2)","v":0},{"$f":"[1]!PowerMod($A41,BS$2,$A$2)","v":0},{"$f":"[1]!PowerMod($A41,BT$2,$A$2)","v":0}]
[40,{"$f":"[1]!PowerMod($A42,B$2,$A$2)","v":13},{"$f":"[1]!PowerMod($A42,C$2,$A$2)","v":7},{"$f":"[1]!PowerMod($A42,D$2,$A$2)","v":10},{"$f":"[1]!PowerMod($A42,E$2,$A$2)","v":22},{"$f":"[1]!PowerMod($A42,F$2,$A$2)","v":16},{"$f":"[1]!PowerMod($A42,G$2,$A$2)","v":19},{"$f":"[1]!PowerMod($A42,H$2,$A$2)","v":4},{"$f":"[1]!PowerMod($A42,I$2,$A$2)","v":25},{"$f":"[1]!PowerMod($A42,J$2,$A$2)","v":1},{"$f":"[1]!PowerMod($A42,K$2,$A$2)","v":13},{"$f":"[1]!PowerMod($A42,L$2,$A$2)","v":7},{"$f":"[1]!PowerMod($A42,M$2,$A$2)","v":10},{"$f":"[1]!PowerMod($A42,N$2,$A$2)","v":22},{"$f":"[1]!PowerMod($A42,O$2,$A$2)","v":16},{"$f":"[1]!PowerMod($A42,P$2,$A$2)","v":19},{"$f":"[1]!PowerMod($A42,Q$2,$A$2)","v":4},{"$f":"[1]!PowerMod($A42,R$2,$A$2)","v":25},{"$f":"[1]!PowerMod($A42,S$2,$A$2)","v":1},{"$f":"[1]!PowerMod($A42,T$2,$A$2)","v":13},{"$f":"[1]!PowerMod($A42,U$2,$A$2)","v":7},{"$f":"[1]!PowerMod($A42,V$2,$A$2)","v":10},{"$f":"[1]!PowerMod($A42,W$2,$A$2)","v":22},{"$f":"[1]!PowerMod($A42,X$2,$A$2)","v":16},{"$f":"[1]!PowerMod($A42,Y$2,$A$2)","v":19},{"$f":"[1]!PowerMod($A42,Z$2,$A$2)","v":4},{"$f":"[1]!PowerMod($A42,AA$2,$A$2)","v":25},{"$f":"[1]!PowerMod($A42,AB$2,$A$2)","v":1},{"$f":"[1]!PowerMod($A42,AC$2,$A$2)","v":13},{"$f":"[1]!PowerMod($A42,AD$2,$A$2)","v":7},{"$f":"[1]!PowerMod($A42,AE$2,$A$2)","v":10},{"$f":"[1]!PowerMod($A42,AF$2,$A$2)","v":22},{"$f":"[1]!PowerMod($A42,AG$2,$A$2)","v":16},{"$f":"[1]!PowerMod($A42,AH$2,$A$2)","v":19},{"$f":"[1]!PowerMod($A42,AI$2,$A$2)","v":4},{"$f":"[1]!PowerMod($A42,AJ$2,$A$2)","v":25},{"$f":"[1]!PowerMod($A42,AK$2,$A$2)","v":1},{"$f":"[1]!PowerMod($A42,AL$2,$A$2)","v":13},{"$f":"[1]!PowerMod($A42,AM$2,$A$2)","v":7},{"$f":"[1]!PowerMod($A42,AN$2,$A$2)","v":10},{"$f":"[1]!PowerMod($A42,AO$2,$A$2)","v":22},{"$f":"[1]!PowerMod($A42,AP$2,$A$2)","v":16},{"$f":"[1]!PowerMod($A42,AQ$2,$A$2)","v":19},{"$f":"[1]!PowerMod($A42,AR$2,$A$2)","v":4},{"$f":"[1]!PowerMod($A42,AS$2,$A$2)","v":25},{"$f":"[1]!PowerMod($A42,AT$2,$A$2)","v":1},{"$f":"[1]!PowerMod($A42,AU$2,$A$2)","v":13},{"$f":"[1]!PowerMod($A42,AV$2,$A$2)","v":7},{"$f":"[1]!PowerMod($A42,AW$2,$A$2)","v":10},{"$f":"[1]!PowerMod($A42,AX$2,$A$2)","v":22},{"$f":"[1]!PowerMod($A42,AY$2,$A$2)","v":16},{"$f":"[1]!PowerMod($A42,AZ$2,$A$2)","v":19},{"$f":"[1]!PowerMod($A42,BA$2,$A$2)","v":4},{"$f":"[1]!PowerMod($A42,BB$2,$A$2)","v":25},{"$f":"[1]!PowerMod($A42,BC$2,$A$2)","v":1},{"$f":"[1]!PowerMod($A42,BD$2,$A$2)","v":13},{"$f":"[1]!PowerMod($A42,BE$2,$A$2)","v":7},{"$f":"[1]!PowerMod($A42,BF$2,$A$2)","v":10},{"$f":"[1]!PowerMod($A42,BG$2,$A$2)","v":22},{"$f":"[1]!PowerMod($A42,BH$2,$A$2)","v":16},{"$f":"[1]!PowerMod($A42,BI$2,$A$2)","v":19},{"$f":"[1]!PowerMod($A42,BJ$2,$A$2)","v":4},{"$f":"[1]!PowerMod($A42,BK$2,$A$2)","v":25},{"$f":"[1]!PowerMod($A42,BL$2,$A$2)","v":1},{"$f":"[1]!PowerMod($A42,BM$2,$A$2)","v":13},{"$f":"[1]!PowerMod($A42,BN$2,$A$2)","v":7},{"$f":"[1]!PowerMod($A42,BO$2,$A$2)","v":10},{"$f":"[1]!PowerMod($A42,BP$2,$A$2)","v":22},{"$f":"[1]!PowerMod($A42,BQ$2,$A$2)","v":16},{"$f":"[1]!PowerMod($A42,BR$2,$A$2)","v":19},{"$f":"[1]!PowerMod($A42,BS$2,$A$2)","v":4},{"$f":"[1]!PowerMod($A42,BT$2,$A$2)","v":25}]
[41,{"$f":"[1]!PowerMod($A43,B$2,$A$2)","v":14},{"$f":"[1]!PowerMod($A43,C$2,$A$2)","v":7},{"$f":"[1]!PowerMod($A43,D$2,$A$2)","v":17},{"$f":"[1]!PowerMod($A43,E$2,$A$2)","v":22},{"$f":"[1]!PowerMod($A43,F$2,$A$2)","v":11},{"$f":"[1]!PowerMod($A43,G$2,$A$2)","v":19},{"$f":"[1]!PowerMod($A43,H$2,$A$2)","v":23},{"$f":"[1]!PowerMod($A43,I$2,$A$2)","v":25},{"$f":"[1]!PowerMod($A43,J$2,$A$2)","v":26},{"$f":"[1]!PowerMod($A43,K$2,$A$2)","v":13},{"$f":"[1]!PowerMod($A43,L$2,$A$2)","v":20},{"$f":"[1]!PowerMod($A43,M$2,$A$2)","v":10},{"$f":"[1]!PowerMod($A43,N$2,$A$2)","v":5},{"$f":"[1]!PowerMod($A43,O$2,$A$2)","v":16},{"$f":"[1]!PowerMod($A43,P$2,$A$2)","v":8},{"$f":"[1]!PowerMod($A43,Q$2,$A$2)","v":4},{"$f":"[1]!PowerMod($A43,R$2,$A$2)","v":2},{"$f":"[1]!PowerMod($A43,S$2,$A$2)","v":1},{"$f":"[1]!PowerMod($A43,T$2,$A$2)","v":14},{"$f":"[1]!PowerMod($A43,U$2,$A$2)","v":7},{"$f":"[1]!PowerMod($A43,V$2,$A$2)","v":17},{"$f":"[1]!PowerMod($A43,W$2,$A$2)","v":22},{"$f":"[1]!PowerMod($A43,X$2,$A$2)","v":11},{"$f":"[1]!PowerMod($A43,Y$2,$A$2)","v":19},{"$f":"[1]!PowerMod($A43,Z$2,$A$2)","v":23},{"$f":"[1]!PowerMod($A43,AA$2,$A$2)","v":25},{"$f":"[1]!PowerMod($A43,AB$2,$A$2)","v":26},{"$f":"[1]!PowerMod($A43,AC$2,$A$2)","v":13},{"$f":"[1]!PowerMod($A43,AD$2,$A$2)","v":20},{"$f":"[1]!PowerMod($A43,AE$2,$A$2)","v":10},{"$f":"[1]!PowerMod($A43,AF$2,$A$2)","v":5},{"$f":"[1]!PowerMod($A43,AG$2,$A$2)","v":16},{"$f":"[1]!PowerMod($A43,AH$2,$A$2)","v":8},{"$f":"[1]!PowerMod($A43,AI$2,$A$2)","v":4},{"$f":"[1]!PowerMod($A43,AJ$2,$A$2)","v":2},{"$f":"[1]!PowerMod($A43,AK$2,$A$2)","v":1},{"$f":"[1]!PowerMod($A43,AL$2,$A$2)","v":14},{"$f":"[1]!PowerMod($A43,AM$2,$A$2)","v":7},{"$f":"[1]!PowerMod($A43,AN$2,$A$2)","v":17},{"$f":"[1]!PowerMod($A43,AO$2,$A$2)","v":22},{"$f":"[1]!PowerMod($A43,AP$2,$A$2)","v":11},{"$f":"[1]!PowerMod($A43,AQ$2,$A$2)","v":19},{"$f":"[1]!PowerMod($A43,AR$2,$A$2)","v":23},{"$f":"[1]!PowerMod($A43,AS$2,$A$2)","v":25},{"$f":"[1]!PowerMod($A43,AT$2,$A$2)","v":26},{"$f":"[1]!PowerMod($A43,AU$2,$A$2)","v":13},{"$f":"[1]!PowerMod($A43,AV$2,$A$2)","v":20},{"$f":"[1]!PowerMod($A43,AW$2,$A$2)","v":10},{"$f":"[1]!PowerMod($A43,AX$2,$A$2)","v":5},{"$f":"[1]!PowerMod($A43,AY$2,$A$2)","v":16},{"$f":"[1]!PowerMod($A43,AZ$2,$A$2)","v":8},{"$f":"[1]!PowerMod($A43,BA$2,$A$2)","v":4},{"$f":"[1]!PowerMod($A43,BB$2,$A$2)","v":2},{"$f":"[1]!PowerMod($A43,BC$2,$A$2)","v":1},{"$f":"[1]!PowerMod($A43,BD$2,$A$2)","v":14},{"$f":"[1]!PowerMod($A43,BE$2,$A$2)","v":7},{"$f":"[1]!PowerMod($A43,BF$2,$A$2)","v":17},{"$f":"[1]!PowerMod($A43,BG$2,$A$2)","v":22},{"$f":"[1]!PowerMod($A43,BH$2,$A$2)","v":11},{"$f":"[1]!PowerMod($A43,BI$2,$A$2)","v":19},{"$f":"[1]!PowerMod($A43,BJ$2,$A$2)","v":23},{"$f":"[1]!PowerMod($A43,BK$2,$A$2)","v":25},{"$f":"[1]!PowerMod($A43,BL$2,$A$2)","v":26},{"$f":"[1]!PowerMod($A43,BM$2,$A$2)","v":13},{"$f":"[1]!PowerMod($A43,BN$2,$A$2)","v":20},{"$f":"[1]!PowerMod($A43,BO$2,$A$2)","v":10},{"$f":"[1]!PowerMod($A43,BP$2,$A$2)","v":5},{"$f":"[1]!PowerMod($A43,BQ$2,$A$2)","v":16},{"$f":"[1]!PowerMod($A43,BR$2,$A$2)","v":8},{"$f":"[1]!PowerMod($A43,BS$2,$A$2)","v":4},{"$f":"[1]!PowerMod($A43,BT$2,$A$2)","v":2}]
[42,{"$f":"[1]!PowerMod($A44,B$2,$A$2)","v":15},{"$f":"[1]!PowerMod($A44,C$2,$A$2)","v":9},{"$f":"[1]!PowerMod($A44,D$2,$A$2)","v":0},{"$f":"[1]!PowerMod($A44,E$2,$A$2)","v":0},{"$f":"[1]!PowerMod($A44,F$2,$A$2)","v":0},{"$f":"[1]!PowerMod($A44,G$2,$A$2)","v":0},{"$f":"[1]!PowerMod($A44,H$2,$A$2)","v":0},{"$f":"[1]!PowerMod($A44,I$2,$A$2)","v":0},{"$f":"[1]!PowerMod($A44,J$2,$A$2)","v":0},{"$f":"[1]!PowerMod($A44,K$2,$A$2)","v":0},{"$f":"[1]!PowerMod($A44,L$2,$A$2)","v":0},{"$f":"[1]!PowerMod($A44,M$2,$A$2)","v":0},{"$f":"[1]!PowerMod($A44,N$2,$A$2)","v":0},{"$f":"[1]!PowerMod($A44,O$2,$A$2)","v":0},{"$f":"[1]!PowerMod($A44,P$2,$A$2)","v":0},{"$f":"[1]!PowerMod($A44,Q$2,$A$2)","v":0},{"$f":"[1]!PowerMod($A44,R$2,$A$2)","v":0},{"$f":"[1]!PowerMod($A44,S$2,$A$2)","v":0},{"$f":"[1]!PowerMod($A44,T$2,$A$2)","v":0},{"$f":"[1]!PowerMod($A44,U$2,$A$2)","v":0},{"$f":"[1]!PowerMod($A44,V$2,$A$2)","v":0},{"$f":"[1]!PowerMod($A44,W$2,$A$2)","v":0},{"$f":"[1]!PowerMod($A44,X$2,$A$2)","v":0},{"$f":"[1]!PowerMod($A44,Y$2,$A$2)","v":0},{"$f":"[1]!PowerMod($A44,Z$2,$A$2)","v":0},{"$f":"[1]!PowerMod($A44,AA$2,$A$2)","v":0},{"$f":"[1]!PowerMod($A44,AB$2,$A$2)","v":0},{"$f":"[1]!PowerMod($A44,AC$2,$A$2)","v":0},{"$f":"[1]!PowerMod($A44,AD$2,$A$2)","v":0},{"$f":"[1]!PowerMod($A44,AE$2,$A$2)","v":0},{"$f":"[1]!PowerMod($A44,AF$2,$A$2)","v":0},{"$f":"[1]!PowerMod($A44,AG$2,$A$2)","v":0},{"$f":"[1]!PowerMod($A44,AH$2,$A$2)","v":0},{"$f":"[1]!PowerMod($A44,AI$2,$A$2)","v":0},{"$f":"[1]!PowerMod($A44,AJ$2,$A$2)","v":0},{"$f":"[1]!PowerMod($A44,AK$2,$A$2)","v":0},{"$f":"[1]!PowerMod($A44,AL$2,$A$2)","v":0},{"$f":"[1]!PowerMod($A44,AM$2,$A$2)","v":0},{"$f":"[1]!PowerMod($A44,AN$2,$A$2)","v":0},{"$f":"[1]!PowerMod($A44,AO$2,$A$2)","v":0},{"$f":"[1]!PowerMod($A44,AP$2,$A$2)","v":0},{"$f":"[1]!PowerMod($A44,AQ$2,$A$2)","v":0},{"$f":"[1]!PowerMod($A44,AR$2,$A$2)","v":0},{"$f":"[1]!PowerMod($A44,AS$2,$A$2)","v":0},{"$f":"[1]!PowerMod($A44,AT$2,$A$2)","v":0},{"$f":"[1]!PowerMod($A44,AU$2,$A$2)","v":0},{"$f":"[1]!PowerMod($A44,AV$2,$A$2)","v":0},{"$f":"[1]!PowerMod($A44,AW$2,$A$2)","v":0},{"$f":"[1]!PowerMod($A44,AX$2,$A$2)","v":0},{"$f":"[1]!PowerMod($A44,AY$2,$A$2)","v":0},{"$f":"[1]!PowerMod($A44,AZ$2,$A$2)","v":0},{"$f":"[1]!PowerMod($A44,BA$2,$A$2)","v":0},{"$f":"[1]!PowerMod($A44,BB$2,$A$2)","v":0},{"$f":"[1]!PowerMod($A44,BC$2,$A$2)","v":0},{"$f":"[1]!PowerMod($A44,BD$2,$A$2)","v":0},{"$f":"[1]!PowerMod($A44,BE$2,$A$2)","v":0},{"$f":"[1]!PowerMod($A44,BF$2,$A$2)","v":0},{"$f":"[1]!PowerMod($A44,BG$2,$A$2)","v":0},{"$f":"[1]!PowerMod($A44,BH$2,$A$2)","v":0},{"$f":"[1]!PowerMod($A44,BI$2,$A$2)","v":0},{"$f":"[1]!PowerMod($A44,BJ$2,$A$2)","v":0},{"$f":"[1]!PowerMod($A44,BK$2,$A$2)","v":0},{"$f":"[1]!PowerMod($A44,BL$2,$A$2)","v":0},{"$f":"[1]!PowerMod($A44,BM$2,$A$2)","v":0},{"$f":"[1]!PowerMod($A44,BN$2,$A$2)","v":0},{"$f":"[1]!PowerMod($A44,BO$2,$A$2)","v":0},{"$f":"[1]!PowerMod($A44,BP$2,$A$2)","v":0},{"$f":"[1]!PowerMod($A44,BQ$2,$A$2)","v":0},{"$f":"[1]!PowerMod($A44,BR$2,$A$2)","v":0},{"$f":"[1]!PowerMod($A44,BS$2,$A$2)","v":0},{"$f":"[1]!PowerMod($A44,BT$2,$A$2)","v":0}]
[43,{"$f":"[1]!PowerMod($A45,B$2,$A$2)","v":16},{"$f":"[1]!PowerMod($A45,C$2,$A$2)","v":13},{"$f":"[1]!PowerMod($A45,D$2,$A$2)","v":19},{"$f":"[1]!PowerMod($A45,E$2,$A$2)","v":7},{"$f":"[1]!PowerMod($A45,F$2,$A$2)","v":4},{"$f":"[1]!PowerMod($A45,G$2,$A$2)","v":10},{"$f":"[1]!PowerMod($A45,H$2,$A$2)","v":25},{"$f":"[1]!PowerMod($A45,I$2,$A$2)","v":22},{"$f":"[1]!PowerMod($A45,J$2,$A$2)","v":1},{"$f":"[1]!PowerMod($A45,K$2,$A$2)","v":16},{"$f":"[1]!PowerMod($A45,L$2,$A$2)","v":13},{"$f":"[1]!PowerMod($A45,M$2,$A$2)","v":19},{"$f":"[1]!PowerMod($A45,N$2,$A$2)","v":7},{"$f":"[1]!PowerMod($A45,O$2,$A$2)","v":4},{"$f":"[1]!PowerMod($A45,P$2,$A$2)","v":10},{"$f":"[1]!PowerMod($A45,Q$2,$A$2)","v":25},{"$f":"[1]!PowerMod($A45,R$2,$A$2)","v":22},{"$f":"[1]!PowerMod($A45,S$2,$A$2)","v":1},{"$f":"[1]!PowerMod($A45,T$2,$A$2)","v":16},{"$f":"[1]!PowerMod($A45,U$2,$A$2)","v":13},{"$f":"[1]!PowerMod($A45,V$2,$A$2)","v":19},{"$f":"[1]!PowerMod($A45,W$2,$A$2)","v":7},{"$f":"[1]!PowerMod($A45,X$2,$A$2)","v":4},{"$f":"[1]!PowerMod($A45,Y$2,$A$2)","v":10},{"$f":"[1]!PowerMod($A45,Z$2,$A$2)","v":25},{"$f":"[1]!PowerMod($A45,AA$2,$A$2)","v":22},{"$f":"[1]!PowerMod($A45,AB$2,$A$2)","v":1},{"$f":"[1]!PowerMod($A45,AC$2,$A$2)","v":16},{"$f":"[1]!PowerMod($A45,AD$2,$A$2)","v":13},{"$f":"[1]!PowerMod($A45,AE$2,$A$2)","v":19},{"$f":"[1]!PowerMod($A45,AF$2,$A$2)","v":7},{"$f":"[1]!PowerMod($A45,AG$2,$A$2)","v":4},{"$f":"[1]!PowerMod($A45,AH$2,$A$2)","v":10},{"$f":"[1]!PowerMod($A45,AI$2,$A$2)","v":25},{"$f":"[1]!PowerMod($A45,AJ$2,$A$2)","v":22},{"$f":"[1]!PowerMod($A45,AK$2,$A$2)","v":1},{"$f":"[1]!PowerMod($A45,AL$2,$A$2)","v":16},{"$f":"[1]!PowerMod($A45,AM$2,$A$2)","v":13},{"$f":"[1]!PowerMod($A45,AN$2,$A$2)","v":19},{"$f":"[1]!PowerMod($A45,AO$2,$A$2)","v":7},{"$f":"[1]!PowerMod($A45,AP$2,$A$2)","v":4},{"$f":"[1]!PowerMod($A45,AQ$2,$A$2)","v":10},{"$f":"[1]!PowerMod($A45,AR$2,$A$2)","v":25},{"$f":"[1]!PowerMod($A45,AS$2,$A$2)","v":22},{"$f":"[1]!PowerMod($A45,AT$2,$A$2)","v":1},{"$f":"[1]!PowerMod($A45,AU$2,$A$2)","v":16},{"$f":"[1]!PowerMod($A45,AV$2,$A$2)","v":13},{"$f":"[1]!PowerMod($A45,AW$2,$A$2)","v":19},{"$f":"[1]!PowerMod($A45,AX$2,$A$2)","v":7},{"$f":"[1]!PowerMod($A45,AY$2,$A$2)","v":4},{"$f":"[1]!PowerMod($A45,AZ$2,$A$2)","v":10},{"$f":"[1]!PowerMod($A45,BA$2,$A$2)","v":25},{"$f":"[1]!PowerMod($A45,BB$2,$A$2)","v":22},{"$f":"[1]!PowerMod($A45,BC$2,$A$2)","v":1},{"$f":"[1]!PowerMod($A45,BD$2,$A$2)","v":16},{"$f":"[1]!PowerMod($A45,BE$2,$A$2)","v":13},{"$f":"[1]!PowerMod($A45,BF$2,$A$2)","v":19},{"$f":"[1]!PowerMod($A45,BG$2,$A$2)","v":7},{"$f":"[1]!PowerMod($A45,BH$2,$A$2)","v":4},{"$f":"[1]!PowerMod($A45,BI$2,$A$2)","v":10},{"$f":"[1]!PowerMod($A45,BJ$2,$A$2)","v":25},{"$f":"[1]!PowerMod($A45,BK$2,$A$2)","v":22},{"$f":"[1]!PowerMod($A45,BL$2,$A$2)","v":1},{"$f":"[1]!PowerMod($A45,BM$2,$A$2)","v":16},{"$f":"[1]!PowerMod($A45,BN$2,$A$2)","v":13},{"$f":"[1]!PowerMod($A45,BO$2,$A$2)","v":19},{"$f":"[1]!PowerMod($A45,BP$2,$A$2)","v":7},{"$f":"[1]!PowerMod($A45,BQ$2,$A$2)","v":4},{"$f":"[1]!PowerMod($A45,BR$2,$A$2)","v":10},{"$f":"[1]!PowerMod($A45,BS$2,$A$2)","v":25},{"$f":"[1]!PowerMod($A45,BT$2,$A$2)","v":22}]
[44,{"$f":"[1]!PowerMod($A46,B$2,$A$2)","v":17},{"$f":"[1]!PowerMod($A46,C$2,$A$2)","v":19},{"$f":"[1]!PowerMod($A46,D$2,$A$2)","v":26},{"$f":"[1]!PowerMod($A46,E$2,$A$2)","v":10},{"$f":"[1]!PowerMod($A46,F$2,$A$2)","v":8},{"$f":"[1]!PowerMod($A46,G$2,$A$2)","v":1},{"$f":"[1]!PowerMod($A46,H$2,$A$2)","v":17},{"$f":"[1]!PowerMod($A46,I$2,$A$2)","v":19},{"$f":"[1]!PowerMod($A46,J$2,$A$2)","v":26},{"$f":"[1]!PowerMod($A46,K$2,$A$2)","v":10},{"$f":"[1]!PowerMod($A46,L$2,$A$2)","v":8},{"$f":"[1]!PowerMod($A46,M$2,$A$2)","v":1},{"$f":"[1]!PowerMod($A46,N$2,$A$2)","v":17},{"$f":"[1]!PowerMod($A46,O$2,$A$2)","v":19},{"$f":"[1]!PowerMod($A46,P$2,$A$2)","v":26},{"$f":"[1]!PowerMod($A46,Q$2,$A$2)","v":10},{"$f":"[1]!PowerMod($A46,R$2,$A$2)","v":8},{"$f":"[1]!PowerMod($A46,S$2,$A$2)","v":1},{"$f":"[1]!PowerMod($A46,T$2,$A$2)","v":17},{"$f":"[1]!PowerMod($A46,U$2,$A$2)","v":19},{"$f":"[1]!PowerMod($A46,V$2,$A$2)","v":26},{"$f":"[1]!PowerMod($A46,W$2,$A$2)","v":10},{"$f":"[1]!PowerMod($A46,X$2,$A$2)","v":8},{"$f":"[1]!PowerMod($A46,Y$2,$A$2)","v":1},{"$f":"[1]!PowerMod($A46,Z$2,$A$2)","v":17},{"$f":"[1]!PowerMod($A46,AA$2,$A$2)","v":19},{"$f":"[1]!PowerMod($A46,AB$2,$A$2)","v":26},{"$f":"[1]!PowerMod($A46,AC$2,$A$2)","v":10},{"$f":"[1]!PowerMod($A46,AD$2,$A$2)","v":8},{"$f":"[1]!PowerMod($A46,AE$2,$A$2)","v":1},{"$f":"[1]!PowerMod($A46,AF$2,$A$2)","v":17},{"$f":"[1]!PowerMod($A46,AG$2,$A$2)","v":19},{"$f":"[1]!PowerMod($A46,AH$2,$A$2)","v":26},{"$f":"[1]!PowerMod($A46,AI$2,$A$2)","v":10},{"$f":"[1]!PowerMod($A46,AJ$2,$A$2)","v":8},{"$f":"[1]!PowerMod($A46,AK$2,$A$2)","v":1},{"$f":"[1]!PowerMod($A46,AL$2,$A$2)","v":17},{"$f":"[1]!PowerMod($A46,AM$2,$A$2)","v":19},{"$f":"[1]!PowerMod($A46,AN$2,$A$2)","v":26},{"$f":"[1]!PowerMod($A46,AO$2,$A$2)","v":10},{"$f":"[1]!PowerMod($A46,AP$2,$A$2)","v":8},{"$f":"[1]!PowerMod($A46,AQ$2,$A$2)","v":1},{"$f":"[1]!PowerMod($A46,AR$2,$A$2)","v":17},{"$f":"[1]!PowerMod($A46,AS$2,$A$2)","v":19},{"$f":"[1]!PowerMod($A46,AT$2,$A$2)","v":26},{"$f":"[1]!PowerMod($A46,AU$2,$A$2)","v":10},{"$f":"[1]!PowerMod($A46,AV$2,$A$2)","v":8},{"$f":"[1]!PowerMod($A46,AW$2,$A$2)","v":1},{"$f":"[1]!PowerMod($A46,AX$2,$A$2)","v":17},{"$f":"[1]!PowerMod($A46,AY$2,$A$2)","v":19},{"$f":"[1]!PowerMod($A46,AZ$2,$A$2)","v":26},{"$f":"[1]!PowerMod($A46,BA$2,$A$2)","v":10},{"$f":"[1]!PowerMod($A46,BB$2,$A$2)","v":8},{"$f":"[1]!PowerMod($A46,BC$2,$A$2)","v":1},{"$f":"[1]!PowerMod($A46,BD$2,$A$2)","v":17},{"$f":"[1]!PowerMod($A46,BE$2,$A$2)","v":19},{"$f":"[1]!PowerMod($A46,BF$2,$A$2)","v":26},{"$f":"[1]!PowerMod($A46,BG$2,$A$2)","v":10},{"$f":"[1]!PowerMod($A46,BH$2,$A$2)","v":8},{"$f":"[1]!PowerMod($A46,BI$2,$A$2)","v":1},{"$f":"[1]!PowerMod($A46,BJ$2,$A$2)","v":17},{"$f":"[1]!PowerMod($A46,BK$2,$A$2)","v":19},{"$f":"[1]!PowerMod($A46,BL$2,$A$2)","v":26},{"$f":"[1]!PowerMod($A46,BM$2,$A$2)","v":10},{"$f":"[1]!PowerMod($A46,BN$2,$A$2)","v":8},{"$f":"[1]!PowerMod($A46,BO$2,$A$2)","v":1},{"$f":"[1]!PowerMod($A46,BP$2,$A$2)","v":17},{"$f":"[1]!PowerMod($A46,BQ$2,$A$2)","v":19},{"$f":"[1]!PowerMod($A46,BR$2,$A$2)","v":26},{"$f":"[1]!PowerMod($A46,BS$2,$A$2)","v":10},{"$f":"[1]!PowerMod($A46,BT$2,$A$2)","v":8}]
[45,{"$f":"[1]!PowerMod($A47,B$2,$A$2)","v":18},{"$f":"[1]!PowerMod($A47,C$2,$A$2)","v":0},{"$f":"[1]!PowerMod($A47,D$2,$A$2)","v":0},{"$f":"[1]!PowerMod($A47,E$2,$A$2)","v":0},{"$f":"[1]!PowerMod($A47,F$2,$A$2)","v":0},{"$f":"[1]!PowerMod($A47,G$2,$A$2)","v":0},{"$f":"[1]!PowerMod($A47,H$2,$A$2)","v":0},{"$f":"[1]!PowerMod($A47,I$2,$A$2)","v":0},{"$f":"[1]!PowerMod($A47,J$2,$A$2)","v":0},{"$f":"[1]!PowerMod($A47,K$2,$A$2)","v":0},{"$f":"[1]!PowerMod($A47,L$2,$A$2)","v":0},{"$f":"[1]!PowerMod($A47,M$2,$A$2)","v":0},{"$f":"[1]!PowerMod($A47,N$2,$A$2)","v":0},{"$f":"[1]!PowerMod($A47,O$2,$A$2)","v":0},{"$f":"[1]!PowerMod($A47,P$2,$A$2)","v":0},{"$f":"[1]!PowerMod($A47,Q$2,$A$2)","v":0},{"$f":"[1]!PowerMod($A47,R$2,$A$2)","v":0},{"$f":"[1]!PowerMod($A47,S$2,$A$2)","v":0},{"$f":"[1]!PowerMod($A47,T$2,$A$2)","v":0},{"$f":"[1]!PowerMod($A47,U$2,$A$2)","v":0},{"$f":"[1]!PowerMod($A47,V$2,$A$2)","v":0},{"$f":"[1]!PowerMod($A47,W$2,$A$2)","v":0},{"$f":"[1]!PowerMod($A47,X$2,$A$2)","v":0},{"$f":"[1]!PowerMod($A47,Y$2,$A$2)","v":0},{"$f":"[1]!PowerMod($A47,Z$2,$A$2)","v":0},{"$f":"[1]!PowerMod($A47,AA$2,$A$2)","v":0},{"$f":"[1]!PowerMod($A47,AB$2,$A$2)","v":0},{"$f":"[1]!PowerMod($A47,AC$2,$A$2)","v":0},{"$f":"[1]!PowerMod($A47,AD$2,$A$2)","v":0},{"$f":"[1]!PowerMod($A47,AE$2,$A$2)","v":0},{"$f":"[1]!PowerMod($A47,AF$2,$A$2)","v":0},{"$f":"[1]!PowerMod($A47,AG$2,$A$2)","v":0},{"$f":"[1]!PowerMod($A47,AH$2,$A$2)","v":0},{"$f":"[1]!PowerMod($A47,AI$2,$A$2)","v":0},{"$f":"[1]!PowerMod($A47,AJ$2,$A$2)","v":0},{"$f":"[1]!PowerMod($A47,AK$2,$A$2)","v":0},{"$f":"[1]!PowerMod($A47,AL$2,$A$2)","v":0},{"$f":"[1]!PowerMod($A47,AM$2,$A$2)","v":0},{"$f":"[1]!PowerMod($A47,AN$2,$A$2)","v":0},{"$f":"[1]!PowerMod($A47,AO$2,$A$2)","v":0},{"$f":"[1]!PowerMod($A47,AP$2,$A$2)","v":0},{"$f":"[1]!PowerMod($A47,AQ$2,$A$2)","v":0},{"$f":"[1]!PowerMod($A47,AR$2,$A$2)","v":0},{"$f":"[1]!PowerMod($A47,AS$2,$A$2)","v":0},{"$f":"[1]!PowerMod($A47,AT$2,$A$2)","v":0},{"$f":"[1]!PowerMod($A47,AU$2,$A$2)","v":0},{"$f":"[1]!PowerMod($A47,AV$2,$A$2)","v":0},{"$f":"[1]!PowerMod($A47,AW$2,$A$2)","v":0},{"$f":"[1]!PowerMod($A47,AX$2,$A$2)","v":0},{"$f":"[1]!PowerMod($A47,AY$2,$A$2)","v":0},{"$f":"[1]!PowerMod($A47,AZ$2,$A$2)","v":0},{"$f":"[1]!PowerMod($A47,BA$2,$A$2)","v":0},{"$f":"[1]!PowerMod($A47,BB$2,$A$2)","v":0},{"$f":"[1]!PowerMod($A47,BC$2,$A$2)","v":0},{"$f":"[1]!PowerMod($A47,BD$2,$A$2)","v":0},{"$f":"[1]!PowerMod($A47,BE$2,$A$2)","v":0},{"$f":"[1]!PowerMod($A47,BF$2,$A$2)","v":0},{"$f":"[1]!PowerMod($A47,BG$2,$A$2)","v":0},{"$f":"[1]!PowerMod($A47,BH$2,$A$2)","v":0},{"$f":"[1]!PowerMod($A47,BI$2,$A$2)","v":0},{"$f":"[1]!PowerMod($A47,BJ$2,$A$2)","v":0},{"$f":"[1]!PowerMod($A47,BK$2,$A$2)","v":0},{"$f":"[1]!PowerMod($A47,BL$2,$A$2)","v":0},{"$f":"[1]!PowerMod($A47,BM$2,$A$2)","v":0},{"$f":"[1]!PowerMod($A47,BN$2,$A$2)","v":0},{"$f":"[1]!PowerMod($A47,BO$2,$A$2)","v":0},{"$f":"[1]!PowerMod($A47,BP$2,$A$2)","v":0},{"$f":"[1]!PowerMod($A47,BQ$2,$A$2)","v":0},{"$f":"[1]!PowerMod($A47,BR$2,$A$2)","v":0},{"$f":"[1]!PowerMod($A47,BS$2,$A$2)","v":0},{"$f":"[1]!PowerMod($A47,BT$2,$A$2)","v":0}]
[46,{"$f":"[1]!PowerMod($A48,B$2,$A$2)","v":19},{"$f":"[1]!PowerMod($A48,C$2,$A$2)","v":10},{"$f":"[1]!PowerMod($A48,D$2,$A$2)","v":1},{"$f":"[1]!PowerMod($A48,E$2,$A$2)","v":19},{"$f":"[1]!PowerMod($A48,F$2,$A$2)","v":10},{"$f":"[1]!PowerMod($A48,G$2,$A$2)","v":1},{"$f":"[1]!PowerMod($A48,H$2,$A$2)","v":19},{"$f":"[1]!PowerMod($A48,I$2,$A$2)","v":10},{"$f":"[1]!PowerMod($A48,J$2,$A$2)","v":1},{"$f":"[1]!PowerMod($A48,K$2,$A$2)","v":19},{"$f":"[1]!PowerMod($A48,L$2,$A$2)","v":10},{"$f":"[1]!PowerMod($A48,M$2,$A$2)","v":1},{"$f":"[1]!PowerMod($A48,N$2,$A$2)","v":19},{"$f":"[1]!PowerMod($A48,O$2,$A$2)","v":10},{"$f":"[1]!PowerMod($A48,P$2,$A$2)","v":1},{"$f":"[1]!PowerMod($A48,Q$2,$A$2)","v":19},{"$f":"[1]!PowerMod($A48,R$2,$A$2)","v":10},{"$f":"[1]!PowerMod($A48,S$2,$A$2)","v":1},{"$f":"[1]!PowerMod($A48,T$2,$A$2)","v":19},{"$f":"[1]!PowerMod($A48,U$2,$A$2)","v":10},{"$f":"[1]!PowerMod($A48,V$2,$A$2)","v":1},{"$f":"[1]!PowerMod($A48,W$2,$A$2)","v":19},{"$f":"[1]!PowerMod($A48,X$2,$A$2)","v":10},{"$f":"[1]!PowerMod($A48,Y$2,$A$2)","v":1},{"$f":"[1]!PowerMod($A48,Z$2,$A$2)","v":19},{"$f":"[1]!PowerMod($A48,AA$2,$A$2)","v":10},{"$f":"[1]!PowerMod($A48,AB$2,$A$2)","v":1},{"$f":"[1]!PowerMod($A48,AC$2,$A$2)","v":19},{"$f":"[1]!PowerMod($A48,AD$2,$A$2)","v":10},{"$f":"[1]!PowerMod($A48,AE$2,$A$2)","v":1},{"$f":"[1]!PowerMod($A48,AF$2,$A$2)","v":19},{"$f":"[1]!PowerMod($A48,AG$2,$A$2)","v":10},{"$f":"[1]!PowerMod($A48,AH$2,$A$2)","v":1},{"$f":"[1]!PowerMod($A48,AI$2,$A$2)","v":19},{"$f":"[1]!PowerMod($A48,AJ$2,$A$2)","v":10},{"$f":"[1]!PowerMod($A48,AK$2,$A$2)","v":1},{"$f":"[1]!PowerMod($A48,AL$2,$A$2)","v":19},{"$f":"[1]!PowerMod($A48,AM$2,$A$2)","v":10},{"$f":"[1]!PowerMod($A48,AN$2,$A$2)","v":1},{"$f":"[1]!PowerMod($A48,AO$2,$A$2)","v":19},{"$f":"[1]!PowerMod($A48,AP$2,$A$2)","v":10},{"$f":"[1]!PowerMod($A48,AQ$2,$A$2)","v":1},{"$f":"[1]!PowerMod($A48,AR$2,$A$2)","v":19},{"$f":"[1]!PowerMod($A48,AS$2,$A$2)","v":10},{"$f":"[1]!PowerMod($A48,AT$2,$A$2)","v":1},{"$f":"[1]!PowerMod($A48,AU$2,$A$2)","v":19},{"$f":"[1]!PowerMod($A48,AV$2,$A$2)","v":10},{"$f":"[1]!PowerMod($A48,AW$2,$A$2)","v":1},{"$f":"[1]!PowerMod($A48,AX$2,$A$2)","v":19},{"$f":"[1]!PowerMod($A48,AY$2,$A$2)","v":10},{"$f":"[1]!PowerMod($A48,AZ$2,$A$2)","v":1},{"$f":"[1]!PowerMod($A48,BA$2,$A$2)","v":19},{"$f":"[1]!PowerMod($A48,BB$2,$A$2)","v":10},{"$f":"[1]!PowerMod($A48,BC$2,$A$2)","v":1},{"$f":"[1]!PowerMod($A48,BD$2,$A$2)","v":19},{"$f":"[1]!PowerMod($A48,BE$2,$A$2)","v":10},{"$f":"[1]!PowerMod($A48,BF$2,$A$2)","v":1},{"$f":"[1]!PowerMod($A48,BG$2,$A$2)","v":19},{"$f":"[1]!PowerMod($A48,BH$2,$A$2)","v":10},{"$f":"[1]!PowerMod($A48,BI$2,$A$2)","v":1},{"$f":"[1]!PowerMod($A48,BJ$2,$A$2)","v":19},{"$f":"[1]!PowerMod($A48,BK$2,$A$2)","v":10},{"$f":"[1]!PowerMod($A48,BL$2,$A$2)","v":1},{"$f":"[1]!PowerMod($A48,BM$2,$A$2)","v":19},{"$f":"[1]!PowerMod($A48,BN$2,$A$2)","v":10},{"$f":"[1]!PowerMod($A48,BO$2,$A$2)","v":1},{"$f":"[1]!PowerMod($A48,BP$2,$A$2)","v":19},{"$f":"[1]!PowerMod($A48,BQ$2,$A$2)","v":10},{"$f":"[1]!PowerMod($A48,BR$2,$A$2)","v":1},{"$f":"[1]!PowerMod($A48,BS$2,$A$2)","v":19},{"$f":"[1]!PowerMod($A48,BT$2,$A$2)","v":10}]
[47,{"$f":"[1]!PowerMod($A49,B$2,$A$2)","v":20},{"$f":"[1]!PowerMod($A49,C$2,$A$2)","v":22},{"$f":"[1]!PowerMod($A49,D$2,$A$2)","v":8},{"$f":"[1]!PowerMod($A49,E$2,$A$2)","v":25},{"$f":"[1]!PowerMod($A49,F$2,$A$2)","v":14},{"$f":"[1]!PowerMod($A49,G$2,$A$2)","v":10},{"$f":"[1]!PowerMod($A49,H$2,$A$2)","v":11},{"$f":"[1]!PowerMod($A49,I$2,$A$2)","v":4},{"$f":"[1]!PowerMod($A49,J$2,$A$2)","v":26},{"$f":"[1]!PowerMod($A49,K$2,$A$2)","v":7},{"$f":"[1]!PowerMod($A49,L$2,$A$2)","v":5},{"$f":"[1]!PowerMod($A49,M$2,$A$2)","v":19},{"$f":"[1]!PowerMod($A49,N$2,$A$2)","v":2},{"$f":"[1]!PowerMod($A49,O$2,$A$2)","v":13},{"$f":"[1]!PowerMod($A49,P$2,$A$2)","v":17},{"$f":"[1]!PowerMod($A49,Q$2,$A$2)","v":16},{"$f":"[1]!PowerMod($A49,R$2,$A$2)","v":23},{"$f":"[1]!PowerMod($A49,S$2,$A$2)","v":1},{"$f":"[1]!PowerMod($A49,T$2,$A$2)","v":20},{"$f":"[1]!PowerMod($A49,U$2,$A$2)","v":22},{"$f":"[1]!PowerMod($A49,V$2,$A$2)","v":8},{"$f":"[1]!PowerMod($A49,W$2,$A$2)","v":25},{"$f":"[1]!PowerMod($A49,X$2,$A$2)","v":14},{"$f":"[1]!PowerMod($A49,Y$2,$A$2)","v":10},{"$f":"[1]!PowerMod($A49,Z$2,$A$2)","v":11},{"$f":"[1]!PowerMod($A49,AA$2,$A$2)","v":4},{"$f":"[1]!PowerMod($A49,AB$2,$A$2)","v":26},{"$f":"[1]!PowerMod($A49,AC$2,$A$2)","v":7},{"$f":"[1]!PowerMod($A49,AD$2,$A$2)","v":5},{"$f":"[1]!PowerMod($A49,AE$2,$A$2)","v":19},{"$f":"[1]!PowerMod($A49,AF$2,$A$2)","v":2},{"$f":"[1]!PowerMod($A49,AG$2,$A$2)","v":13},{"$f":"[1]!PowerMod($A49,AH$2,$A$2)","v":17},{"$f":"[1]!PowerMod($A49,AI$2,$A$2)","v":16},{"$f":"[1]!PowerMod($A49,AJ$2,$A$2)","v":23},{"$f":"[1]!PowerMod($A49,AK$2,$A$2)","v":1},{"$f":"[1]!PowerMod($A49,AL$2,$A$2)","v":20},{"$f":"[1]!PowerMod($A49,AM$2,$A$2)","v":22},{"$f":"[1]!PowerMod($A49,AN$2,$A$2)","v":8},{"$f":"[1]!PowerMod($A49,AO$2,$A$2)","v":25},{"$f":"[1]!PowerMod($A49,AP$2,$A$2)","v":14},{"$f":"[1]!PowerMod($A49,AQ$2,$A$2)","v":10},{"$f":"[1]!PowerMod($A49,AR$2,$A$2)","v":11},{"$f":"[1]!PowerMod($A49,AS$2,$A$2)","v":4},{"$f":"[1]!PowerMod($A49,AT$2,$A$2)","v":26},{"$f":"[1]!PowerMod($A49,AU$2,$A$2)","v":7},{"$f":"[1]!PowerMod($A49,AV$2,$A$2)","v":5},{"$f":"[1]!PowerMod($A49,AW$2,$A$2)","v":19},{"$f":"[1]!PowerMod($A49,AX$2,$A$2)","v":2},{"$f":"[1]!PowerMod($A49,AY$2,$A$2)","v":13},{"$f":"[1]!PowerMod($A49,AZ$2,$A$2)","v":17},{"$f":"[1]!PowerMod($A49,BA$2,$A$2)","v":16},{"$f":"[1]!PowerMod($A49,BB$2,$A$2)","v":23},{"$f":"[1]!PowerMod($A49,BC$2,$A$2)","v":1},{"$f":"[1]!PowerMod($A49,BD$2,$A$2)","v":20},{"$f":"[1]!PowerMod($A49,BE$2,$A$2)","v":22},{"$f":"[1]!PowerMod($A49,BF$2,$A$2)","v":8},{"$f":"[1]!PowerMod($A49,BG$2,$A$2)","v":25},{"$f":"[1]!PowerMod($A49,BH$2,$A$2)","v":14},{"$f":"[1]!PowerMod($A49,BI$2,$A$2)","v":10},{"$f":"[1]!PowerMod($A49,BJ$2,$A$2)","v":11},{"$f":"[1]!PowerMod($A49,BK$2,$A$2)","v":4},{"$f":"[1]!PowerMod($A49,BL$2,$A$2)","v":26},{"$f":"[1]!PowerMod($A49,BM$2,$A$2)","v":7},{"$f":"[1]!PowerMod($A49,BN$2,$A$2)","v":5},{"$f":"[1]!PowerMod($A49,BO$2,$A$2)","v":19},{"$f":"[1]!PowerMod($A49,BP$2,$A$2)","v":2},{"$f":"[1]!PowerMod($A49,BQ$2,$A$2)","v":13},{"$f":"[1]!PowerMod($A49,BR$2,$A$2)","v":17},{"$f":"[1]!PowerMod($A49,BS$2,$A$2)","v":16},{"$f":"[1]!PowerMod($A49,BT$2,$A$2)","v":23}]
[48,{"$f":"[1]!PowerMod($A50,B$2,$A$2)","v":21},{"$f":"[1]!PowerMod($A50,C$2,$A$2)","v":9},{"$f":"[1]!PowerMod($A50,D$2,$A$2)","v":0},{"$f":"[1]!PowerMod($A50,E$2,$A$2)","v":0},{"$f":"[1]!PowerMod($A50,F$2,$A$2)","v":0},{"$f":"[1]!PowerMod($A50,G$2,$A$2)","v":0},{"$f":"[1]!PowerMod($A50,H$2,$A$2)","v":0},{"$f":"[1]!PowerMod($A50,I$2,$A$2)","v":0},{"$f":"[1]!PowerMod($A50,J$2,$A$2)","v":0},{"$f":"[1]!PowerMod($A50,K$2,$A$2)","v":0},{"$f":"[1]!PowerMod($A50,L$2,$A$2)","v":0},{"$f":"[1]!PowerMod($A50,M$2,$A$2)","v":0},{"$f":"[1]!PowerMod($A50,N$2,$A$2)","v":0},{"$f":"[1]!PowerMod($A50,O$2,$A$2)","v":0},{"$f":"[1]!PowerMod($A50,P$2,$A$2)","v":0},{"$f":"[1]!PowerMod($A50,Q$2,$A$2)","v":0},{"$f":"[1]!PowerMod($A50,R$2,$A$2)","v":0},{"$f":"[1]!PowerMod($A50,S$2,$A$2)","v":0},{"$f":"[1]!PowerMod($A50,T$2,$A$2)","v":0},{"$f":"[1]!PowerMod($A50,U$2,$A$2)","v":0},{"$f":"[1]!PowerMod($A50,V$2,$A$2)","v":0},{"$f":"[1]!PowerMod($A50,W$2,$A$2)","v":0},{"$f":"[1]!PowerMod($A50,X$2,$A$2)","v":0},{"$f":"[1]!PowerMod($A50,Y$2,$A$2)","v":0},{"$f":"[1]!PowerMod($A50,Z$2,$A$2)","v":0},{"$f":"[1]!PowerMod($A50,AA$2,$A$2)","v":0},{"$f":"[1]!PowerMod($A50,AB$2,$A$2)","v":0},{"$f":"[1]!PowerMod($A50,AC$2,$A$2)","v":0},{"$f":"[1]!PowerMod($A50,AD$2,$A$2)","v":0},{"$f":"[1]!PowerMod($A50,AE$2,$A$2)","v":0},{"$f":"[1]!PowerMod($A50,AF$2,$A$2)","v":0},{"$f":"[1]!PowerMod($A50,AG$2,$A$2)","v":0},{"$f":"[1]!PowerMod($A50,AH$2,$A$2)","v":0},{"$f":"[1]!PowerMod($A50,AI$2,$A$2)","v":0},{"$f":"[1]!PowerMod($A50,AJ$2,$A$2)","v":0},{"$f":"[1]!PowerMod($A50,AK$2,$A$2)","v":0},{"$f":"[1]!PowerMod($A50,AL$2,$A$2)","v":0},{"$f":"[1]!PowerMod($A50,AM$2,$A$2)","v":0},{"$f":"[1]!PowerMod($A50,AN$2,$A$2)","v":0},{"$f":"[1]!PowerMod($A50,AO$2,$A$2)","v":0},{"$f":"[1]!PowerMod($A50,AP$2,$A$2)","v":0},{"$f":"[1]!PowerMod($A50,AQ$2,$A$2)","v":0},{"$f":"[1]!PowerMod($A50,AR$2,$A$2)","v":0},{"$f":"[1]!PowerMod($A50,AS$2,$A$2)","v":0},{"$f":"[1]!PowerMod($A50,AT$2,$A$2)","v":0},{"$f":"[1]!PowerMod($A50,AU$2,$A$2)","v":0},{"$f":"[1]!PowerMod($A50,AV$2,$A$2)","v":0},{"$f":"[1]!PowerMod($A50,AW$2,$A$2)","v":0},{"$f":"[1]!PowerMod($A50,AX$2,$A$2)","v":0},{"$f":"[1]!PowerMod($A50,AY$2,$A$2)","v":0},{"$f":"[1]!PowerMod($A50,AZ$2,$A$2)","v":0},{"$f":"[1]!PowerMod($A50,BA$2,$A$2)","v":0},{"$f":"[1]!PowerMod($A50,BB$2,$A$2)","v":0},{"$f":"[1]!PowerMod($A50,BC$2,$A$2)","v":0},{"$f":"[1]!PowerMod($A50,BD$2,$A$2)","v":0},{"$f":"[1]!PowerMod($A50,BE$2,$A$2)","v":0},{"$f":"[1]!PowerMod($A50,BF$2,$A$2)","v":0},{"$f":"[1]!PowerMod($A50,BG$2,$A$2)","v":0},{"$f":"[1]!PowerMod($A50,BH$2,$A$2)","v":0},{"$f":"[1]!PowerMod($A50,BI$2,$A$2)","v":0},{"$f":"[1]!PowerMod($A50,BJ$2,$A$2)","v":0},{"$f":"[1]!PowerMod($A50,BK$2,$A$2)","v":0},{"$f":"[1]!PowerMod($A50,BL$2,$A$2)","v":0},{"$f":"[1]!PowerMod($A50,BM$2,$A$2)","v":0},{"$f":"[1]!PowerMod($A50,BN$2,$A$2)","v":0},{"$f":"[1]!PowerMod($A50,BO$2,$A$2)","v":0},{"$f":"[1]!PowerMod($A50,BP$2,$A$2)","v":0},{"$f":"[1]!PowerMod($A50,BQ$2,$A$2)","v":0},{"$f":"[1]!PowerMod($A50,BR$2,$A$2)","v":0},{"$f":"[1]!PowerMod($A50,BS$2,$A$2)","v":0},{"$f":"[1]!PowerMod($A50,BT$2,$A$2)","v":0}]
[49,{"$f":"[1]!PowerMod($A51,B$2,$A$2)","v":22},{"$f":"[1]!PowerMod($A51,C$2,$A$2)","v":25},{"$f":"[1]!PowerMod($A51,D$2,$A$2)","v":10},{"$f":"[1]!PowerMod($A51,E$2,$A$2)","v":4},{"$f":"[1]!PowerMod($A51,F$2,$A$2)","v":7},{"$f":"[1]!PowerMod($A51,G$2,$A$2)","v":19},{"$f":"[1]!PowerMod($A51,H$2,$A$2)","v":13},{"$f":"[1]!PowerMod($A51,I$2,$A$2)","v":16},{"$f":"[1]!PowerMod($A51,J$2,$A$2)","v":1},{"$f":"[1]!PowerMod($A51,K$2,$A$2)","v":22},{"$f":"[1]!PowerMod($A51,L$2,$A$2)","v":25},{"$f":"[1]!PowerMod($A51,M$2,$A$2)","v":10},{"$f":"[1]!PowerMod($A51,N$2,$A$2)","v":4},{"$f":"[1]!PowerMod($A51,O$2,$A$2)","v":7},{"$f":"[1]!PowerMod($A51,P$2,$A$2)","v":19},{"$f":"[1]!PowerMod($A51,Q$2,$A$2)","v":13},{"$f":"[1]!PowerMod($A51,R$2,$A$2)","v":16},{"$f":"[1]!PowerMod($A51,S$2,$A$2)","v":1},{"$f":"[1]!PowerMod($A51,T$2,$A$2)","v":22},{"$f":"[1]!PowerMod($A51,U$2,$A$2)","v":25},{"$f":"[1]!PowerMod($A51,V$2,$A$2)","v":10},{"$f":"[1]!PowerMod($A51,W$2,$A$2)","v":4},{"$f":"[1]!PowerMod($A51,X$2,$A$2)","v":7},{"$f":"[1]!PowerMod($A51,Y$2,$A$2)","v":19},{"$f":"[1]!PowerMod($A51,Z$2,$A$2)","v":13},{"$f":"[1]!PowerMod($A51,AA$2,$A$2)","v":16},{"$f":"[1]!PowerMod($A51,AB$2,$A$2)","v":1},{"$f":"[1]!PowerMod($A51,AC$2,$A$2)","v":22},{"$f":"[1]!PowerMod($A51,AD$2,$A$2)","v":25},{"$f":"[1]!PowerMod($A51,AE$2,$A$2)","v":10},{"$f":"[1]!PowerMod($A51,AF$2,$A$2)","v":4},{"$f":"[1]!PowerMod($A51,AG$2,$A$2)","v":7},{"$f":"[1]!PowerMod($A51,AH$2,$A$2)","v":19},{"$f":"[1]!PowerMod($A51,AI$2,$A$2)","v":13},{"$f":"[1]!PowerMod($A51,AJ$2,$A$2)","v":16},{"$f":"[1]!PowerMod($A51,AK$2,$A$2)","v":1},{"$f":"[1]!PowerMod($A51,AL$2,$A$2)","v":22},{"$f":"[1]!PowerMod($A51,AM$2,$A$2)","v":25},{"$f":"[1]!PowerMod($A51,AN$2,$A$2)","v":10},{"$f":"[1]!PowerMod($A51,AO$2,$A$2)","v":4},{"$f":"[1]!PowerMod($A51,AP$2,$A$2)","v":7},{"$f":"[1]!PowerMod($A51,AQ$2,$A$2)","v":19},{"$f":"[1]!PowerMod($A51,AR$2,$A$2)","v":13},{"$f":"[1]!PowerMod($A51,AS$2,$A$2)","v":16},{"$f":"[1]!PowerMod($A51,AT$2,$A$2)","v":1},{"$f":"[1]!PowerMod($A51,AU$2,$A$2)","v":22},{"$f":"[1]!PowerMod($A51,AV$2,$A$2)","v":25},{"$f":"[1]!PowerMod($A51,AW$2,$A$2)","v":10},{"$f":"[1]!PowerMod($A51,AX$2,$A$2)","v":4},{"$f":"[1]!PowerMod($A51,AY$2,$A$2)","v":7},{"$f":"[1]!PowerMod($A51,AZ$2,$A$2)","v":19},{"$f":"[1]!PowerMod($A51,BA$2,$A$2)","v":13},{"$f":"[1]!PowerMod($A51,BB$2,$A$2)","v":16},{"$f":"[1]!PowerMod($A51,BC$2,$A$2)","v":1},{"$f":"[1]!PowerMod($A51,BD$2,$A$2)","v":22},{"$f":"[1]!PowerMod($A51,BE$2,$A$2)","v":25},{"$f":"[1]!PowerMod($A51,BF$2,$A$2)","v":10},{"$f":"[1]!PowerMod($A51,BG$2,$A$2)","v":4},{"$f":"[1]!PowerMod($A51,BH$2,$A$2)","v":7},{"$f":"[1]!PowerMod($A51,BI$2,$A$2)","v":19},{"$f":"[1]!PowerMod($A51,BJ$2,$A$2)","v":13},{"$f":"[1]!PowerMod($A51,BK$2,$A$2)","v":16},{"$f":"[1]!PowerMod($A51,BL$2,$A$2)","v":1},{"$f":"[1]!PowerMod($A51,BM$2,$A$2)","v":22},{"$f":"[1]!PowerMod($A51,BN$2,$A$2)","v":25},{"$f":"[1]!PowerMod($A51,BO$2,$A$2)","v":10},{"$f":"[1]!PowerMod($A51,BP$2,$A$2)","v":4},{"$f":"[1]!PowerMod($A51,BQ$2,$A$2)","v":7},{"$f":"[1]!PowerMod($A51,BR$2,$A$2)","v":19},{"$f":"[1]!PowerMod($A51,BS$2,$A$2)","v":13},{"$f":"[1]!PowerMod($A51,BT$2,$A$2)","v":16}]
[50,{"$f":"[1]!PowerMod($A52,B$2,$A$2)","v":23},{"$f":"[1]!PowerMod($A52,C$2,$A$2)","v":16},{"$f":"[1]!PowerMod($A52,D$2,$A$2)","v":17},{"$f":"[1]!PowerMod($A52,E$2,$A$2)","v":13},{"$f":"[1]!PowerMod($A52,F$2,$A$2)","v":2},{"$f":"[1]!PowerMod($A52,G$2,$A$2)","v":19},{"$f":"[1]!PowerMod($A52,H$2,$A$2)","v":5},{"$f":"[1]!PowerMod($A52,I$2,$A$2)","v":7},{"$f":"[1]!PowerMod($A52,J$2,$A$2)","v":26},{"$f":"[1]!PowerMod($A52,K$2,$A$2)","v":4},{"$f":"[1]!PowerMod($A52,L$2,$A$2)","v":11},{"$f":"[1]!PowerMod($A52,M$2,$A$2)","v":10},{"$f":"[1]!PowerMod($A52,N$2,$A$2)","v":14},{"$f":"[1]!PowerMod($A52,O$2,$A$2)","v":25},{"$f":"[1]!PowerMod($A52,P$2,$A$2)","v":8},{"$f":"[1]!PowerMod($A52,Q$2,$A$2)","v":22},{"$f":"[1]!PowerMod($A52,R$2,$A$2)","v":20},{"$f":"[1]!PowerMod($A52,S$2,$A$2)","v":1},{"$f":"[1]!PowerMod($A52,T$2,$A$2)","v":23},{"$f":"[1]!PowerMod($A52,U$2,$A$2)","v":16},{"$f":"[1]!PowerMod($A52,V$2,$A$2)","v":17},{"$f":"[1]!PowerMod($A52,W$2,$A$2)","v":13},{"$f":"[1]!PowerMod($A52,X$2,$A$2)","v":2},{"$f":"[1]!PowerMod($A52,Y$2,$A$2)","v":19},{"$f":"[1]!PowerMod($A52,Z$2,$A$2)","v":5},{"$f":"[1]!PowerMod($A52,AA$2,$A$2)","v":7},{"$f":"[1]!PowerMod($A52,AB$2,$A$2)","v":26},{"$f":"[1]!PowerMod($A52,AC$2,$A$2)","v":4},{"$f":"[1]!PowerMod($A52,AD$2,$A$2)","v":11},{"$f":"[1]!PowerMod($A52,AE$2,$A$2)","v":10},{"$f":"[1]!PowerMod($A52,AF$2,$A$2)","v":14},{"$f":"[1]!PowerMod($A52,AG$2,$A$2)","v":25},{"$f":"[1]!PowerMod($A52,AH$2,$A$2)","v":8},{"$f":"[1]!PowerMod($A52,AI$2,$A$2)","v":22},{"$f":"[1]!PowerMod($A52,AJ$2,$A$2)","v":20},{"$f":"[1]!PowerMod($A52,AK$2,$A$2)","v":1},{"$f":"[1]!PowerMod($A52,AL$2,$A$2)","v":23},{"$f":"[1]!PowerMod($A52,AM$2,$A$2)","v":16},{"$f":"[1]!PowerMod($A52,AN$2,$A$2)","v":17},{"$f":"[1]!PowerMod($A52,AO$2,$A$2)","v":13},{"$f":"[1]!PowerMod($A52,AP$2,$A$2)","v":2},{"$f":"[1]!PowerMod($A52,AQ$2,$A$2)","v":19},{"$f":"[1]!PowerMod($A52,AR$2,$A$2)","v":5},{"$f":"[1]!PowerMod($A52,AS$2,$A$2)","v":7},{"$f":"[1]!PowerMod($A52,AT$2,$A$2)","v":26},{"$f":"[1]!PowerMod($A52,AU$2,$A$2)","v":4},{"$f":"[1]!PowerMod($A52,AV$2,$A$2)","v":11},{"$f":"[1]!PowerMod($A52,AW$2,$A$2)","v":10},{"$f":"[1]!PowerMod($A52,AX$2,$A$2)","v":14},{"$f":"[1]!PowerMod($A52,AY$2,$A$2)","v":25},{"$f":"[1]!PowerMod($A52,AZ$2,$A$2)","v":8},{"$f":"[1]!PowerMod($A52,BA$2,$A$2)","v":22},{"$f":"[1]!PowerMod($A52,BB$2,$A$2)","v":20},{"$f":"[1]!PowerMod($A52,BC$2,$A$2)","v":1},{"$f":"[1]!PowerMod($A52,BD$2,$A$2)","v":23},{"$f":"[1]!PowerMod($A52,BE$2,$A$2)","v":16},{"$f":"[1]!PowerMod($A52,BF$2,$A$2)","v":17},{"$f":"[1]!PowerMod($A52,BG$2,$A$2)","v":13},{"$f":"[1]!PowerMod($A52,BH$2,$A$2)","v":2},{"$f":"[1]!PowerMod($A52,BI$2,$A$2)","v":19},{"$f":"[1]!PowerMod($A52,BJ$2,$A$2)","v":5},{"$f":"[1]!PowerMod($A52,BK$2,$A$2)","v":7},{"$f":"[1]!PowerMod($A52,BL$2,$A$2)","v":26},{"$f":"[1]!PowerMod($A52,BM$2,$A$2)","v":4},{"$f":"[1]!PowerMod($A52,BN$2,$A$2)","v":11},{"$f":"[1]!PowerMod($A52,BO$2,$A$2)","v":10},{"$f":"[1]!PowerMod($A52,BP$2,$A$2)","v":14},{"$f":"[1]!PowerMod($A52,BQ$2,$A$2)","v":25},{"$f":"[1]!PowerMod($A52,BR$2,$A$2)","v":8},{"$f":"[1]!PowerMod($A52,BS$2,$A$2)","v":22},{"$f":"[1]!PowerMod($A52,BT$2,$A$2)","v":20}]
[51,{"$f":"[1]!PowerMod($A53,B$2,$A$2)","v":24},{"$f":"[1]!PowerMod($A53,C$2,$A$2)","v":9},{"$f":"[1]!PowerMod($A53,D$2,$A$2)","v":0},{"$f":"[1]!PowerMod($A53,E$2,$A$2)","v":0},{"$f":"[1]!PowerMod($A53,F$2,$A$2)","v":0},{"$f":"[1]!PowerMod($A53,G$2,$A$2)","v":0},{"$f":"[1]!PowerMod($A53,H$2,$A$2)","v":0},{"$f":"[1]!PowerMod($A53,I$2,$A$2)","v":0},{"$f":"[1]!PowerMod($A53,J$2,$A$2)","v":0},{"$f":"[1]!PowerMod($A53,K$2,$A$2)","v":0},{"$f":"[1]!PowerMod($A53,L$2,$A$2)","v":0},{"$f":"[1]!PowerMod($A53,M$2,$A$2)","v":0},{"$f":"[1]!PowerMod($A53,N$2,$A$2)","v":0},{"$f":"[1]!PowerMod($A53,O$2,$A$2)","v":0},{"$f":"[1]!PowerMod($A53,P$2,$A$2)","v":0},{"$f":"[1]!PowerMod($A53,Q$2,$A$2)","v":0},{"$f":"[1]!PowerMod($A53,R$2,$A$2)","v":0},{"$f":"[1]!PowerMod($A53,S$2,$A$2)","v":0},{"$f":"[1]!PowerMod($A53,T$2,$A$2)","v":0},{"$f":"[1]!PowerMod($A53,U$2,$A$2)","v":0},{"$f":"[1]!PowerMod($A53,V$2,$A$2)","v":0},{"$f":"[1]!PowerMod($A53,W$2,$A$2)","v":0},{"$f":"[1]!PowerMod($A53,X$2,$A$2)","v":0},{"$f":"[1]!PowerMod($A53,Y$2,$A$2)","v":0},{"$f":"[1]!PowerMod($A53,Z$2,$A$2)","v":0},{"$f":"[1]!PowerMod($A53,AA$2,$A$2)","v":0},{"$f":"[1]!PowerMod($A53,AB$2,$A$2)","v":0},{"$f":"[1]!PowerMod($A53,AC$2,$A$2)","v":0},{"$f":"[1]!PowerMod($A53,AD$2,$A$2)","v":0},{"$f":"[1]!PowerMod($A53,AE$2,$A$2)","v":0},{"$f":"[1]!PowerMod($A53,AF$2,$A$2)","v":0},{"$f":"[1]!PowerMod($A53,AG$2,$A$2)","v":0},{"$f":"[1]!PowerMod($A53,AH$2,$A$2)","v":0},{"$f":"[1]!PowerMod($A53,AI$2,$A$2)","v":0},{"$f":"[1]!PowerMod($A53,AJ$2,$A$2)","v":0},{"$f":"[1]!PowerMod($A53,AK$2,$A$2)","v":0},{"$f":"[1]!PowerMod($A53,AL$2,$A$2)","v":0},{"$f":"[1]!PowerMod($A53,AM$2,$A$2)","v":0},{"$f":"[1]!PowerMod($A53,AN$2,$A$2)","v":0},{"$f":"[1]!PowerMod($A53,AO$2,$A$2)","v":0},{"$f":"[1]!PowerMod($A53,AP$2,$A$2)","v":0},{"$f":"[1]!PowerMod($A53,AQ$2,$A$2)","v":0},{"$f":"[1]!PowerMod($A53,AR$2,$A$2)","v":0},{"$f":"[1]!PowerMod($A53,AS$2,$A$2)","v":0},{"$f":"[1]!PowerMod($A53,AT$2,$A$2)","v":0},{"$f":"[1]!PowerMod($A53,AU$2,$A$2)","v":0},{"$f":"[1]!PowerMod($A53,AV$2,$A$2)","v":0},{"$f":"[1]!PowerMod($A53,AW$2,$A$2)","v":0},{"$f":"[1]!PowerMod($A53,AX$2,$A$2)","v":0},{"$f":"[1]!PowerMod($A53,AY$2,$A$2)","v":0},{"$f":"[1]!PowerMod($A53,AZ$2,$A$2)","v":0},{"$f":"[1]!PowerMod($A53,BA$2,$A$2)","v":0},{"$f":"[1]!PowerMod($A53,BB$2,$A$2)","v":0},{"$f":"[1]!PowerMod($A53,BC$2,$A$2)","v":0},{"$f":"[1]!PowerMod($A53,BD$2,$A$2)","v":0},{"$f":"[1]!PowerMod($A53,BE$2,$A$2)","v":0},{"$f":"[1]!PowerMod($A53,BF$2,$A$2)","v":0},{"$f":"[1]!PowerMod($A53,BG$2,$A$2)","v":0},{"$f":"[1]!PowerMod($A53,BH$2,$A$2)","v":0},{"$f":"[1]!PowerMod($A53,BI$2,$A$2)","v":0},{"$f":"[1]!PowerMod($A53,BJ$2,$A$2)","v":0},{"$f":"[1]!PowerMod($A53,BK$2,$A$2)","v":0},{"$f":"[1]!PowerMod($A53,BL$2,$A$2)","v":0},{"$f":"[1]!PowerMod($A53,BM$2,$A$2)","v":0},{"$f":"[1]!PowerMod($A53,BN$2,$A$2)","v":0},{"$f":"[1]!PowerMod($A53,BO$2,$A$2)","v":0},{"$f":"[1]!PowerMod($A53,BP$2,$A$2)","v":0},{"$f":"[1]!PowerMod($A53,BQ$2,$A$2)","v":0},{"$f":"[1]!PowerMod($A53,BR$2,$A$2)","v":0},{"$f":"[1]!PowerMod($A53,BS$2,$A$2)","v":0},{"$f":"[1]!PowerMod($A53,BT$2,$A$2)","v":0}]
[52,{"$f":"[1]!PowerMod($A54,B$2,$A$2)","v":25},{"$f":"[1]!PowerMod($A54,C$2,$A$2)","v":4},{"$f":"[1]!PowerMod($A54,D$2,$A$2)","v":19},{"$f":"[1]!PowerMod($A54,E$2,$A$2)","v":16},{"$f":"[1]!PowerMod($A54,F$2,$A$2)","v":22},{"$f":"[1]!PowerMod($A54,G$2,$A$2)","v":10},{"$f":"[1]!PowerMod($A54,H$2,$A$2)","v":7},{"$f":"[1]!PowerMod($A54,I$2,$A$2)","v":13},{"$f":"[1]!PowerMod($A54,J$2,$A$2)","v":1},{"$f":"[1]!PowerMod($A54,K$2,$A$2)","v":25},{"$f":"[1]!PowerMod($A54,L$2,$A$2)","v":4},{"$f":"[1]!PowerMod($A54,M$2,$A$2)","v":19},{"$f":"[1]!PowerMod($A54,N$2,$A$2)","v":16},{"$f":"[1]!PowerMod($A54,O$2,$A$2)","v":22},{"$f":"[1]!PowerMod($A54,P$2,$A$2)","v":10},{"$f":"[1]!PowerMod($A54,Q$2,$A$2)","v":7},{"$f":"[1]!PowerMod($A54,R$2,$A$2)","v":13},{"$f":"[1]!PowerMod($A54,S$2,$A$2)","v":1},{"$f":"[1]!PowerMod($A54,T$2,$A$2)","v":25},{"$f":"[1]!PowerMod($A54,U$2,$A$2)","v":4},{"$f":"[1]!PowerMod($A54,V$2,$A$2)","v":19},{"$f":"[1]!PowerMod($A54,W$2,$A$2)","v":16},{"$f":"[1]!PowerMod($A54,X$2,$A$2)","v":22},{"$f":"[1]!PowerMod($A54,Y$2,$A$2)","v":10},{"$f":"[1]!PowerMod($A54,Z$2,$A$2)","v":7},{"$f":"[1]!PowerMod($A54,AA$2,$A$2)","v":13},{"$f":"[1]!PowerMod($A54,AB$2,$A$2)","v":1},{"$f":"[1]!PowerMod($A54,AC$2,$A$2)","v":25},{"$f":"[1]!PowerMod($A54,AD$2,$A$2)","v":4},{"$f":"[1]!PowerMod($A54,AE$2,$A$2)","v":19},{"$f":"[1]!PowerMod($A54,AF$2,$A$2)","v":16},{"$f":"[1]!PowerMod($A54,AG$2,$A$2)","v":22},{"$f":"[1]!PowerMod($A54,AH$2,$A$2)","v":10},{"$f":"[1]!PowerMod($A54,AI$2,$A$2)","v":7},{"$f":"[1]!PowerMod($A54,AJ$2,$A$2)","v":13},{"$f":"[1]!PowerMod($A54,AK$2,$A$2)","v":1},{"$f":"[1]!PowerMod($A54,AL$2,$A$2)","v":25},{"$f":"[1]!PowerMod($A54,AM$2,$A$2)","v":4},{"$f":"[1]!PowerMod($A54,AN$2,$A$2)","v":19},{"$f":"[1]!PowerMod($A54,AO$2,$A$2)","v":16},{"$f":"[1]!PowerMod($A54,AP$2,$A$2)","v":22},{"$f":"[1]!PowerMod($A54,AQ$2,$A$2)","v":10},{"$f":"[1]!PowerMod($A54,AR$2,$A$2)","v":7},{"$f":"[1]!PowerMod($A54,AS$2,$A$2)","v":13},{"$f":"[1]!PowerMod($A54,AT$2,$A$2)","v":1},{"$f":"[1]!PowerMod($A54,AU$2,$A$2)","v":25},{"$f":"[1]!PowerMod($A54,AV$2,$A$2)","v":4},{"$f":"[1]!PowerMod($A54,AW$2,$A$2)","v":19},{"$f":"[1]!PowerMod($A54,AX$2,$A$2)","v":16},{"$f":"[1]!PowerMod($A54,AY$2,$A$2)","v":22},{"$f":"[1]!PowerMod($A54,AZ$2,$A$2)","v":10},{"$f":"[1]!PowerMod($A54,BA$2,$A$2)","v":7},{"$f":"[1]!PowerMod($A54,BB$2,$A$2)","v":13},{"$f":"[1]!PowerMod($A54,BC$2,$A$2)","v":1},{"$f":"[1]!PowerMod($A54,BD$2,$A$2)","v":25},{"$f":"[1]!PowerMod($A54,BE$2,$A$2)","v":4},{"$f":"[1]!PowerMod($A54,BF$2,$A$2)","v":19},{"$f":"[1]!PowerMod($A54,BG$2,$A$2)","v":16},{"$f":"[1]!PowerMod($A54,BH$2,$A$2)","v":22},{"$f":"[1]!PowerMod($A54,BI$2,$A$2)","v":10},{"$f":"[1]!PowerMod($A54,BJ$2,$A$2)","v":7},{"$f":"[1]!PowerMod($A54,BK$2,$A$2)","v":13},{"$f":"[1]!PowerMod($A54,BL$2,$A$2)","v":1},{"$f":"[1]!PowerMod($A54,BM$2,$A$2)","v":25},{"$f":"[1]!PowerMod($A54,BN$2,$A$2)","v":4},{"$f":"[1]!PowerMod($A54,BO$2,$A$2)","v":19},{"$f":"[1]!PowerMod($A54,BP$2,$A$2)","v":16},{"$f":"[1]!PowerMod($A54,BQ$2,$A$2)","v":22},{"$f":"[1]!PowerMod($A54,BR$2,$A$2)","v":10},{"$f":"[1]!PowerMod($A54,BS$2,$A$2)","v":7},{"$f":"[1]!PowerMod($A54,BT$2,$A$2)","v":13}]
[53,{"$f":"[1]!PowerMod($A55,B$2,$A$2)","v":26},{"$f":"[1]!PowerMod($A55,C$2,$A$2)","v":1},{"$f":"[1]!PowerMod($A55,D$2,$A$2)","v":26},{"$f":"[1]!PowerMod($A55,E$2,$A$2)","v":1},{"$f":"[1]!PowerMod($A55,F$2,$A$2)","v":26},{"$f":"[1]!PowerMod($A55,G$2,$A$2)","v":1},{"$f":"[1]!PowerMod($A55,H$2,$A$2)","v":26},{"$f":"[1]!PowerMod($A55,I$2,$A$2)","v":1},{"$f":"[1]!PowerMod($A55,J$2,$A$2)","v":26},{"$f":"[1]!PowerMod($A55,K$2,$A$2)","v":1},{"$f":"[1]!PowerMod($A55,L$2,$A$2)","v":26},{"$f":"[1]!PowerMod($A55,M$2,$A$2)","v":1},{"$f":"[1]!PowerMod($A55,N$2,$A$2)","v":26},{"$f":"[1]!PowerMod($A55,O$2,$A$2)","v":1},{"$f":"[1]!PowerMod($A55,P$2,$A$2)","v":26},{"$f":"[1]!PowerMod($A55,Q$2,$A$2)","v":1},{"$f":"[1]!PowerMod($A55,R$2,$A$2)","v":26},{"$f":"[1]!PowerMod($A55,S$2,$A$2)","v":1},{"$f":"[1]!PowerMod($A55,T$2,$A$2)","v":26},{"$f":"[1]!PowerMod($A55,U$2,$A$2)","v":1},{"$f":"[1]!PowerMod($A55,V$2,$A$2)","v":26},{"$f":"[1]!PowerMod($A55,W$2,$A$2)","v":1},{"$f":"[1]!PowerMod($A55,X$2,$A$2)","v":26},{"$f":"[1]!PowerMod($A55,Y$2,$A$2)","v":1},{"$f":"[1]!PowerMod($A55,Z$2,$A$2)","v":26},{"$f":"[1]!PowerMod($A55,AA$2,$A$2)","v":1},{"$f":"[1]!PowerMod($A55,AB$2,$A$2)","v":26},{"$f":"[1]!PowerMod($A55,AC$2,$A$2)","v":1},{"$f":"[1]!PowerMod($A55,AD$2,$A$2)","v":26},{"$f":"[1]!PowerMod($A55,AE$2,$A$2)","v":1},{"$f":"[1]!PowerMod($A55,AF$2,$A$2)","v":26},{"$f":"[1]!PowerMod($A55,AG$2,$A$2)","v":1},{"$f":"[1]!PowerMod($A55,AH$2,$A$2)","v":26},{"$f":"[1]!PowerMod($A55,AI$2,$A$2)","v":1},{"$f":"[1]!PowerMod($A55,AJ$2,$A$2)","v":26},{"$f":"[1]!PowerMod($A55,AK$2,$A$2)","v":1},{"$f":"[1]!PowerMod($A55,AL$2,$A$2)","v":26},{"$f":"[1]!PowerMod($A55,AM$2,$A$2)","v":1},{"$f":"[1]!PowerMod($A55,AN$2,$A$2)","v":26},{"$f":"[1]!PowerMod($A55,AO$2,$A$2)","v":1},{"$f":"[1]!PowerMod($A55,AP$2,$A$2)","v":26},{"$f":"[1]!PowerMod($A55,AQ$2,$A$2)","v":1},{"$f":"[1]!PowerMod($A55,AR$2,$A$2)","v":26},{"$f":"[1]!PowerMod($A55,AS$2,$A$2)","v":1},{"$f":"[1]!PowerMod($A55,AT$2,$A$2)","v":26},{"$f":"[1]!PowerMod($A55,AU$2,$A$2)","v":1},{"$f":"[1]!PowerMod($A55,AV$2,$A$2)","v":26},{"$f":"[1]!PowerMod($A55,AW$2,$A$2)","v":1},{"$f":"[1]!PowerMod($A55,AX$2,$A$2)","v":26},{"$f":"[1]!PowerMod($A55,AY$2,$A$2)","v":1},{"$f":"[1]!PowerMod($A55,AZ$2,$A$2)","v":26},{"$f":"[1]!PowerMod($A55,BA$2,$A$2)","v":1},{"$f":"[1]!PowerMod($A55,BB$2,$A$2)","v":26},{"$f":"[1]!PowerMod($A55,BC$2,$A$2)","v":1},{"$f":"[1]!PowerMod($A55,BD$2,$A$2)","v":26},{"$f":"[1]!PowerMod($A55,BE$2,$A$2)","v":1},{"$f":"[1]!PowerMod($A55,BF$2,$A$2)","v":26},{"$f":"[1]!PowerMod($A55,BG$2,$A$2)","v":1},{"$f":"[1]!PowerMod($A55,BH$2,$A$2)","v":26},{"$f":"[1]!PowerMod($A55,BI$2,$A$2)","v":1},{"$f":"[1]!PowerMod($A55,BJ$2,$A$2)","v":26},{"$f":"[1]!PowerMod($A55,BK$2,$A$2)","v":1},{"$f":"[1]!PowerMod($A55,BL$2,$A$2)","v":26},{"$f":"[1]!PowerMod($A55,BM$2,$A$2)","v":1},{"$f":"[1]!PowerMod($A55,BN$2,$A$2)","v":26},{"$f":"[1]!PowerMod($A55,BO$2,$A$2)","v":1},{"$f":"[1]!PowerMod($A55,BP$2,$A$2)","v":26},{"$f":"[1]!PowerMod($A55,BQ$2,$A$2)","v":1},{"$f":"[1]!PowerMod($A55,BR$2,$A$2)","v":26},{"$f":"[1]!PowerMod($A55,BS$2,$A$2)","v":1},{"$f":"[1]!PowerMod($A55,BT$2,$A$2)","v":26}]
[54,{"$f":"[1]!PowerMod($A56,B$2,$A$2)","v":0},{"$f":"[1]!PowerMod($A56,C$2,$A$2)","v":0},{"$f":"[1]!PowerMod($A56,D$2,$A$2)","v":0},{"$f":"[1]!PowerMod($A56,E$2,$A$2)","v":0},{"$f":"[1]!PowerMod($A56,F$2,$A$2)","v":0},{"$f":"[1]!PowerMod($A56,G$2,$A$2)","v":0},{"$f":"[1]!PowerMod($A56,H$2,$A$2)","v":0},{"$f":"[1]!PowerMod($A56,I$2,$A$2)","v":0},{"$f":"[1]!PowerMod($A56,J$2,$A$2)","v":0},{"$f":"[1]!PowerMod($A56,K$2,$A$2)","v":0},{"$f":"[1]!PowerMod($A56,L$2,$A$2)","v":0},{"$f":"[1]!PowerMod($A56,M$2,$A$2)","v":0},{"$f":"[1]!PowerMod($A56,N$2,$A$2)","v":0},{"$f":"[1]!PowerMod($A56,O$2,$A$2)","v":0},{"$f":"[1]!PowerMod($A56,P$2,$A$2)","v":0},{"$f":"[1]!PowerMod($A56,Q$2,$A$2)","v":0},{"$f":"[1]!PowerMod($A56,R$2,$A$2)","v":0},{"$f":"[1]!PowerMod($A56,S$2,$A$2)","v":0},{"$f":"[1]!PowerMod($A56,T$2,$A$2)","v":0},{"$f":"[1]!PowerMod($A56,U$2,$A$2)","v":0},{"$f":"[1]!PowerMod($A56,V$2,$A$2)","v":0},{"$f":"[1]!PowerMod($A56,W$2,$A$2)","v":0},{"$f":"[1]!PowerMod($A56,X$2,$A$2)","v":0},{"$f":"[1]!PowerMod($A56,Y$2,$A$2)","v":0},{"$f":"[1]!PowerMod($A56,Z$2,$A$2)","v":0},{"$f":"[1]!PowerMod($A56,AA$2,$A$2)","v":0},{"$f":"[1]!PowerMod($A56,AB$2,$A$2)","v":0},{"$f":"[1]!PowerMod($A56,AC$2,$A$2)","v":0},{"$f":"[1]!PowerMod($A56,AD$2,$A$2)","v":0},{"$f":"[1]!PowerMod($A56,AE$2,$A$2)","v":0},{"$f":"[1]!PowerMod($A56,AF$2,$A$2)","v":0},{"$f":"[1]!PowerMod($A56,AG$2,$A$2)","v":0},{"$f":"[1]!PowerMod($A56,AH$2,$A$2)","v":0},{"$f":"[1]!PowerMod($A56,AI$2,$A$2)","v":0},{"$f":"[1]!PowerMod($A56,AJ$2,$A$2)","v":0},{"$f":"[1]!PowerMod($A56,AK$2,$A$2)","v":0},{"$f":"[1]!PowerMod($A56,AL$2,$A$2)","v":0},{"$f":"[1]!PowerMod($A56,AM$2,$A$2)","v":0},{"$f":"[1]!PowerMod($A56,AN$2,$A$2)","v":0},{"$f":"[1]!PowerMod($A56,AO$2,$A$2)","v":0},{"$f":"[1]!PowerMod($A56,AP$2,$A$2)","v":0},{"$f":"[1]!PowerMod($A56,AQ$2,$A$2)","v":0},{"$f":"[1]!PowerMod($A56,AR$2,$A$2)","v":0},{"$f":"[1]!PowerMod($A56,AS$2,$A$2)","v":0},{"$f":"[1]!PowerMod($A56,AT$2,$A$2)","v":0},{"$f":"[1]!PowerMod($A56,AU$2,$A$2)","v":0},{"$f":"[1]!PowerMod($A56,AV$2,$A$2)","v":0},{"$f":"[1]!PowerMod($A56,AW$2,$A$2)","v":0},{"$f":"[1]!PowerMod($A56,AX$2,$A$2)","v":0},{"$f":"[1]!PowerMod($A56,AY$2,$A$2)","v":0},{"$f":"[1]!PowerMod($A56,AZ$2,$A$2)","v":0},{"$f":"[1]!PowerMod($A56,BA$2,$A$2)","v":0},{"$f":"[1]!PowerMod($A56,BB$2,$A$2)","v":0},{"$f":"[1]!PowerMod($A56,BC$2,$A$2)","v":0},{"$f":"[1]!PowerMod($A56,BD$2,$A$2)","v":0},{"$f":"[1]!PowerMod($A56,BE$2,$A$2)","v":0},{"$f":"[1]!PowerMod($A56,BF$2,$A$2)","v":0},{"$f":"[1]!PowerMod($A56,BG$2,$A$2)","v":0},{"$f":"[1]!PowerMod($A56,BH$2,$A$2)","v":0},{"$f":"[1]!PowerMod($A56,BI$2,$A$2)","v":0},{"$f":"[1]!PowerMod($A56,BJ$2,$A$2)","v":0},{"$f":"[1]!PowerMod($A56,BK$2,$A$2)","v":0},{"$f":"[1]!PowerMod($A56,BL$2,$A$2)","v":0},{"$f":"[1]!PowerMod($A56,BM$2,$A$2)","v":0},{"$f":"[1]!PowerMod($A56,BN$2,$A$2)","v":0},{"$f":"[1]!PowerMod($A56,BO$2,$A$2)","v":0},{"$f":"[1]!PowerMod($A56,BP$2,$A$2)","v":0},{"$f":"[1]!PowerMod($A56,BQ$2,$A$2)","v":0},{"$f":"[1]!PowerMod($A56,BR$2,$A$2)","v":0},{"$f":"[1]!PowerMod($A56,BS$2,$A$2)","v":0},{"$f":"[1]!PowerMod($A56,BT$2,$A$2)","v":0}]
[55,{"$f":"[1]!PowerMod($A57,B$2,$A$2)","v":1},{"$f":"[1]!PowerMod($A57,C$2,$A$2)","v":1},{"$f":"[1]!PowerMod($A57,D$2,$A$2)","v":1},{"$f":"[1]!PowerMod($A57,E$2,$A$2)","v":1},{"$f":"[1]!PowerMod($A57,F$2,$A$2)","v":1},{"$f":"[1]!PowerMod($A57,G$2,$A$2)","v":1},{"$f":"[1]!PowerMod($A57,H$2,$A$2)","v":1},{"$f":"[1]!PowerMod($A57,I$2,$A$2)","v":1},{"$f":"[1]!PowerMod($A57,J$2,$A$2)","v":1},{"$f":"[1]!PowerMod($A57,K$2,$A$2)","v":1},{"$f":"[1]!PowerMod($A57,L$2,$A$2)","v":1},{"$f":"[1]!PowerMod($A57,M$2,$A$2)","v":1},{"$f":"[1]!PowerMod($A57,N$2,$A$2)","v":1},{"$f":"[1]!PowerMod($A57,O$2,$A$2)","v":1},{"$f":"[1]!PowerMod($A57,P$2,$A$2)","v":1},{"$f":"[1]!PowerMod($A57,Q$2,$A$2)","v":1},{"$f":"[1]!PowerMod($A57,R$2,$A$2)","v":1},{"$f":"[1]!PowerMod($A57,S$2,$A$2)","v":1},{"$f":"[1]!PowerMod($A57,T$2,$A$2)","v":1},{"$f":"[1]!PowerMod($A57,U$2,$A$2)","v":1},{"$f":"[1]!PowerMod($A57,V$2,$A$2)","v":1},{"$f":"[1]!PowerMod($A57,W$2,$A$2)","v":1},{"$f":"[1]!PowerMod($A57,X$2,$A$2)","v":1},{"$f":"[1]!PowerMod($A57,Y$2,$A$2)","v":1},{"$f":"[1]!PowerMod($A57,Z$2,$A$2)","v":1},{"$f":"[1]!PowerMod($A57,AA$2,$A$2)","v":1},{"$f":"[1]!PowerMod($A57,AB$2,$A$2)","v":1},{"$f":"[1]!PowerMod($A57,AC$2,$A$2)","v":1},{"$f":"[1]!PowerMod($A57,AD$2,$A$2)","v":1},{"$f":"[1]!PowerMod($A57,AE$2,$A$2)","v":1},{"$f":"[1]!PowerMod($A57,AF$2,$A$2)","v":1},{"$f":"[1]!PowerMod($A57,AG$2,$A$2)","v":1},{"$f":"[1]!PowerMod($A57,AH$2,$A$2)","v":1},{"$f":"[1]!PowerMod($A57,AI$2,$A$2)","v":1},{"$f":"[1]!PowerMod($A57,AJ$2,$A$2)","v":1},{"$f":"[1]!PowerMod($A57,AK$2,$A$2)","v":1},{"$f":"[1]!PowerMod($A57,AL$2,$A$2)","v":1},{"$f":"[1]!PowerMod($A57,AM$2,$A$2)","v":1},{"$f":"[1]!PowerMod($A57,AN$2,$A$2)","v":1},{"$f":"[1]!PowerMod($A57,AO$2,$A$2)","v":1},{"$f":"[1]!PowerMod($A57,AP$2,$A$2)","v":1},{"$f":"[1]!PowerMod($A57,AQ$2,$A$2)","v":1},{"$f":"[1]!PowerMod($A57,AR$2,$A$2)","v":1},{"$f":"[1]!PowerMod($A57,AS$2,$A$2)","v":1},{"$f":"[1]!PowerMod($A57,AT$2,$A$2)","v":1},{"$f":"[1]!PowerMod($A57,AU$2,$A$2)","v":1},{"$f":"[1]!PowerMod($A57,AV$2,$A$2)","v":1},{"$f":"[1]!PowerMod($A57,AW$2,$A$2)","v":1},{"$f":"[1]!PowerMod($A57,AX$2,$A$2)","v":1},{"$f":"[1]!PowerMod($A57,AY$2,$A$2)","v":1},{"$f":"[1]!PowerMod($A57,AZ$2,$A$2)","v":1},{"$f":"[1]!PowerMod($A57,BA$2,$A$2)","v":1},{"$f":"[1]!PowerMod($A57,BB$2,$A$2)","v":1},{"$f":"[1]!PowerMod($A57,BC$2,$A$2)","v":1},{"$f":"[1]!PowerMod($A57,BD$2,$A$2)","v":1},{"$f":"[1]!PowerMod($A57,BE$2,$A$2)","v":1},{"$f":"[1]!PowerMod($A57,BF$2,$A$2)","v":1},{"$f":"[1]!PowerMod($A57,BG$2,$A$2)","v":1},{"$f":"[1]!PowerMod($A57,BH$2,$A$2)","v":1},{"$f":"[1]!PowerMod($A57,BI$2,$A$2)","v":1},{"$f":"[1]!PowerMod($A57,BJ$2,$A$2)","v":1},{"$f":"[1]!PowerMod($A57,BK$2,$A$2)","v":1},{"$f":"[1]!PowerMod($A57,BL$2,$A$2)","v":1},{"$f":"[1]!PowerMod($A57,BM$2,$A$2)","v":1},{"$f":"[1]!PowerMod($A57,BN$2,$A$2)","v":1},{"$f":"[1]!PowerMod($A57,BO$2,$A$2)","v":1},{"$f":"[1]!PowerMod($A57,BP$2,$A$2)","v":1},{"$f":"[1]!PowerMod($A57,BQ$2,$A$2)","v":1},{"$f":"[1]!PowerMod($A57,BR$2,$A$2)","v":1},{"$f":"[1]!PowerMod($A57,BS$2,$A$2)","v":1},{"$f":"[1]!PowerMod($A57,BT$2,$A$2)","v":1}]
[56,{"$f":"[1]!PowerMod($A58,B$2,$A$2)","v":2},{"$f":"[1]!PowerMod($A58,C$2,$A$2)","v":4},{"$f":"[1]!PowerMod($A58,D$2,$A$2)","v":8},{"$f":"[1]!PowerMod($A58,E$2,$A$2)","v":16},{"$f":"[1]!PowerMod($A58,F$2,$A$2)","v":5},{"$f":"[1]!PowerMod($A58,G$2,$A$2)","v":10},{"$f":"[1]!PowerMod($A58,H$2,$A$2)","v":20},{"$f":"[1]!PowerMod($A58,I$2,$A$2)","v":13},{"$f":"[1]!PowerMod($A58,J$2,$A$2)","v":26},{"$f":"[1]!PowerMod($A58,K$2,$A$2)","v":25},{"$f":"[1]!PowerMod($A58,L$2,$A$2)","v":23},{"$f":"[1]!PowerMod($A58,M$2,$A$2)","v":19},{"$f":"[1]!PowerMod($A58,N$2,$A$2)","v":11},{"$f":"[1]!PowerMod($A58,O$2,$A$2)","v":22},{"$f":"[1]!PowerMod($A58,P$2,$A$2)","v":17},{"$f":"[1]!PowerMod($A58,Q$2,$A$2)","v":7},{"$f":"[1]!PowerMod($A58,R$2,$A$2)","v":14},{"$f":"[1]!PowerMod($A58,S$2,$A$2)","v":1},{"$f":"[1]!PowerMod($A58,T$2,$A$2)","v":2},{"$f":"[1]!PowerMod($A58,U$2,$A$2)","v":4},{"$f":"[1]!PowerMod($A58,V$2,$A$2)","v":8},{"$f":"[1]!PowerMod($A58,W$2,$A$2)","v":16},{"$f":"[1]!PowerMod($A58,X$2,$A$2)","v":5},{"$f":"[1]!PowerMod($A58,Y$2,$A$2)","v":10},{"$f":"[1]!PowerMod($A58,Z$2,$A$2)","v":20},{"$f":"[1]!PowerMod($A58,AA$2,$A$2)","v":13},{"$f":"[1]!PowerMod($A58,AB$2,$A$2)","v":26},{"$f":"[1]!PowerMod($A58,AC$2,$A$2)","v":25},{"$f":"[1]!PowerMod($A58,AD$2,$A$2)","v":23},{"$f":"[1]!PowerMod($A58,AE$2,$A$2)","v":19},{"$f":"[1]!PowerMod($A58,AF$2,$A$2)","v":11},{"$f":"[1]!PowerMod($A58,AG$2,$A$2)","v":22},{"$f":"[1]!PowerMod($A58,AH$2,$A$2)","v":17},{"$f":"[1]!PowerMod($A58,AI$2,$A$2)","v":7},{"$f":"[1]!PowerMod($A58,AJ$2,$A$2)","v":14},{"$f":"[1]!PowerMod($A58,AK$2,$A$2)","v":1},{"$f":"[1]!PowerMod($A58,AL$2,$A$2)","v":2},{"$f":"[1]!PowerMod($A58,AM$2,$A$2)","v":4},{"$f":"[1]!PowerMod($A58,AN$2,$A$2)","v":8},{"$f":"[1]!PowerMod($A58,AO$2,$A$2)","v":16},{"$f":"[1]!PowerMod($A58,AP$2,$A$2)","v":5},{"$f":"[1]!PowerMod($A58,AQ$2,$A$2)","v":10},{"$f":"[1]!PowerMod($A58,AR$2,$A$2)","v":20},{"$f":"[1]!PowerMod($A58,AS$2,$A$2)","v":13},{"$f":"[1]!PowerMod($A58,AT$2,$A$2)","v":26},{"$f":"[1]!PowerMod($A58,AU$2,$A$2)","v":25},{"$f":"[1]!PowerMod($A58,AV$2,$A$2)","v":23},{"$f":"[1]!PowerMod($A58,AW$2,$A$2)","v":19},{"$f":"[1]!PowerMod($A58,AX$2,$A$2)","v":11},{"$f":"[1]!PowerMod($A58,AY$2,$A$2)","v":22},{"$f":"[1]!PowerMod($A58,AZ$2,$A$2)","v":17},{"$f":"[1]!PowerMod($A58,BA$2,$A$2)","v":7},{"$f":"[1]!PowerMod($A58,BB$2,$A$2)","v":14},{"$f":"[1]!PowerMod($A58,BC$2,$A$2)","v":1},{"$f":"[1]!PowerMod($A58,BD$2,$A$2)","v":2},{"$f":"[1]!PowerMod($A58,BE$2,$A$2)","v":4},{"$f":"[1]!PowerMod($A58,BF$2,$A$2)","v":8},{"$f":"[1]!PowerMod($A58,BG$2,$A$2)","v":16},{"$f":"[1]!PowerMod($A58,BH$2,$A$2)","v":5},{"$f":"[1]!PowerMod($A58,BI$2,$A$2)","v":10},{"$f":"[1]!PowerMod($A58,BJ$2,$A$2)","v":20},{"$f":"[1]!PowerMod($A58,BK$2,$A$2)","v":13},{"$f":"[1]!PowerMod($A58,BL$2,$A$2)","v":26},{"$f":"[1]!PowerMod($A58,BM$2,$A$2)","v":25},{"$f":"[1]!PowerMod($A58,BN$2,$A$2)","v":23},{"$f":"[1]!PowerMod($A58,BO$2,$A$2)","v":19},{"$f":"[1]!PowerMod($A58,BP$2,$A$2)","v":11},{"$f":"[1]!PowerMod($A58,BQ$2,$A$2)","v":22},{"$f":"[1]!PowerMod($A58,BR$2,$A$2)","v":17},{"$f":"[1]!PowerMod($A58,BS$2,$A$2)","v":7},{"$f":"[1]!PowerMod($A58,BT$2,$A$2)","v":14}]
[57,{"$f":"[1]!PowerMod($A59,B$2,$A$2)","v":3},{"$f":"[1]!PowerMod($A59,C$2,$A$2)","v":9},{"$f":"[1]!PowerMod($A59,D$2,$A$2)","v":0},{"$f":"[1]!PowerMod($A59,E$2,$A$2)","v":0},{"$f":"[1]!PowerMod($A59,F$2,$A$2)","v":0},{"$f":"[1]!PowerMod($A59,G$2,$A$2)","v":0},{"$f":"[1]!PowerMod($A59,H$2,$A$2)","v":0},{"$f":"[1]!PowerMod($A59,I$2,$A$2)","v":0},{"$f":"[1]!PowerMod($A59,J$2,$A$2)","v":0},{"$f":"[1]!PowerMod($A59,K$2,$A$2)","v":0},{"$f":"[1]!PowerMod($A59,L$2,$A$2)","v":0},{"$f":"[1]!PowerMod($A59,M$2,$A$2)","v":0},{"$f":"[1]!PowerMod($A59,N$2,$A$2)","v":0},{"$f":"[1]!PowerMod($A59,O$2,$A$2)","v":0},{"$f":"[1]!PowerMod($A59,P$2,$A$2)","v":0},{"$f":"[1]!PowerMod($A59,Q$2,$A$2)","v":0},{"$f":"[1]!PowerMod($A59,R$2,$A$2)","v":0},{"$f":"[1]!PowerMod($A59,S$2,$A$2)","v":0},{"$f":"[1]!PowerMod($A59,T$2,$A$2)","v":0},{"$f":"[1]!PowerMod($A59,U$2,$A$2)","v":0},{"$f":"[1]!PowerMod($A59,V$2,$A$2)","v":0},{"$f":"[1]!PowerMod($A59,W$2,$A$2)","v":0},{"$f":"[1]!PowerMod($A59,X$2,$A$2)","v":0},{"$f":"[1]!PowerMod($A59,Y$2,$A$2)","v":0},{"$f":"[1]!PowerMod($A59,Z$2,$A$2)","v":0},{"$f":"[1]!PowerMod($A59,AA$2,$A$2)","v":0},{"$f":"[1]!PowerMod($A59,AB$2,$A$2)","v":0},{"$f":"[1]!PowerMod($A59,AC$2,$A$2)","v":0},{"$f":"[1]!PowerMod($A59,AD$2,$A$2)","v":0},{"$f":"[1]!PowerMod($A59,AE$2,$A$2)","v":0},{"$f":"[1]!PowerMod($A59,AF$2,$A$2)","v":0},{"$f":"[1]!PowerMod($A59,AG$2,$A$2)","v":0},{"$f":"[1]!PowerMod($A59,AH$2,$A$2)","v":0},{"$f":"[1]!PowerMod($A59,AI$2,$A$2)","v":0},{"$f":"[1]!PowerMod($A59,AJ$2,$A$2)","v":0},{"$f":"[1]!PowerMod($A59,AK$2,$A$2)","v":0},{"$f":"[1]!PowerMod($A59,AL$2,$A$2)","v":0},{"$f":"[1]!PowerMod($A59,AM$2,$A$2)","v":0},{"$f":"[1]!PowerMod($A59,AN$2,$A$2)","v":0},{"$f":"[1]!PowerMod($A59,AO$2,$A$2)","v":0},{"$f":"[1]!PowerMod($A59,AP$2,$A$2)","v":0},{"$f":"[1]!PowerMod($A59,AQ$2,$A$2)","v":0},{"$f":"[1]!PowerMod($A59,AR$2,$A$2)","v":0},{"$f":"[1]!PowerMod($A59,AS$2,$A$2)","v":0},{"$f":"[1]!PowerMod($A59,AT$2,$A$2)","v":0},{"$f":"[1]!PowerMod($A59,AU$2,$A$2)","v":0},{"$f":"[1]!PowerMod($A59,AV$2,$A$2)","v":0},{"$f":"[1]!PowerMod($A59,AW$2,$A$2)","v":0},{"$f":"[1]!PowerMod($A59,AX$2,$A$2)","v":0},{"$f":"[1]!PowerMod($A59,AY$2,$A$2)","v":0},{"$f":"[1]!PowerMod($A59,AZ$2,$A$2)","v":0},{"$f":"[1]!PowerMod($A59,BA$2,$A$2)","v":0},{"$f":"[1]!PowerMod($A59,BB$2,$A$2)","v":0},{"$f":"[1]!PowerMod($A59,BC$2,$A$2)","v":0},{"$f":"[1]!PowerMod($A59,BD$2,$A$2)","v":0},{"$f":"[1]!PowerMod($A59,BE$2,$A$2)","v":0},{"$f":"[1]!PowerMod($A59,BF$2,$A$2)","v":0},{"$f":"[1]!PowerMod($A59,BG$2,$A$2)","v":0},{"$f":"[1]!PowerMod($A59,BH$2,$A$2)","v":0},{"$f":"[1]!PowerMod($A59,BI$2,$A$2)","v":0},{"$f":"[1]!PowerMod($A59,BJ$2,$A$2)","v":0},{"$f":"[1]!PowerMod($A59,BK$2,$A$2)","v":0},{"$f":"[1]!PowerMod($A59,BL$2,$A$2)","v":0},{"$f":"[1]!PowerMod($A59,BM$2,$A$2)","v":0},{"$f":"[1]!PowerMod($A59,BN$2,$A$2)","v":0},{"$f":"[1]!PowerMod($A59,BO$2,$A$2)","v":0},{"$f":"[1]!PowerMod($A59,BP$2,$A$2)","v":0},{"$f":"[1]!PowerMod($A59,BQ$2,$A$2)","v":0},{"$f":"[1]!PowerMod($A59,BR$2,$A$2)","v":0},{"$f":"[1]!PowerMod($A59,BS$2,$A$2)","v":0},{"$f":"[1]!PowerMod($A59,BT$2,$A$2)","v":0}]
[58,{"$f":"[1]!PowerMod($A60,B$2,$A$2)","v":4},{"$f":"[1]!PowerMod($A60,C$2,$A$2)","v":16},{"$f":"[1]!PowerMod($A60,D$2,$A$2)","v":10},{"$f":"[1]!PowerMod($A60,E$2,$A$2)","v":13},{"$f":"[1]!PowerMod($A60,F$2,$A$2)","v":25},{"$f":"[1]!PowerMod($A60,G$2,$A$2)","v":19},{"$f":"[1]!PowerMod($A60,H$2,$A$2)","v":22},{"$f":"[1]!PowerMod($A60,I$2,$A$2)","v":7},{"$f":"[1]!PowerMod($A60,J$2,$A$2)","v":1},{"$f":"[1]!PowerMod($A60,K$2,$A$2)","v":4},{"$f":"[1]!PowerMod($A60,L$2,$A$2)","v":16},{"$f":"[1]!PowerMod($A60,M$2,$A$2)","v":10},{"$f":"[1]!PowerMod($A60,N$2,$A$2)","v":13},{"$f":"[1]!PowerMod($A60,O$2,$A$2)","v":25},{"$f":"[1]!PowerMod($A60,P$2,$A$2)","v":19},{"$f":"[1]!PowerMod($A60,Q$2,$A$2)","v":22},{"$f":"[1]!PowerMod($A60,R$2,$A$2)","v":7},{"$f":"[1]!PowerMod($A60,S$2,$A$2)","v":1},{"$f":"[1]!PowerMod($A60,T$2,$A$2)","v":4},{"$f":"[1]!PowerMod($A60,U$2,$A$2)","v":16},{"$f":"[1]!PowerMod($A60,V$2,$A$2)","v":10},{"$f":"[1]!PowerMod($A60,W$2,$A$2)","v":13},{"$f":"[1]!PowerMod($A60,X$2,$A$2)","v":25},{"$f":"[1]!PowerMod($A60,Y$2,$A$2)","v":19},{"$f":"[1]!PowerMod($A60,Z$2,$A$2)","v":22},{"$f":"[1]!PowerMod($A60,AA$2,$A$2)","v":7},{"$f":"[1]!PowerMod($A60,AB$2,$A$2)","v":1},{"$f":"[1]!PowerMod($A60,AC$2,$A$2)","v":4},{"$f":"[1]!PowerMod($A60,AD$2,$A$2)","v":16},{"$f":"[1]!PowerMod($A60,AE$2,$A$2)","v":10},{"$f":"[1]!PowerMod($A60,AF$2,$A$2)","v":13},{"$f":"[1]!PowerMod($A60,AG$2,$A$2)","v":25},{"$f":"[1]!PowerMod($A60,AH$2,$A$2)","v":19},{"$f":"[1]!PowerMod($A60,AI$2,$A$2)","v":22},{"$f":"[1]!PowerMod($A60,AJ$2,$A$2)","v":7},{"$f":"[1]!PowerMod($A60,AK$2,$A$2)","v":1},{"$f":"[1]!PowerMod($A60,AL$2,$A$2)","v":4},{"$f":"[1]!PowerMod($A60,AM$2,$A$2)","v":16},{"$f":"[1]!PowerMod($A60,AN$2,$A$2)","v":10},{"$f":"[1]!PowerMod($A60,AO$2,$A$2)","v":13},{"$f":"[1]!PowerMod($A60,AP$2,$A$2)","v":25},{"$f":"[1]!PowerMod($A60,AQ$2,$A$2)","v":19},{"$f":"[1]!PowerMod($A60,AR$2,$A$2)","v":22},{"$f":"[1]!PowerMod($A60,AS$2,$A$2)","v":7},{"$f":"[1]!PowerMod($A60,AT$2,$A$2)","v":1},{"$f":"[1]!PowerMod($A60,AU$2,$A$2)","v":4},{"$f":"[1]!PowerMod($A60,AV$2,$A$2)","v":16},{"$f":"[1]!PowerMod($A60,AW$2,$A$2)","v":10},{"$f":"[1]!PowerMod($A60,AX$2,$A$2)","v":13},{"$f":"[1]!PowerMod($A60,AY$2,$A$2)","v":25},{"$f":"[1]!PowerMod($A60,AZ$2,$A$2)","v":19},{"$f":"[1]!PowerMod($A60,BA$2,$A$2)","v":22},{"$f":"[1]!PowerMod($A60,BB$2,$A$2)","v":7},{"$f":"[1]!PowerMod($A60,BC$2,$A$2)","v":1},{"$f":"[1]!PowerMod($A60,BD$2,$A$2)","v":4},{"$f":"[1]!PowerMod($A60,BE$2,$A$2)","v":16},{"$f":"[1]!PowerMod($A60,BF$2,$A$2)","v":10},{"$f":"[1]!PowerMod($A60,BG$2,$A$2)","v":13},{"$f":"[1]!PowerMod($A60,BH$2,$A$2)","v":25},{"$f":"[1]!PowerMod($A60,BI$2,$A$2)","v":19},{"$f":"[1]!PowerMod($A60,BJ$2,$A$2)","v":22},{"$f":"[1]!PowerMod($A60,BK$2,$A$2)","v":7},{"$f":"[1]!PowerMod($A60,BL$2,$A$2)","v":1},{"$f":"[1]!PowerMod($A60,BM$2,$A$2)","v":4},{"$f":"[1]!PowerMod($A60,BN$2,$A$2)","v":16},{"$f":"[1]!PowerMod($A60,BO$2,$A$2)","v":10},{"$f":"[1]!PowerMod($A60,BP$2,$A$2)","v":13},{"$f":"[1]!PowerMod($A60,BQ$2,$A$2)","v":25},{"$f":"[1]!PowerMod($A60,BR$2,$A$2)","v":19},{"$f":"[1]!PowerMod($A60,BS$2,$A$2)","v":22},{"$f":"[1]!PowerMod($A60,BT$2,$A$2)","v":7}]
[59,{"$f":"[1]!PowerMod($A61,B$2,$A$2)","v":5},{"$f":"[1]!PowerMod($A61,C$2,$A$2)","v":25},{"$f":"[1]!PowerMod($A61,D$2,$A$2)","v":17},{"$f":"[1]!PowerMod($A61,E$2,$A$2)","v":4},{"$f":"[1]!PowerMod($A61,F$2,$A$2)","v":20},{"$f":"[1]!PowerMod($A61,G$2,$A$2)","v":19},{"$f":"[1]!PowerMod($A61,H$2,$A$2)","v":14},{"$f":"[1]!PowerMod($A61,I$2,$A$2)","v":16},{"$f":"[1]!PowerMod($A61,J$2,$A$2)","v":26},{"$f":"[1]!PowerMod($A61,K$2,$A$2)","v":22},{"$f":"[1]!PowerMod($A61,L$2,$A$2)","v":2},{"$f":"[1]!PowerMod($A61,M$2,$A$2)","v":10},{"$f":"[1]!PowerMod($A61,N$2,$A$2)","v":23},{"$f":"[1]!PowerMod($A61,O$2,$A$2)","v":7},{"$f":"[1]!PowerMod($A61,P$2,$A$2)","v":8},{"$f":"[1]!PowerMod($A61,Q$2,$A$2)","v":13},{"$f":"[1]!PowerMod($A61,R$2,$A$2)","v":11},{"$f":"[1]!PowerMod($A61,S$2,$A$2)","v":1},{"$f":"[1]!PowerMod($A61,T$2,$A$2)","v":5},{"$f":"[1]!PowerMod($A61,U$2,$A$2)","v":25},{"$f":"[1]!PowerMod($A61,V$2,$A$2)","v":17},{"$f":"[1]!PowerMod($A61,W$2,$A$2)","v":4},{"$f":"[1]!PowerMod($A61,X$2,$A$2)","v":20},{"$f":"[1]!PowerMod($A61,Y$2,$A$2)","v":19},{"$f":"[1]!PowerMod($A61,Z$2,$A$2)","v":14},{"$f":"[1]!PowerMod($A61,AA$2,$A$2)","v":16},{"$f":"[1]!PowerMod($A61,AB$2,$A$2)","v":26},{"$f":"[1]!PowerMod($A61,AC$2,$A$2)","v":22},{"$f":"[1]!PowerMod($A61,AD$2,$A$2)","v":2},{"$f":"[1]!PowerMod($A61,AE$2,$A$2)","v":10},{"$f":"[1]!PowerMod($A61,AF$2,$A$2)","v":23},{"$f":"[1]!PowerMod($A61,AG$2,$A$2)","v":7},{"$f":"[1]!PowerMod($A61,AH$2,$A$2)","v":8},{"$f":"[1]!PowerMod($A61,AI$2,$A$2)","v":13},{"$f":"[1]!PowerMod($A61,AJ$2,$A$2)","v":11},{"$f":"[1]!PowerMod($A61,AK$2,$A$2)","v":1},{"$f":"[1]!PowerMod($A61,AL$2,$A$2)","v":5},{"$f":"[1]!PowerMod($A61,AM$2,$A$2)","v":25},{"$f":"[1]!PowerMod($A61,AN$2,$A$2)","v":17},{"$f":"[1]!PowerMod($A61,AO$2,$A$2)","v":4},{"$f":"[1]!PowerMod($A61,AP$2,$A$2)","v":20},{"$f":"[1]!PowerMod($A61,AQ$2,$A$2)","v":19},{"$f":"[1]!PowerMod($A61,AR$2,$A$2)","v":14},{"$f":"[1]!PowerMod($A61,AS$2,$A$2)","v":16},{"$f":"[1]!PowerMod($A61,AT$2,$A$2)","v":26},{"$f":"[1]!PowerMod($A61,AU$2,$A$2)","v":22},{"$f":"[1]!PowerMod($A61,AV$2,$A$2)","v":2},{"$f":"[1]!PowerMod($A61,AW$2,$A$2)","v":10},{"$f":"[1]!PowerMod($A61,AX$2,$A$2)","v":23},{"$f":"[1]!PowerMod($A61,AY$2,$A$2)","v":7},{"$f":"[1]!PowerMod($A61,AZ$2,$A$2)","v":8},{"$f":"[1]!PowerMod($A61,BA$2,$A$2)","v":13},{"$f":"[1]!PowerMod($A61,BB$2,$A$2)","v":11},{"$f":"[1]!PowerMod($A61,BC$2,$A$2)","v":1},{"$f":"[1]!PowerMod($A61,BD$2,$A$2)","v":5},{"$f":"[1]!PowerMod($A61,BE$2,$A$2)","v":25},{"$f":"[1]!PowerMod($A61,BF$2,$A$2)","v":17},{"$f":"[1]!PowerMod($A61,BG$2,$A$2)","v":4},{"$f":"[1]!PowerMod($A61,BH$2,$A$2)","v":20},{"$f":"[1]!PowerMod($A61,BI$2,$A$2)","v":19},{"$f":"[1]!PowerMod($A61,BJ$2,$A$2)","v":14},{"$f":"[1]!PowerMod($A61,BK$2,$A$2)","v":16},{"$f":"[1]!PowerMod($A61,BL$2,$A$2)","v":26},{"$f":"[1]!PowerMod($A61,BM$2,$A$2)","v":22},{"$f":"[1]!PowerMod($A61,BN$2,$A$2)","v":2},{"$f":"[1]!PowerMod($A61,BO$2,$A$2)","v":10},{"$f":"[1]!PowerMod($A61,BP$2,$A$2)","v":23},{"$f":"[1]!PowerMod($A61,BQ$2,$A$2)","v":7},{"$f":"[1]!PowerMod($A61,BR$2,$A$2)","v":8},{"$f":"[1]!PowerMod($A61,BS$2,$A$2)","v":13},{"$f":"[1]!PowerMod($A61,BT$2,$A$2)","v":11}]
[60,{"$f":"[1]!PowerMod($A62,B$2,$A$2)","v":6},{"$f":"[1]!PowerMod($A62,C$2,$A$2)","v":9},{"$f":"[1]!PowerMod($A62,D$2,$A$2)","v":0},{"$f":"[1]!PowerMod($A62,E$2,$A$2)","v":0},{"$f":"[1]!PowerMod($A62,F$2,$A$2)","v":0},{"$f":"[1]!PowerMod($A62,G$2,$A$2)","v":0},{"$f":"[1]!PowerMod($A62,H$2,$A$2)","v":0},{"$f":"[1]!PowerMod($A62,I$2,$A$2)","v":0},{"$f":"[1]!PowerMod($A62,J$2,$A$2)","v":0},{"$f":"[1]!PowerMod($A62,K$2,$A$2)","v":0},{"$f":"[1]!PowerMod($A62,L$2,$A$2)","v":0},{"$f":"[1]!PowerMod($A62,M$2,$A$2)","v":0},{"$f":"[1]!PowerMod($A62,N$2,$A$2)","v":0},{"$f":"[1]!PowerMod($A62,O$2,$A$2)","v":0},{"$f":"[1]!PowerMod($A62,P$2,$A$2)","v":0},{"$f":"[1]!PowerMod($A62,Q$2,$A$2)","v":0},{"$f":"[1]!PowerMod($A62,R$2,$A$2)","v":0},{"$f":"[1]!PowerMod($A62,S$2,$A$2)","v":0},{"$f":"[1]!PowerMod($A62,T$2,$A$2)","v":0},{"$f":"[1]!PowerMod($A62,U$2,$A$2)","v":0},{"$f":"[1]!PowerMod($A62,V$2,$A$2)","v":0},{"$f":"[1]!PowerMod($A62,W$2,$A$2)","v":0},{"$f":"[1]!PowerMod($A62,X$2,$A$2)","v":0},{"$f":"[1]!PowerMod($A62,Y$2,$A$2)","v":0},{"$f":"[1]!PowerMod($A62,Z$2,$A$2)","v":0},{"$f":"[1]!PowerMod($A62,AA$2,$A$2)","v":0},{"$f":"[1]!PowerMod($A62,AB$2,$A$2)","v":0},{"$f":"[1]!PowerMod($A62,AC$2,$A$2)","v":0},{"$f":"[1]!PowerMod($A62,AD$2,$A$2)","v":0},{"$f":"[1]!PowerMod($A62,AE$2,$A$2)","v":0},{"$f":"[1]!PowerMod($A62,AF$2,$A$2)","v":0},{"$f":"[1]!PowerMod($A62,AG$2,$A$2)","v":0},{"$f":"[1]!PowerMod($A62,AH$2,$A$2)","v":0},{"$f":"[1]!PowerMod($A62,AI$2,$A$2)","v":0},{"$f":"[1]!PowerMod($A62,AJ$2,$A$2)","v":0},{"$f":"[1]!PowerMod($A62,AK$2,$A$2)","v":0},{"$f":"[1]!PowerMod($A62,AL$2,$A$2)","v":0},{"$f":"[1]!PowerMod($A62,AM$2,$A$2)","v":0},{"$f":"[1]!PowerMod($A62,AN$2,$A$2)","v":0},{"$f":"[1]!PowerMod($A62,AO$2,$A$2)","v":0},{"$f":"[1]!PowerMod($A62,AP$2,$A$2)","v":0},{"$f":"[1]!PowerMod($A62,AQ$2,$A$2)","v":0},{"$f":"[1]!PowerMod($A62,AR$2,$A$2)","v":0},{"$f":"[1]!PowerMod($A62,AS$2,$A$2)","v":0},{"$f":"[1]!PowerMod($A62,AT$2,$A$2)","v":0},{"$f":"[1]!PowerMod($A62,AU$2,$A$2)","v":0},{"$f":"[1]!PowerMod($A62,AV$2,$A$2)","v":0},{"$f":"[1]!PowerMod($A62,AW$2,$A$2)","v":0},{"$f":"[1]!PowerMod($A62,AX$2,$A$2)","v":0},{"$f":"[1]!PowerMod($A62,AY$2,$A$2)","v":0},{"$f":"[1]!PowerMod($A62,AZ$2,$A$2)","v":0},{"$f":"[1]!PowerMod($A62,BA$2,$A$2)","v":0},{"$f":"[1]!PowerMod($A62,BB$2,$A$2)","v":0},{"$f":"[1]!PowerMod($A62,BC$2,$A$2)","v":0},{"$f":"[1]!PowerMod($A62,BD$2,$A$2)","v":0},{"$f":"[1]!PowerMod($A62,BE$2,$A$2)","v":0},{"$f":"[1]!PowerMod($A62,BF$2,$A$2)","v":0},{"$f":"[1]!PowerMod($A62,BG$2,$A$2)","v":0},{"$f":"[1]!PowerMod($A62,BH$2,$A$2)","v":0},{"$f":"[1]!PowerMod($A62,BI$2,$A$2)","v":0},{"$f":"[1]!PowerMod($A62,BJ$2,$A$2)","v":0},{"$f":"[1]!PowerMod($A62,BK$2,$A$2)","v":0},{"$f":"[1]!PowerMod($A62,BL$2,$A$2)","v":0},{"$f":"[1]!PowerMod($A62,BM$2,$A$2)","v":0},{"$f":"[1]!PowerMod($A62,BN$2,$A$2)","v":0},{"$f":"[1]!PowerMod($A62,BO$2,$A$2)","v":0},{"$f":"[1]!PowerMod($A62,BP$2,$A$2)","v":0},{"$f":"[1]!PowerMod($A62,BQ$2,$A$2)","v":0},{"$f":"[1]!PowerMod($A62,BR$2,$A$2)","v":0},{"$f":"[1]!PowerMod($A62,BS$2,$A$2)","v":0},{"$f":"[1]!PowerMod($A62,BT$2,$A$2)","v":0}]
[61,{"$f":"[1]!PowerMod($A63,B$2,$A$2)","v":7},{"$f":"[1]!PowerMod($A63,C$2,$A$2)","v":22},{"$f":"[1]!PowerMod($A63,D$2,$A$2)","v":19},{"$f":"[1]!PowerMod($A63,E$2,$A$2)","v":25},{"$f":"[1]!PowerMod($A63,F$2,$A$2)","v":13},{"$f":"[1]!PowerMod($A63,G$2,$A$2)","v":10},{"$f":"[1]!PowerMod($A63,H$2,$A$2)","v":16},{"$f":"[1]!PowerMod($A63,I$2,$A$2)","v":4},{"$f":"[1]!PowerMod($A63,J$2,$A$2)","v":1},{"$f":"[1]!PowerMod($A63,K$2,$A$2)","v":7},{"$f":"[1]!PowerMod($A63,L$2,$A$2)","v":22},{"$f":"[1]!PowerMod($A63,M$2,$A$2)","v":19},{"$f":"[1]!PowerMod($A63,N$2,$A$2)","v":25},{"$f":"[1]!PowerMod($A63,O$2,$A$2)","v":13},{"$f":"[1]!PowerMod($A63,P$2,$A$2)","v":10},{"$f":"[1]!PowerMod($A63,Q$2,$A$2)","v":16},{"$f":"[1]!PowerMod($A63,R$2,$A$2)","v":4},{"$f":"[1]!PowerMod($A63,S$2,$A$2)","v":1},{"$f":"[1]!PowerMod($A63,T$2,$A$2)","v":7},{"$f":"[1]!PowerMod($A63,U$2,$A$2)","v":22},{"$f":"[1]!PowerMod($A63,V$2,$A$2)","v":19},{"$f":"[1]!PowerMod($A63,W$2,$A$2)","v":25},{"$f":"[1]!PowerMod($A63,X$2,$A$2)","v":13},{"$f":"[1]!PowerMod($A63,Y$2,$A$2)","v":10},{"$f":"[1]!PowerMod($A63,Z$2,$A$2)","v":16},{"$f":"[1]!PowerMod($A63,AA$2,$A$2)","v":4},{"$f":"[1]!PowerMod($A63,AB$2,$A$2)","v":1},{"$f":"[1]!PowerMod($A63,AC$2,$A$2)","v":7},{"$f":"[1]!PowerMod($A63,AD$2,$A$2)","v":22},{"$f":"[1]!PowerMod($A63,AE$2,$A$2)","v":19},{"$f":"[1]!PowerMod($A63,AF$2,$A$2)","v":25},{"$f":"[1]!PowerMod($A63,AG$2,$A$2)","v":13},{"$f":"[1]!PowerMod($A63,AH$2,$A$2)","v":10},{"$f":"[1]!PowerMod($A63,AI$2,$A$2)","v":16},{"$f":"[1]!PowerMod($A63,AJ$2,$A$2)","v":4},{"$f":"[1]!PowerMod($A63,AK$2,$A$2)","v":1},{"$f":"[1]!PowerMod($A63,AL$2,$A$2)","v":7},{"$f":"[1]!PowerMod($A63,AM$2,$A$2)","v":22},{"$f":"[1]!PowerMod($A63,AN$2,$A$2)","v":19},{"$f":"[1]!PowerMod($A63,AO$2,$A$2)","v":25},{"$f":"[1]!PowerMod($A63,AP$2,$A$2)","v":13},{"$f":"[1]!PowerMod($A63,AQ$2,$A$2)","v":10},{"$f":"[1]!PowerMod($A63,AR$2,$A$2)","v":16},{"$f":"[1]!PowerMod($A63,AS$2,$A$2)","v":4},{"$f":"[1]!PowerMod($A63,AT$2,$A$2)","v":1},{"$f":"[1]!PowerMod($A63,AU$2,$A$2)","v":7},{"$f":"[1]!PowerMod($A63,AV$2,$A$2)","v":22},{"$f":"[1]!PowerMod($A63,AW$2,$A$2)","v":19},{"$f":"[1]!PowerMod($A63,AX$2,$A$2)","v":25},{"$f":"[1]!PowerMod($A63,AY$2,$A$2)","v":13},{"$f":"[1]!PowerMod($A63,AZ$2,$A$2)","v":10},{"$f":"[1]!PowerMod($A63,BA$2,$A$2)","v":16},{"$f":"[1]!PowerMod($A63,BB$2,$A$2)","v":4},{"$f":"[1]!PowerMod($A63,BC$2,$A$2)","v":1},{"$f":"[1]!PowerMod($A63,BD$2,$A$2)","v":7},{"$f":"[1]!PowerMod($A63,BE$2,$A$2)","v":22},{"$f":"[1]!PowerMod($A63,BF$2,$A$2)","v":19},{"$f":"[1]!PowerMod($A63,BG$2,$A$2)","v":25},{"$f":"[1]!PowerMod($A63,BH$2,$A$2)","v":13},{"$f":"[1]!PowerMod($A63,BI$2,$A$2)","v":10},{"$f":"[1]!PowerMod($A63,BJ$2,$A$2)","v":16},{"$f":"[1]!PowerMod($A63,BK$2,$A$2)","v":4},{"$f":"[1]!PowerMod($A63,BL$2,$A$2)","v":1},{"$f":"[1]!PowerMod($A63,BM$2,$A$2)","v":7},{"$f":"[1]!PowerMod($A63,BN$2,$A$2)","v":22},{"$f":"[1]!PowerMod($A63,BO$2,$A$2)","v":19},{"$f":"[1]!PowerMod($A63,BP$2,$A$2)","v":25},{"$f":"[1]!PowerMod($A63,BQ$2,$A$2)","v":13},{"$f":"[1]!PowerMod($A63,BR$2,$A$2)","v":10},{"$f":"[1]!PowerMod($A63,BS$2,$A$2)","v":16},{"$f":"[1]!PowerMod($A63,BT$2,$A$2)","v":4}]
[62,{"$f":"[1]!PowerMod($A64,B$2,$A$2)","v":8},{"$f":"[1]!PowerMod($A64,C$2,$A$2)","v":10},{"$f":"[1]!PowerMod($A64,D$2,$A$2)","v":26},{"$f":"[1]!PowerMod($A64,E$2,$A$2)","v":19},{"$f":"[1]!PowerMod($A64,F$2,$A$2)","v":17},{"$f":"[1]!PowerMod($A64,G$2,$A$2)","v":1},{"$f":"[1]!PowerMod($A64,H$2,$A$2)","v":8},{"$f":"[1]!PowerMod($A64,I$2,$A$2)","v":10},{"$f":"[1]!PowerMod($A64,J$2,$A$2)","v":26},{"$f":"[1]!PowerMod($A64,K$2,$A$2)","v":19},{"$f":"[1]!PowerMod($A64,L$2,$A$2)","v":17},{"$f":"[1]!PowerMod($A64,M$2,$A$2)","v":1},{"$f":"[1]!PowerMod($A64,N$2,$A$2)","v":8},{"$f":"[1]!PowerMod($A64,O$2,$A$2)","v":10},{"$f":"[1]!PowerMod($A64,P$2,$A$2)","v":26},{"$f":"[1]!PowerMod($A64,Q$2,$A$2)","v":19},{"$f":"[1]!PowerMod($A64,R$2,$A$2)","v":17},{"$f":"[1]!PowerMod($A64,S$2,$A$2)","v":1},{"$f":"[1]!PowerMod($A64,T$2,$A$2)","v":8},{"$f":"[1]!PowerMod($A64,U$2,$A$2)","v":10},{"$f":"[1]!PowerMod($A64,V$2,$A$2)","v":26},{"$f":"[1]!PowerMod($A64,W$2,$A$2)","v":19},{"$f":"[1]!PowerMod($A64,X$2,$A$2)","v":17},{"$f":"[1]!PowerMod($A64,Y$2,$A$2)","v":1},{"$f":"[1]!PowerMod($A64,Z$2,$A$2)","v":8},{"$f":"[1]!PowerMod($A64,AA$2,$A$2)","v":10},{"$f":"[1]!PowerMod($A64,AB$2,$A$2)","v":26},{"$f":"[1]!PowerMod($A64,AC$2,$A$2)","v":19},{"$f":"[1]!PowerMod($A64,AD$2,$A$2)","v":17},{"$f":"[1]!PowerMod($A64,AE$2,$A$2)","v":1},{"$f":"[1]!PowerMod($A64,AF$2,$A$2)","v":8},{"$f":"[1]!PowerMod($A64,AG$2,$A$2)","v":10},{"$f":"[1]!PowerMod($A64,AH$2,$A$2)","v":26},{"$f":"[1]!PowerMod($A64,AI$2,$A$2)","v":19},{"$f":"[1]!PowerMod($A64,AJ$2,$A$2)","v":17},{"$f":"[1]!PowerMod($A64,AK$2,$A$2)","v":1},{"$f":"[1]!PowerMod($A64,AL$2,$A$2)","v":8},{"$f":"[1]!PowerMod($A64,AM$2,$A$2)","v":10},{"$f":"[1]!PowerMod($A64,AN$2,$A$2)","v":26},{"$f":"[1]!PowerMod($A64,AO$2,$A$2)","v":19},{"$f":"[1]!PowerMod($A64,AP$2,$A$2)","v":17},{"$f":"[1]!PowerMod($A64,AQ$2,$A$2)","v":1},{"$f":"[1]!PowerMod($A64,AR$2,$A$2)","v":8},{"$f":"[1]!PowerMod($A64,AS$2,$A$2)","v":10},{"$f":"[1]!PowerMod($A64,AT$2,$A$2)","v":26},{"$f":"[1]!PowerMod($A64,AU$2,$A$2)","v":19},{"$f":"[1]!PowerMod($A64,AV$2,$A$2)","v":17},{"$f":"[1]!PowerMod($A64,AW$2,$A$2)","v":1},{"$f":"[1]!PowerMod($A64,AX$2,$A$2)","v":8},{"$f":"[1]!PowerMod($A64,AY$2,$A$2)","v":10},{"$f":"[1]!PowerMod($A64,AZ$2,$A$2)","v":26},{"$f":"[1]!PowerMod($A64,BA$2,$A$2)","v":19},{"$f":"[1]!PowerMod($A64,BB$2,$A$2)","v":17},{"$f":"[1]!PowerMod($A64,BC$2,$A$2)","v":1},{"$f":"[1]!PowerMod($A64,BD$2,$A$2)","v":8},{"$f":"[1]!PowerMod($A64,BE$2,$A$2)","v":10},{"$f":"[1]!PowerMod($A64,BF$2,$A$2)","v":26},{"$f":"[1]!PowerMod($A64,BG$2,$A$2)","v":19},{"$f":"[1]!PowerMod($A64,BH$2,$A$2)","v":17},{"$f":"[1]!PowerMod($A64,BI$2,$A$2)","v":1},{"$f":"[1]!PowerMod($A64,BJ$2,$A$2)","v":8},{"$f":"[1]!PowerMod($A64,BK$2,$A$2)","v":10},{"$f":"[1]!PowerMod($A64,BL$2,$A$2)","v":26},{"$f":"[1]!PowerMod($A64,BM$2,$A$2)","v":19},{"$f":"[1]!PowerMod($A64,BN$2,$A$2)","v":17},{"$f":"[1]!PowerMod($A64,BO$2,$A$2)","v":1},{"$f":"[1]!PowerMod($A64,BP$2,$A$2)","v":8},{"$f":"[1]!PowerMod($A64,BQ$2,$A$2)","v":10},{"$f":"[1]!PowerMod($A64,BR$2,$A$2)","v":26},{"$f":"[1]!PowerMod($A64,BS$2,$A$2)","v":19},{"$f":"[1]!PowerMod($A64,BT$2,$A$2)","v":17}]
[63,{"$f":"[1]!PowerMod($A65,B$2,$A$2)","v":9},{"$f":"[1]!PowerMod($A65,C$2,$A$2)","v":0},{"$f":"[1]!PowerMod($A65,D$2,$A$2)","v":0},{"$f":"[1]!PowerMod($A65,E$2,$A$2)","v":0},{"$f":"[1]!PowerMod($A65,F$2,$A$2)","v":0},{"$f":"[1]!PowerMod($A65,G$2,$A$2)","v":0},{"$f":"[1]!PowerMod($A65,H$2,$A$2)","v":0},{"$f":"[1]!PowerMod($A65,I$2,$A$2)","v":0},{"$f":"[1]!PowerMod($A65,J$2,$A$2)","v":0},{"$f":"[1]!PowerMod($A65,K$2,$A$2)","v":0},{"$f":"[1]!PowerMod($A65,L$2,$A$2)","v":0},{"$f":"[1]!PowerMod($A65,M$2,$A$2)","v":0},{"$f":"[1]!PowerMod($A65,N$2,$A$2)","v":0},{"$f":"[1]!PowerMod($A65,O$2,$A$2)","v":0},{"$f":"[1]!PowerMod($A65,P$2,$A$2)","v":0},{"$f":"[1]!PowerMod($A65,Q$2,$A$2)","v":0},{"$f":"[1]!PowerMod($A65,R$2,$A$2)","v":0},{"$f":"[1]!PowerMod($A65,S$2,$A$2)","v":0},{"$f":"[1]!PowerMod($A65,T$2,$A$2)","v":0},{"$f":"[1]!PowerMod($A65,U$2,$A$2)","v":0},{"$f":"[1]!PowerMod($A65,V$2,$A$2)","v":0},{"$f":"[1]!PowerMod($A65,W$2,$A$2)","v":0},{"$f":"[1]!PowerMod($A65,X$2,$A$2)","v":0},{"$f":"[1]!PowerMod($A65,Y$2,$A$2)","v":0},{"$f":"[1]!PowerMod($A65,Z$2,$A$2)","v":0},{"$f":"[1]!PowerMod($A65,AA$2,$A$2)","v":0},{"$f":"[1]!PowerMod($A65,AB$2,$A$2)","v":0},{"$f":"[1]!PowerMod($A65,AC$2,$A$2)","v":0},{"$f":"[1]!PowerMod($A65,AD$2,$A$2)","v":0},{"$f":"[1]!PowerMod($A65,AE$2,$A$2)","v":0},{"$f":"[1]!PowerMod($A65,AF$2,$A$2)","v":0},{"$f":"[1]!PowerMod($A65,AG$2,$A$2)","v":0},{"$f":"[1]!PowerMod($A65,AH$2,$A$2)","v":0},{"$f":"[1]!PowerMod($A65,AI$2,$A$2)","v":0},{"$f":"[1]!PowerMod($A65,AJ$2,$A$2)","v":0},{"$f":"[1]!PowerMod($A65,AK$2,$A$2)","v":0},{"$f":"[1]!PowerMod($A65,AL$2,$A$2)","v":0},{"$f":"[1]!PowerMod($A65,AM$2,$A$2)","v":0},{"$f":"[1]!PowerMod($A65,AN$2,$A$2)","v":0},{"$f":"[1]!PowerMod($A65,AO$2,$A$2)","v":0},{"$f":"[1]!PowerMod($A65,AP$2,$A$2)","v":0},{"$f":"[1]!PowerMod($A65,AQ$2,$A$2)","v":0},{"$f":"[1]!PowerMod($A65,AR$2,$A$2)","v":0},{"$f":"[1]!PowerMod($A65,AS$2,$A$2)","v":0},{"$f":"[1]!PowerMod($A65,AT$2,$A$2)","v":0},{"$f":"[1]!PowerMod($A65,AU$2,$A$2)","v":0},{"$f":"[1]!PowerMod($A65,AV$2,$A$2)","v":0},{"$f":"[1]!PowerMod($A65,AW$2,$A$2)","v":0},{"$f":"[1]!PowerMod($A65,AX$2,$A$2)","v":0},{"$f":"[1]!PowerMod($A65,AY$2,$A$2)","v":0},{"$f":"[1]!PowerMod($A65,AZ$2,$A$2)","v":0},{"$f":"[1]!PowerMod($A65,BA$2,$A$2)","v":0},{"$f":"[1]!PowerMod($A65,BB$2,$A$2)","v":0},{"$f":"[1]!PowerMod($A65,BC$2,$A$2)","v":0},{"$f":"[1]!PowerMod($A65,BD$2,$A$2)","v":0},{"$f":"[1]!PowerMod($A65,BE$2,$A$2)","v":0},{"$f":"[1]!PowerMod($A65,BF$2,$A$2)","v":0},{"$f":"[1]!PowerMod($A65,BG$2,$A$2)","v":0},{"$f":"[1]!PowerMod($A65,BH$2,$A$2)","v":0},{"$f":"[1]!PowerMod($A65,BI$2,$A$2)","v":0},{"$f":"[1]!PowerMod($A65,BJ$2,$A$2)","v":0},{"$f":"[1]!PowerMod($A65,BK$2,$A$2)","v":0},{"$f":"[1]!PowerMod($A65,BL$2,$A$2)","v":0},{"$f":"[1]!PowerMod($A65,BM$2,$A$2)","v":0},{"$f":"[1]!PowerMod($A65,BN$2,$A$2)","v":0},{"$f":"[1]!PowerMod($A65,BO$2,$A$2)","v":0},{"$f":"[1]!PowerMod($A65,BP$2,$A$2)","v":0},{"$f":"[1]!PowerMod($A65,BQ$2,$A$2)","v":0},{"$f":"[1]!PowerMod($A65,BR$2,$A$2)","v":0},{"$f":"[1]!PowerMod($A65,BS$2,$A$2)","v":0},{"$f":"[1]!PowerMod($A65,BT$2,$A$2)","v":0}]
[64,{"$f":"[1]!PowerMod($A66,B$2,$A$2)","v":10},{"$f":"[1]!PowerMod($A66,C$2,$A$2)","v":19},{"$f":"[1]!PowerMod($A66,D$2,$A$2)","v":1},{"$f":"[1]!PowerMod($A66,E$2,$A$2)","v":10},{"$f":"[1]!PowerMod($A66,F$2,$A$2)","v":19},{"$f":"[1]!PowerMod($A66,G$2,$A$2)","v":1},{"$f":"[1]!PowerMod($A66,H$2,$A$2)","v":10},{"$f":"[1]!PowerMod($A66,I$2,$A$2)","v":19},{"$f":"[1]!PowerMod($A66,J$2,$A$2)","v":1},{"$f":"[1]!PowerMod($A66,K$2,$A$2)","v":10},{"$f":"[1]!PowerMod($A66,L$2,$A$2)","v":19},{"$f":"[1]!PowerMod($A66,M$2,$A$2)","v":1},{"$f":"[1]!PowerMod($A66,N$2,$A$2)","v":10},{"$f":"[1]!PowerMod($A66,O$2,$A$2)","v":19},{"$f":"[1]!PowerMod($A66,P$2,$A$2)","v":1},{"$f":"[1]!PowerMod($A66,Q$2,$A$2)","v":10},{"$f":"[1]!PowerMod($A66,R$2,$A$2)","v":19},{"$f":"[1]!PowerMod($A66,S$2,$A$2)","v":1},{"$f":"[1]!PowerMod($A66,T$2,$A$2)","v":10},{"$f":"[1]!PowerMod($A66,U$2,$A$2)","v":19},{"$f":"[1]!PowerMod($A66,V$2,$A$2)","v":1},{"$f":"[1]!PowerMod($A66,W$2,$A$2)","v":10},{"$f":"[1]!PowerMod($A66,X$2,$A$2)","v":19},{"$f":"[1]!PowerMod($A66,Y$2,$A$2)","v":1},{"$f":"[1]!PowerMod($A66,Z$2,$A$2)","v":10},{"$f":"[1]!PowerMod($A66,AA$2,$A$2)","v":19},{"$f":"[1]!PowerMod($A66,AB$2,$A$2)","v":1},{"$f":"[1]!PowerMod($A66,AC$2,$A$2)","v":10},{"$f":"[1]!PowerMod($A66,AD$2,$A$2)","v":19},{"$f":"[1]!PowerMod($A66,AE$2,$A$2)","v":1},{"$f":"[1]!PowerMod($A66,AF$2,$A$2)","v":10},{"$f":"[1]!PowerMod($A66,AG$2,$A$2)","v":19},{"$f":"[1]!PowerMod($A66,AH$2,$A$2)","v":1},{"$f":"[1]!PowerMod($A66,AI$2,$A$2)","v":10},{"$f":"[1]!PowerMod($A66,AJ$2,$A$2)","v":19},{"$f":"[1]!PowerMod($A66,AK$2,$A$2)","v":1},{"$f":"[1]!PowerMod($A66,AL$2,$A$2)","v":10},{"$f":"[1]!PowerMod($A66,AM$2,$A$2)","v":19},{"$f":"[1]!PowerMod($A66,AN$2,$A$2)","v":1},{"$f":"[1]!PowerMod($A66,AO$2,$A$2)","v":10},{"$f":"[1]!PowerMod($A66,AP$2,$A$2)","v":19},{"$f":"[1]!PowerMod($A66,AQ$2,$A$2)","v":1},{"$f":"[1]!PowerMod($A66,AR$2,$A$2)","v":10},{"$f":"[1]!PowerMod($A66,AS$2,$A$2)","v":19},{"$f":"[1]!PowerMod($A66,AT$2,$A$2)","v":1},{"$f":"[1]!PowerMod($A66,AU$2,$A$2)","v":10},{"$f":"[1]!PowerMod($A66,AV$2,$A$2)","v":19},{"$f":"[1]!PowerMod($A66,AW$2,$A$2)","v":1},{"$f":"[1]!PowerMod($A66,AX$2,$A$2)","v":10},{"$f":"[1]!PowerMod($A66,AY$2,$A$2)","v":19},{"$f":"[1]!PowerMod($A66,AZ$2,$A$2)","v":1},{"$f":"[1]!PowerMod($A66,BA$2,$A$2)","v":10},{"$f":"[1]!PowerMod($A66,BB$2,$A$2)","v":19},{"$f":"[1]!PowerMod($A66,BC$2,$A$2)","v":1},{"$f":"[1]!PowerMod($A66,BD$2,$A$2)","v":10},{"$f":"[1]!PowerMod($A66,BE$2,$A$2)","v":19},{"$f":"[1]!PowerMod($A66,BF$2,$A$2)","v":1},{"$f":"[1]!PowerMod($A66,BG$2,$A$2)","v":10},{"$f":"[1]!PowerMod($A66,BH$2,$A$2)","v":19},{"$f":"[1]!PowerMod($A66,BI$2,$A$2)","v":1},{"$f":"[1]!PowerMod($A66,BJ$2,$A$2)","v":10},{"$f":"[1]!PowerMod($A66,BK$2,$A$2)","v":19},{"$f":"[1]!PowerMod($A66,BL$2,$A$2)","v":1},{"$f":"[1]!PowerMod($A66,BM$2,$A$2)","v":10},{"$f":"[1]!PowerMod($A66,BN$2,$A$2)","v":19},{"$f":"[1]!PowerMod($A66,BO$2,$A$2)","v":1},{"$f":"[1]!PowerMod($A66,BP$2,$A$2)","v":10},{"$f":"[1]!PowerMod($A66,BQ$2,$A$2)","v":19},{"$f":"[1]!PowerMod($A66,BR$2,$A$2)","v":1},{"$f":"[1]!PowerMod($A66,BS$2,$A$2)","v":10},{"$f":"[1]!PowerMod($A66,BT$2,$A$2)","v":19}]
[65,{"$f":"[1]!PowerMod($A67,B$2,$A$2)","v":11},{"$f":"[1]!PowerMod($A67,C$2,$A$2)","v":13},{"$f":"[1]!PowerMod($A67,D$2,$A$2)","v":8},{"$f":"[1]!PowerMod($A67,E$2,$A$2)","v":7},{"$f":"[1]!PowerMod($A67,F$2,$A$2)","v":23},{"$f":"[1]!PowerMod($A67,G$2,$A$2)","v":10},{"$f":"[1]!PowerMod($A67,H$2,$A$2)","v":2},{"$f":"[1]!PowerMod($A67,I$2,$A$2)","v":22},{"$f":"[1]!PowerMod($A67,J$2,$A$2)","v":26},{"$f":"[1]!PowerMod($A67,K$2,$A$2)","v":16},{"$f":"[1]!PowerMod($A67,L$2,$A$2)","v":14},{"$f":"[1]!PowerMod($A67,M$2,$A$2)","v":19},{"$f":"[1]!PowerMod($A67,N$2,$A$2)","v":20},{"$f":"[1]!PowerMod($A67,O$2,$A$2)","v":4},{"$f":"[1]!PowerMod($A67,P$2,$A$2)","v":17},{"$f":"[1]!PowerMod($A67,Q$2,$A$2)","v":25},{"$f":"[1]!PowerMod($A67,R$2,$A$2)","v":5},{"$f":"[1]!PowerMod($A67,S$2,$A$2)","v":1},{"$f":"[1]!PowerMod($A67,T$2,$A$2)","v":11},{"$f":"[1]!PowerMod($A67,U$2,$A$2)","v":13},{"$f":"[1]!PowerMod($A67,V$2,$A$2)","v":8},{"$f":"[1]!PowerMod($A67,W$2,$A$2)","v":7},{"$f":"[1]!PowerMod($A67,X$2,$A$2)","v":23},{"$f":"[1]!PowerMod($A67,Y$2,$A$2)","v":10},{"$f":"[1]!PowerMod($A67,Z$2,$A$2)","v":2},{"$f":"[1]!PowerMod($A67,AA$2,$A$2)","v":22},{"$f":"[1]!PowerMod($A67,AB$2,$A$2)","v":26},{"$f":"[1]!PowerMod($A67,AC$2,$A$2)","v":16},{"$f":"[1]!PowerMod($A67,AD$2,$A$2)","v":14},{"$f":"[1]!PowerMod($A67,AE$2,$A$2)","v":19},{"$f":"[1]!PowerMod($A67,AF$2,$A$2)","v":20},{"$f":"[1]!PowerMod($A67,AG$2,$A$2)","v":4},{"$f":"[1]!PowerMod($A67,AH$2,$A$2)","v":17},{"$f":"[1]!PowerMod($A67,AI$2,$A$2)","v":25},{"$f":"[1]!PowerMod($A67,AJ$2,$A$2)","v":5},{"$f":"[1]!PowerMod($A67,AK$2,$A$2)","v":1},{"$f":"[1]!PowerMod($A67,AL$2,$A$2)","v":11},{"$f":"[1]!PowerMod($A67,AM$2,$A$2)","v":13},{"$f":"[1]!PowerMod($A67,AN$2,$A$2)","v":8},{"$f":"[1]!PowerMod($A67,AO$2,$A$2)","v":7},{"$f":"[1]!PowerMod($A67,AP$2,$A$2)","v":23},{"$f":"[1]!PowerMod($A67,AQ$2,$A$2)","v":10},{"$f":"[1]!PowerMod($A67,AR$2,$A$2)","v":2},{"$f":"[1]!PowerMod($A67,AS$2,$A$2)","v":22},{"$f":"[1]!PowerMod($A67,AT$2,$A$2)","v":26},{"$f":"[1]!PowerMod($A67,AU$2,$A$2)","v":16},{"$f":"[1]!PowerMod($A67,AV$2,$A$2)","v":14},{"$f":"[1]!PowerMod($A67,AW$2,$A$2)","v":19},{"$f":"[1]!PowerMod($A67,AX$2,$A$2)","v":20},{"$f":"[1]!PowerMod($A67,AY$2,$A$2)","v":4},{"$f":"[1]!PowerMod($A67,AZ$2,$A$2)","v":17},{"$f":"[1]!PowerMod($A67,BA$2,$A$2)","v":25},{"$f":"[1]!PowerMod($A67,BB$2,$A$2)","v":5},{"$f":"[1]!PowerMod($A67,BC$2,$A$2)","v":1},{"$f":"[1]!PowerMod($A67,BD$2,$A$2)","v":11},{"$f":"[1]!PowerMod($A67,BE$2,$A$2)","v":13},{"$f":"[1]!PowerMod($A67,BF$2,$A$2)","v":8},{"$f":"[1]!PowerMod($A67,BG$2,$A$2)","v":7},{"$f":"[1]!PowerMod($A67,BH$2,$A$2)","v":23},{"$f":"[1]!PowerMod($A67,BI$2,$A$2)","v":10},{"$f":"[1]!PowerMod($A67,BJ$2,$A$2)","v":2},{"$f":"[1]!PowerMod($A67,BK$2,$A$2)","v":22},{"$f":"[1]!PowerMod($A67,BL$2,$A$2)","v":26},{"$f":"[1]!PowerMod($A67,BM$2,$A$2)","v":16},{"$f":"[1]!PowerMod($A67,BN$2,$A$2)","v":14},{"$f":"[1]!PowerMod($A67,BO$2,$A$2)","v":19},{"$f":"[1]!PowerMod($A67,BP$2,$A$2)","v":20},{"$f":"[1]!PowerMod($A67,BQ$2,$A$2)","v":4},{"$f":"[1]!PowerMod($A67,BR$2,$A$2)","v":17},{"$f":"[1]!PowerMod($A67,BS$2,$A$2)","v":25},{"$f":"[1]!PowerMod($A67,BT$2,$A$2)","v":5}]
[66,{"$f":"[1]!PowerMod($A68,B$2,$A$2)","v":12},{"$f":"[1]!PowerMod($A68,C$2,$A$2)","v":9},{"$f":"[1]!PowerMod($A68,D$2,$A$2)","v":0},{"$f":"[1]!PowerMod($A68,E$2,$A$2)","v":0},{"$f":"[1]!PowerMod($A68,F$2,$A$2)","v":0},{"$f":"[1]!PowerMod($A68,G$2,$A$2)","v":0},{"$f":"[1]!PowerMod($A68,H$2,$A$2)","v":0},{"$f":"[1]!PowerMod($A68,I$2,$A$2)","v":0},{"$f":"[1]!PowerMod($A68,J$2,$A$2)","v":0},{"$f":"[1]!PowerMod($A68,K$2,$A$2)","v":0},{"$f":"[1]!PowerMod($A68,L$2,$A$2)","v":0},{"$f":"[1]!PowerMod($A68,M$2,$A$2)","v":0},{"$f":"[1]!PowerMod($A68,N$2,$A$2)","v":0},{"$f":"[1]!PowerMod($A68,O$2,$A$2)","v":0},{"$f":"[1]!PowerMod($A68,P$2,$A$2)","v":0},{"$f":"[1]!PowerMod($A68,Q$2,$A$2)","v":0},{"$f":"[1]!PowerMod($A68,R$2,$A$2)","v":0},{"$f":"[1]!PowerMod($A68,S$2,$A$2)","v":0},{"$f":"[1]!PowerMod($A68,T$2,$A$2)","v":0},{"$f":"[1]!PowerMod($A68,U$2,$A$2)","v":0},{"$f":"[1]!PowerMod($A68,V$2,$A$2)","v":0},{"$f":"[1]!PowerMod($A68,W$2,$A$2)","v":0},{"$f":"[1]!PowerMod($A68,X$2,$A$2)","v":0},{"$f":"[1]!PowerMod($A68,Y$2,$A$2)","v":0},{"$f":"[1]!PowerMod($A68,Z$2,$A$2)","v":0},{"$f":"[1]!PowerMod($A68,AA$2,$A$2)","v":0},{"$f":"[1]!PowerMod($A68,AB$2,$A$2)","v":0},{"$f":"[1]!PowerMod($A68,AC$2,$A$2)","v":0},{"$f":"[1]!PowerMod($A68,AD$2,$A$2)","v":0},{"$f":"[1]!PowerMod($A68,AE$2,$A$2)","v":0},{"$f":"[1]!PowerMod($A68,AF$2,$A$2)","v":0},{"$f":"[1]!PowerMod($A68,AG$2,$A$2)","v":0},{"$f":"[1]!PowerMod($A68,AH$2,$A$2)","v":0},{"$f":"[1]!PowerMod($A68,AI$2,$A$2)","v":0},{"$f":"[1]!PowerMod($A68,AJ$2,$A$2)","v":0},{"$f":"[1]!PowerMod($A68,AK$2,$A$2)","v":0},{"$f":"[1]!PowerMod($A68,AL$2,$A$2)","v":0},{"$f":"[1]!PowerMod($A68,AM$2,$A$2)","v":0},{"$f":"[1]!PowerMod($A68,AN$2,$A$2)","v":0},{"$f":"[1]!PowerMod($A68,AO$2,$A$2)","v":0},{"$f":"[1]!PowerMod($A68,AP$2,$A$2)","v":0},{"$f":"[1]!PowerMod($A68,AQ$2,$A$2)","v":0},{"$f":"[1]!PowerMod($A68,AR$2,$A$2)","v":0},{"$f":"[1]!PowerMod($A68,AS$2,$A$2)","v":0},{"$f":"[1]!PowerMod($A68,AT$2,$A$2)","v":0},{"$f":"[1]!PowerMod($A68,AU$2,$A$2)","v":0},{"$f":"[1]!PowerMod($A68,AV$2,$A$2)","v":0},{"$f":"[1]!PowerMod($A68,AW$2,$A$2)","v":0},{"$f":"[1]!PowerMod($A68,AX$2,$A$2)","v":0},{"$f":"[1]!PowerMod($A68,AY$2,$A$2)","v":0},{"$f":"[1]!PowerMod($A68,AZ$2,$A$2)","v":0},{"$f":"[1]!PowerMod($A68,BA$2,$A$2)","v":0},{"$f":"[1]!PowerMod($A68,BB$2,$A$2)","v":0},{"$f":"[1]!PowerMod($A68,BC$2,$A$2)","v":0},{"$f":"[1]!PowerMod($A68,BD$2,$A$2)","v":0},{"$f":"[1]!PowerMod($A68,BE$2,$A$2)","v":0},{"$f":"[1]!PowerMod($A68,BF$2,$A$2)","v":0},{"$f":"[1]!PowerMod($A68,BG$2,$A$2)","v":0},{"$f":"[1]!PowerMod($A68,BH$2,$A$2)","v":0},{"$f":"[1]!PowerMod($A68,BI$2,$A$2)","v":0},{"$f":"[1]!PowerMod($A68,BJ$2,$A$2)","v":0},{"$f":"[1]!PowerMod($A68,BK$2,$A$2)","v":0},{"$f":"[1]!PowerMod($A68,BL$2,$A$2)","v":0},{"$f":"[1]!PowerMod($A68,BM$2,$A$2)","v":0},{"$f":"[1]!PowerMod($A68,BN$2,$A$2)","v":0},{"$f":"[1]!PowerMod($A68,BO$2,$A$2)","v":0},{"$f":"[1]!PowerMod($A68,BP$2,$A$2)","v":0},{"$f":"[1]!PowerMod($A68,BQ$2,$A$2)","v":0},{"$f":"[1]!PowerMod($A68,BR$2,$A$2)","v":0},{"$f":"[1]!PowerMod($A68,BS$2,$A$2)","v":0},{"$f":"[1]!PowerMod($A68,BT$2,$A$2)","v":0}]
[67,{"$f":"[1]!PowerMod($A69,B$2,$A$2)","v":13},{"$f":"[1]!PowerMod($A69,C$2,$A$2)","v":7},{"$f":"[1]!PowerMod($A69,D$2,$A$2)","v":10},{"$f":"[1]!PowerMod($A69,E$2,$A$2)","v":22},{"$f":"[1]!PowerMod($A69,F$2,$A$2)","v":16},{"$f":"[1]!PowerMod($A69,G$2,$A$2)","v":19},{"$f":"[1]!PowerMod($A69,H$2,$A$2)","v":4},{"$f":"[1]!PowerMod($A69,I$2,$A$2)","v":25},{"$f":"[1]!PowerMod($A69,J$2,$A$2)","v":1},{"$f":"[1]!PowerMod($A69,K$2,$A$2)","v":13},{"$f":"[1]!PowerMod($A69,L$2,$A$2)","v":7},{"$f":"[1]!PowerMod($A69,M$2,$A$2)","v":10},{"$f":"[1]!PowerMod($A69,N$2,$A$2)","v":22},{"$f":"[1]!PowerMod($A69,O$2,$A$2)","v":16},{"$f":"[1]!PowerMod($A69,P$2,$A$2)","v":19},{"$f":"[1]!PowerMod($A69,Q$2,$A$2)","v":4},{"$f":"[1]!PowerMod($A69,R$2,$A$2)","v":25},{"$f":"[1]!PowerMod($A69,S$2,$A$2)","v":1},{"$f":"[1]!PowerMod($A69,T$2,$A$2)","v":13},{"$f":"[1]!PowerMod($A69,U$2,$A$2)","v":7},{"$f":"[1]!PowerMod($A69,V$2,$A$2)","v":10},{"$f":"[1]!PowerMod($A69,W$2,$A$2)","v":22},{"$f":"[1]!PowerMod($A69,X$2,$A$2)","v":16},{"$f":"[1]!PowerMod($A69,Y$2,$A$2)","v":19},{"$f":"[1]!PowerMod($A69,Z$2,$A$2)","v":4},{"$f":"[1]!PowerMod($A69,AA$2,$A$2)","v":25},{"$f":"[1]!PowerMod($A69,AB$2,$A$2)","v":1},{"$f":"[1]!PowerMod($A69,AC$2,$A$2)","v":13},{"$f":"[1]!PowerMod($A69,AD$2,$A$2)","v":7},{"$f":"[1]!PowerMod($A69,AE$2,$A$2)","v":10},{"$f":"[1]!PowerMod($A69,AF$2,$A$2)","v":22},{"$f":"[1]!PowerMod($A69,AG$2,$A$2)","v":16},{"$f":"[1]!PowerMod($A69,AH$2,$A$2)","v":19},{"$f":"[1]!PowerMod($A69,AI$2,$A$2)","v":4},{"$f":"[1]!PowerMod($A69,AJ$2,$A$2)","v":25},{"$f":"[1]!PowerMod($A69,AK$2,$A$2)","v":1},{"$f":"[1]!PowerMod($A69,AL$2,$A$2)","v":13},{"$f":"[1]!PowerMod($A69,AM$2,$A$2)","v":7},{"$f":"[1]!PowerMod($A69,AN$2,$A$2)","v":10},{"$f":"[1]!PowerMod($A69,AO$2,$A$2)","v":22},{"$f":"[1]!PowerMod($A69,AP$2,$A$2)","v":16},{"$f":"[1]!PowerMod($A69,AQ$2,$A$2)","v":19},{"$f":"[1]!PowerMod($A69,AR$2,$A$2)","v":4},{"$f":"[1]!PowerMod($A69,AS$2,$A$2)","v":25},{"$f":"[1]!PowerMod($A69,AT$2,$A$2)","v":1},{"$f":"[1]!PowerMod($A69,AU$2,$A$2)","v":13},{"$f":"[1]!PowerMod($A69,AV$2,$A$2)","v":7},{"$f":"[1]!PowerMod($A69,AW$2,$A$2)","v":10},{"$f":"[1]!PowerMod($A69,AX$2,$A$2)","v":22},{"$f":"[1]!PowerMod($A69,AY$2,$A$2)","v":16},{"$f":"[1]!PowerMod($A69,AZ$2,$A$2)","v":19},{"$f":"[1]!PowerMod($A69,BA$2,$A$2)","v":4},{"$f":"[1]!PowerMod($A69,BB$2,$A$2)","v":25},{"$f":"[1]!PowerMod($A69,BC$2,$A$2)","v":1},{"$f":"[1]!PowerMod($A69,BD$2,$A$2)","v":13},{"$f":"[1]!PowerMod($A69,BE$2,$A$2)","v":7},{"$f":"[1]!PowerMod($A69,BF$2,$A$2)","v":10},{"$f":"[1]!PowerMod($A69,BG$2,$A$2)","v":22},{"$f":"[1]!PowerMod($A69,BH$2,$A$2)","v":16},{"$f":"[1]!PowerMod($A69,BI$2,$A$2)","v":19},{"$f":"[1]!PowerMod($A69,BJ$2,$A$2)","v":4},{"$f":"[1]!PowerMod($A69,BK$2,$A$2)","v":25},{"$f":"[1]!PowerMod($A69,BL$2,$A$2)","v":1},{"$f":"[1]!PowerMod($A69,BM$2,$A$2)","v":13},{"$f":"[1]!PowerMod($A69,BN$2,$A$2)","v":7},{"$f":"[1]!PowerMod($A69,BO$2,$A$2)","v":10},{"$f":"[1]!PowerMod($A69,BP$2,$A$2)","v":22},{"$f":"[1]!PowerMod($A69,BQ$2,$A$2)","v":16},{"$f":"[1]!PowerMod($A69,BR$2,$A$2)","v":19},{"$f":"[1]!PowerMod($A69,BS$2,$A$2)","v":4},{"$f":"[1]!PowerMod($A69,BT$2,$A$2)","v":25}]
[68,{"$f":"[1]!PowerMod($A70,B$2,$A$2)","v":14},{"$f":"[1]!PowerMod($A70,C$2,$A$2)","v":7},{"$f":"[1]!PowerMod($A70,D$2,$A$2)","v":17},{"$f":"[1]!PowerMod($A70,E$2,$A$2)","v":22},{"$f":"[1]!PowerMod($A70,F$2,$A$2)","v":11},{"$f":"[1]!PowerMod($A70,G$2,$A$2)","v":19},{"$f":"[1]!PowerMod($A70,H$2,$A$2)","v":23},{"$f":"[1]!PowerMod($A70,I$2,$A$2)","v":25},{"$f":"[1]!PowerMod($A70,J$2,$A$2)","v":26},{"$f":"[1]!PowerMod($A70,K$2,$A$2)","v":13},{"$f":"[1]!PowerMod($A70,L$2,$A$2)","v":20},{"$f":"[1]!PowerMod($A70,M$2,$A$2)","v":10},{"$f":"[1]!PowerMod($A70,N$2,$A$2)","v":5},{"$f":"[1]!PowerMod($A70,O$2,$A$2)","v":16},{"$f":"[1]!PowerMod($A70,P$2,$A$2)","v":8},{"$f":"[1]!PowerMod($A70,Q$2,$A$2)","v":4},{"$f":"[1]!PowerMod($A70,R$2,$A$2)","v":2},{"$f":"[1]!PowerMod($A70,S$2,$A$2)","v":1},{"$f":"[1]!PowerMod($A70,T$2,$A$2)","v":14},{"$f":"[1]!PowerMod($A70,U$2,$A$2)","v":7},{"$f":"[1]!PowerMod($A70,V$2,$A$2)","v":17},{"$f":"[1]!PowerMod($A70,W$2,$A$2)","v":22},{"$f":"[1]!PowerMod($A70,X$2,$A$2)","v":11},{"$f":"[1]!PowerMod($A70,Y$2,$A$2)","v":19},{"$f":"[1]!PowerMod($A70,Z$2,$A$2)","v":23},{"$f":"[1]!PowerMod($A70,AA$2,$A$2)","v":25},{"$f":"[1]!PowerMod($A70,AB$2,$A$2)","v":26},{"$f":"[1]!PowerMod($A70,AC$2,$A$2)","v":13},{"$f":"[1]!PowerMod($A70,AD$2,$A$2)","v":20},{"$f":"[1]!PowerMod($A70,AE$2,$A$2)","v":10},{"$f":"[1]!PowerMod($A70,AF$2,$A$2)","v":5},{"$f":"[1]!PowerMod($A70,AG$2,$A$2)","v":16},{"$f":"[1]!PowerMod($A70,AH$2,$A$2)","v":8},{"$f":"[1]!PowerMod($A70,AI$2,$A$2)","v":4},{"$f":"[1]!PowerMod($A70,AJ$2,$A$2)","v":2},{"$f":"[1]!PowerMod($A70,AK$2,$A$2)","v":1},{"$f":"[1]!PowerMod($A70,AL$2,$A$2)","v":14},{"$f":"[1]!PowerMod($A70,AM$2,$A$2)","v":7},{"$f":"[1]!PowerMod($A70,AN$2,$A$2)","v":17},{"$f":"[1]!PowerMod($A70,AO$2,$A$2)","v":22},{"$f":"[1]!PowerMod($A70,AP$2,$A$2)","v":11},{"$f":"[1]!PowerMod($A70,AQ$2,$A$2)","v":19},{"$f":"[1]!PowerMod($A70,AR$2,$A$2)","v":23},{"$f":"[1]!PowerMod($A70,AS$2,$A$2)","v":25},{"$f":"[1]!PowerMod($A70,AT$2,$A$2)","v":26},{"$f":"[1]!PowerMod($A70,AU$2,$A$2)","v":13},{"$f":"[1]!PowerMod($A70,AV$2,$A$2)","v":20},{"$f":"[1]!PowerMod($A70,AW$2,$A$2)","v":10},{"$f":"[1]!PowerMod($A70,AX$2,$A$2)","v":5},{"$f":"[1]!PowerMod($A70,AY$2,$A$2)","v":16},{"$f":"[1]!PowerMod($A70,AZ$2,$A$2)","v":8},{"$f":"[1]!PowerMod($A70,BA$2,$A$2)","v":4},{"$f":"[1]!PowerMod($A70,BB$2,$A$2)","v":2},{"$f":"[1]!PowerMod($A70,BC$2,$A$2)","v":1},{"$f":"[1]!PowerMod($A70,BD$2,$A$2)","v":14},{"$f":"[1]!PowerMod($A70,BE$2,$A$2)","v":7},{"$f":"[1]!PowerMod($A70,BF$2,$A$2)","v":17},{"$f":"[1]!PowerMod($A70,BG$2,$A$2)","v":22},{"$f":"[1]!PowerMod($A70,BH$2,$A$2)","v":11},{"$f":"[1]!PowerMod($A70,BI$2,$A$2)","v":19},{"$f":"[1]!PowerMod($A70,BJ$2,$A$2)","v":23},{"$f":"[1]!PowerMod($A70,BK$2,$A$2)","v":25},{"$f":"[1]!PowerMod($A70,BL$2,$A$2)","v":26},{"$f":"[1]!PowerMod($A70,BM$2,$A$2)","v":13},{"$f":"[1]!PowerMod($A70,BN$2,$A$2)","v":20},{"$f":"[1]!PowerMod($A70,BO$2,$A$2)","v":10},{"$f":"[1]!PowerMod($A70,BP$2,$A$2)","v":5},{"$f":"[1]!PowerMod($A70,BQ$2,$A$2)","v":16},{"$f":"[1]!PowerMod($A70,BR$2,$A$2)","v":8},{"$f":"[1]!PowerMod($A70,BS$2,$A$2)","v":4},{"$f":"[1]!PowerMod($A70,BT$2,$A$2)","v":2}]
[69,{"$f":"[1]!PowerMod($A71,B$2,$A$2)","v":15},{"$f":"[1]!PowerMod($A71,C$2,$A$2)","v":9},{"$f":"[1]!PowerMod($A71,D$2,$A$2)","v":0},{"$f":"[1]!PowerMod($A71,E$2,$A$2)","v":0},{"$f":"[1]!PowerMod($A71,F$2,$A$2)","v":0},{"$f":"[1]!PowerMod($A71,G$2,$A$2)","v":0},{"$f":"[1]!PowerMod($A71,H$2,$A$2)","v":0},{"$f":"[1]!PowerMod($A71,I$2,$A$2)","v":0},{"$f":"[1]!PowerMod($A71,J$2,$A$2)","v":0},{"$f":"[1]!PowerMod($A71,K$2,$A$2)","v":0},{"$f":"[1]!PowerMod($A71,L$2,$A$2)","v":0},{"$f":"[1]!PowerMod($A71,M$2,$A$2)","v":0},{"$f":"[1]!PowerMod($A71,N$2,$A$2)","v":0},{"$f":"[1]!PowerMod($A71,O$2,$A$2)","v":0},{"$f":"[1]!PowerMod($A71,P$2,$A$2)","v":0},{"$f":"[1]!PowerMod($A71,Q$2,$A$2)","v":0},{"$f":"[1]!PowerMod($A71,R$2,$A$2)","v":0},{"$f":"[1]!PowerMod($A71,S$2,$A$2)","v":0},{"$f":"[1]!PowerMod($A71,T$2,$A$2)","v":0},{"$f":"[1]!PowerMod($A71,U$2,$A$2)","v":0},{"$f":"[1]!PowerMod($A71,V$2,$A$2)","v":0},{"$f":"[1]!PowerMod($A71,W$2,$A$2)","v":0},{"$f":"[1]!PowerMod($A71,X$2,$A$2)","v":0},{"$f":"[1]!PowerMod($A71,Y$2,$A$2)","v":0},{"$f":"[1]!PowerMod($A71,Z$2,$A$2)","v":0},{"$f":"[1]!PowerMod($A71,AA$2,$A$2)","v":0},{"$f":"[1]!PowerMod($A71,AB$2,$A$2)","v":0},{"$f":"[1]!PowerMod($A71,AC$2,$A$2)","v":0},{"$f":"[1]!PowerMod($A71,AD$2,$A$2)","v":0},{"$f":"[1]!PowerMod($A71,AE$2,$A$2)","v":0},{"$f":"[1]!PowerMod($A71,AF$2,$A$2)","v":0},{"$f":"[1]!PowerMod($A71,AG$2,$A$2)","v":0},{"$f":"[1]!PowerMod($A71,AH$2,$A$2)","v":0},{"$f":"[1]!PowerMod($A71,AI$2,$A$2)","v":0},{"$f":"[1]!PowerMod($A71,AJ$2,$A$2)","v":0},{"$f":"[1]!PowerMod($A71,AK$2,$A$2)","v":0},{"$f":"[1]!PowerMod($A71,AL$2,$A$2)","v":0},{"$f":"[1]!PowerMod($A71,AM$2,$A$2)","v":0},{"$f":"[1]!PowerMod($A71,AN$2,$A$2)","v":0},{"$f":"[1]!PowerMod($A71,AO$2,$A$2)","v":0},{"$f":"[1]!PowerMod($A71,AP$2,$A$2)","v":0},{"$f":"[1]!PowerMod($A71,AQ$2,$A$2)","v":0},{"$f":"[1]!PowerMod($A71,AR$2,$A$2)","v":0},{"$f":"[1]!PowerMod($A71,AS$2,$A$2)","v":0},{"$f":"[1]!PowerMod($A71,AT$2,$A$2)","v":0},{"$f":"[1]!PowerMod($A71,AU$2,$A$2)","v":0},{"$f":"[1]!PowerMod($A71,AV$2,$A$2)","v":0},{"$f":"[1]!PowerMod($A71,AW$2,$A$2)","v":0},{"$f":"[1]!PowerMod($A71,AX$2,$A$2)","v":0},{"$f":"[1]!PowerMod($A71,AY$2,$A$2)","v":0},{"$f":"[1]!PowerMod($A71,AZ$2,$A$2)","v":0},{"$f":"[1]!PowerMod($A71,BA$2,$A$2)","v":0},{"$f":"[1]!PowerMod($A71,BB$2,$A$2)","v":0},{"$f":"[1]!PowerMod($A71,BC$2,$A$2)","v":0},{"$f":"[1]!PowerMod($A71,BD$2,$A$2)","v":0},{"$f":"[1]!PowerMod($A71,BE$2,$A$2)","v":0},{"$f":"[1]!PowerMod($A71,BF$2,$A$2)","v":0},{"$f":"[1]!PowerMod($A71,BG$2,$A$2)","v":0},{"$f":"[1]!PowerMod($A71,BH$2,$A$2)","v":0},{"$f":"[1]!PowerMod($A71,BI$2,$A$2)","v":0},{"$f":"[1]!PowerMod($A71,BJ$2,$A$2)","v":0},{"$f":"[1]!PowerMod($A71,BK$2,$A$2)","v":0},{"$f":"[1]!PowerMod($A71,BL$2,$A$2)","v":0},{"$f":"[1]!PowerMod($A71,BM$2,$A$2)","v":0},{"$f":"[1]!PowerMod($A71,BN$2,$A$2)","v":0},{"$f":"[1]!PowerMod($A71,BO$2,$A$2)","v":0},{"$f":"[1]!PowerMod($A71,BP$2,$A$2)","v":0},{"$f":"[1]!PowerMod($A71,BQ$2,$A$2)","v":0},{"$f":"[1]!PowerMod($A71,BR$2,$A$2)","v":0},{"$f":"[1]!PowerMod($A71,BS$2,$A$2)","v":0},{"$f":"[1]!PowerMod($A71,BT$2,$A$2)","v":0}]
[70,{"$f":"[1]!PowerMod($A72,B$2,$A$2)","v":16},{"$f":"[1]!PowerMod($A72,C$2,$A$2)","v":13},{"$f":"[1]!PowerMod($A72,D$2,$A$2)","v":19},{"$f":"[1]!PowerMod($A72,E$2,$A$2)","v":7},{"$f":"[1]!PowerMod($A72,F$2,$A$2)","v":4},{"$f":"[1]!PowerMod($A72,G$2,$A$2)","v":10},{"$f":"[1]!PowerMod($A72,H$2,$A$2)","v":25},{"$f":"[1]!PowerMod($A72,I$2,$A$2)","v":22},{"$f":"[1]!PowerMod($A72,J$2,$A$2)","v":1},{"$f":"[1]!PowerMod($A72,K$2,$A$2)","v":16},{"$f":"[1]!PowerMod($A72,L$2,$A$2)","v":13},{"$f":"[1]!PowerMod($A72,M$2,$A$2)","v":19},{"$f":"[1]!PowerMod($A72,N$2,$A$2)","v":7},{"$f":"[1]!PowerMod($A72,O$2,$A$2)","v":4},{"$f":"[1]!PowerMod($A72,P$2,$A$2)","v":10},{"$f":"[1]!PowerMod($A72,Q$2,$A$2)","v":25},{"$f":"[1]!PowerMod($A72,R$2,$A$2)","v":22},{"$f":"[1]!PowerMod($A72,S$2,$A$2)","v":1},{"$f":"[1]!PowerMod($A72,T$2,$A$2)","v":16},{"$f":"[1]!PowerMod($A72,U$2,$A$2)","v":13},{"$f":"[1]!PowerMod($A72,V$2,$A$2)","v":19},{"$f":"[1]!PowerMod($A72,W$2,$A$2)","v":7},{"$f":"[1]!PowerMod($A72,X$2,$A$2)","v":4},{"$f":"[1]!PowerMod($A72,Y$2,$A$2)","v":10},{"$f":"[1]!PowerMod($A72,Z$2,$A$2)","v":25},{"$f":"[1]!PowerMod($A72,AA$2,$A$2)","v":22},{"$f":"[1]!PowerMod($A72,AB$2,$A$2)","v":1},{"$f":"[1]!PowerMod($A72,AC$2,$A$2)","v":16},{"$f":"[1]!PowerMod($A72,AD$2,$A$2)","v":13},{"$f":"[1]!PowerMod($A72,AE$2,$A$2)","v":19},{"$f":"[1]!PowerMod($A72,AF$2,$A$2)","v":7},{"$f":"[1]!PowerMod($A72,AG$2,$A$2)","v":4},{"$f":"[1]!PowerMod($A72,AH$2,$A$2)","v":10},{"$f":"[1]!PowerMod($A72,AI$2,$A$2)","v":25},{"$f":"[1]!PowerMod($A72,AJ$2,$A$2)","v":22},{"$f":"[1]!PowerMod($A72,AK$2,$A$2)","v":1},{"$f":"[1]!PowerMod($A72,AL$2,$A$2)","v":16},{"$f":"[1]!PowerMod($A72,AM$2,$A$2)","v":13},{"$f":"[1]!PowerMod($A72,AN$2,$A$2)","v":19},{"$f":"[1]!PowerMod($A72,AO$2,$A$2)","v":7},{"$f":"[1]!PowerMod($A72,AP$2,$A$2)","v":4},{"$f":"[1]!PowerMod($A72,AQ$2,$A$2)","v":10},{"$f":"[1]!PowerMod($A72,AR$2,$A$2)","v":25},{"$f":"[1]!PowerMod($A72,AS$2,$A$2)","v":22},{"$f":"[1]!PowerMod($A72,AT$2,$A$2)","v":1},{"$f":"[1]!PowerMod($A72,AU$2,$A$2)","v":16},{"$f":"[1]!PowerMod($A72,AV$2,$A$2)","v":13},{"$f":"[1]!PowerMod($A72,AW$2,$A$2)","v":19},{"$f":"[1]!PowerMod($A72,AX$2,$A$2)","v":7},{"$f":"[1]!PowerMod($A72,AY$2,$A$2)","v":4},{"$f":"[1]!PowerMod($A72,AZ$2,$A$2)","v":10},{"$f":"[1]!PowerMod($A72,BA$2,$A$2)","v":25},{"$f":"[1]!PowerMod($A72,BB$2,$A$2)","v":22},{"$f":"[1]!PowerMod($A72,BC$2,$A$2)","v":1},{"$f":"[1]!PowerMod($A72,BD$2,$A$2)","v":16},{"$f":"[1]!PowerMod($A72,BE$2,$A$2)","v":13},{"$f":"[1]!PowerMod($A72,BF$2,$A$2)","v":19},{"$f":"[1]!PowerMod($A72,BG$2,$A$2)","v":7},{"$f":"[1]!PowerMod($A72,BH$2,$A$2)","v":4},{"$f":"[1]!PowerMod($A72,BI$2,$A$2)","v":10},{"$f":"[1]!PowerMod($A72,BJ$2,$A$2)","v":25},{"$f":"[1]!PowerMod($A72,BK$2,$A$2)","v":22},{"$f":"[1]!PowerMod($A72,BL$2,$A$2)","v":1},{"$f":"[1]!PowerMod($A72,BM$2,$A$2)","v":16},{"$f":"[1]!PowerMod($A72,BN$2,$A$2)","v":13},{"$f":"[1]!PowerMod($A72,BO$2,$A$2)","v":19},{"$f":"[1]!PowerMod($A72,BP$2,$A$2)","v":7},{"$f":"[1]!PowerMod($A72,BQ$2,$A$2)","v":4},{"$f":"[1]!PowerMod($A72,BR$2,$A$2)","v":10},{"$f":"[1]!PowerMod($A72,BS$2,$A$2)","v":25},{"$f":"[1]!PowerMod($A72,BT$2,$A$2)","v":22}]
[71,{"$f":"[1]!PowerMod($A73,B$2,$A$2)","v":17},{"$f":"[1]!PowerMod($A73,C$2,$A$2)","v":19},{"$f":"[1]!PowerMod($A73,D$2,$A$2)","v":26},{"$f":"[1]!PowerMod($A73,E$2,$A$2)","v":10},{"$f":"[1]!PowerMod($A73,F$2,$A$2)","v":8},{"$f":"[1]!PowerMod($A73,G$2,$A$2)","v":1},{"$f":"[1]!PowerMod($A73,H$2,$A$2)","v":17},{"$f":"[1]!PowerMod($A73,I$2,$A$2)","v":19},{"$f":"[1]!PowerMod($A73,J$2,$A$2)","v":26},{"$f":"[1]!PowerMod($A73,K$2,$A$2)","v":10},{"$f":"[1]!PowerMod($A73,L$2,$A$2)","v":8},{"$f":"[1]!PowerMod($A73,M$2,$A$2)","v":1},{"$f":"[1]!PowerMod($A73,N$2,$A$2)","v":17},{"$f":"[1]!PowerMod($A73,O$2,$A$2)","v":19},{"$f":"[1]!PowerMod($A73,P$2,$A$2)","v":26},{"$f":"[1]!PowerMod($A73,Q$2,$A$2)","v":10},{"$f":"[1]!PowerMod($A73,R$2,$A$2)","v":8},{"$f":"[1]!PowerMod($A73,S$2,$A$2)","v":1},{"$f":"[1]!PowerMod($A73,T$2,$A$2)","v":17},{"$f":"[1]!PowerMod($A73,U$2,$A$2)","v":19},{"$f":"[1]!PowerMod($A73,V$2,$A$2)","v":26},{"$f":"[1]!PowerMod($A73,W$2,$A$2)","v":10},{"$f":"[1]!PowerMod($A73,X$2,$A$2)","v":8},{"$f":"[1]!PowerMod($A73,Y$2,$A$2)","v":1},{"$f":"[1]!PowerMod($A73,Z$2,$A$2)","v":17},{"$f":"[1]!PowerMod($A73,AA$2,$A$2)","v":19},{"$f":"[1]!PowerMod($A73,AB$2,$A$2)","v":26},{"$f":"[1]!PowerMod($A73,AC$2,$A$2)","v":10},{"$f":"[1]!PowerMod($A73,AD$2,$A$2)","v":8},{"$f":"[1]!PowerMod($A73,AE$2,$A$2)","v":1},{"$f":"[1]!PowerMod($A73,AF$2,$A$2)","v":17},{"$f":"[1]!PowerMod($A73,AG$2,$A$2)","v":19},{"$f":"[1]!PowerMod($A73,AH$2,$A$2)","v":26},{"$f":"[1]!PowerMod($A73,AI$2,$A$2)","v":10},{"$f":"[1]!PowerMod($A73,AJ$2,$A$2)","v":8},{"$f":"[1]!PowerMod($A73,AK$2,$A$2)","v":1},{"$f":"[1]!PowerMod($A73,AL$2,$A$2)","v":17},{"$f":"[1]!PowerMod($A73,AM$2,$A$2)","v":19},{"$f":"[1]!PowerMod($A73,AN$2,$A$2)","v":26},{"$f":"[1]!PowerMod($A73,AO$2,$A$2)","v":10},{"$f":"[1]!PowerMod($A73,AP$2,$A$2)","v":8},{"$f":"[1]!PowerMod($A73,AQ$2,$A$2)","v":1},{"$f":"[1]!PowerMod($A73,AR$2,$A$2)","v":17},{"$f":"[1]!PowerMod($A73,AS$2,$A$2)","v":19},{"$f":"[1]!PowerMod($A73,AT$2,$A$2)","v":26},{"$f":"[1]!PowerMod($A73,AU$2,$A$2)","v":10},{"$f":"[1]!PowerMod($A73,AV$2,$A$2)","v":8},{"$f":"[1]!PowerMod($A73,AW$2,$A$2)","v":1},{"$f":"[1]!PowerMod($A73,AX$2,$A$2)","v":17},{"$f":"[1]!PowerMod($A73,AY$2,$A$2)","v":19},{"$f":"[1]!PowerMod($A73,AZ$2,$A$2)","v":26},{"$f":"[1]!PowerMod($A73,BA$2,$A$2)","v":10},{"$f":"[1]!PowerMod($A73,BB$2,$A$2)","v":8},{"$f":"[1]!PowerMod($A73,BC$2,$A$2)","v":1},{"$f":"[1]!PowerMod($A73,BD$2,$A$2)","v":17},{"$f":"[1]!PowerMod($A73,BE$2,$A$2)","v":19},{"$f":"[1]!PowerMod($A73,BF$2,$A$2)","v":26},{"$f":"[1]!PowerMod($A73,BG$2,$A$2)","v":10},{"$f":"[1]!PowerMod($A73,BH$2,$A$2)","v":8},{"$f":"[1]!PowerMod($A73,BI$2,$A$2)","v":1},{"$f":"[1]!PowerMod($A73,BJ$2,$A$2)","v":17},{"$f":"[1]!PowerMod($A73,BK$2,$A$2)","v":19},{"$f":"[1]!PowerMod($A73,BL$2,$A$2)","v":26},{"$f":"[1]!PowerMod($A73,BM$2,$A$2)","v":10},{"$f":"[1]!PowerMod($A73,BN$2,$A$2)","v":8},{"$f":"[1]!PowerMod($A73,BO$2,$A$2)","v":1},{"$f":"[1]!PowerMod($A73,BP$2,$A$2)","v":17},{"$f":"[1]!PowerMod($A73,BQ$2,$A$2)","v":19},{"$f":"[1]!PowerMod($A73,BR$2,$A$2)","v":26},{"$f":"[1]!PowerMod($A73,BS$2,$A$2)","v":10},{"$f":"[1]!PowerMod($A73,BT$2,$A$2)","v":8}]
[72,{"$f":"[1]!PowerMod($A74,B$2,$A$2)","v":18},{"$f":"[1]!PowerMod($A74,C$2,$A$2)","v":0},{"$f":"[1]!PowerMod($A74,D$2,$A$2)","v":0},{"$f":"[1]!PowerMod($A74,E$2,$A$2)","v":0},{"$f":"[1]!PowerMod($A74,F$2,$A$2)","v":0},{"$f":"[1]!PowerMod($A74,G$2,$A$2)","v":0},{"$f":"[1]!PowerMod($A74,H$2,$A$2)","v":0},{"$f":"[1]!PowerMod($A74,I$2,$A$2)","v":0},{"$f":"[1]!PowerMod($A74,J$2,$A$2)","v":0},{"$f":"[1]!PowerMod($A74,K$2,$A$2)","v":0},{"$f":"[1]!PowerMod($A74,L$2,$A$2)","v":0},{"$f":"[1]!PowerMod($A74,M$2,$A$2)","v":0},{"$f":"[1]!PowerMod($A74,N$2,$A$2)","v":0},{"$f":"[1]!PowerMod($A74,O$2,$A$2)","v":0},{"$f":"[1]!PowerMod($A74,P$2,$A$2)","v":0},{"$f":"[1]!PowerMod($A74,Q$2,$A$2)","v":0},{"$f":"[1]!PowerMod($A74,R$2,$A$2)","v":0},{"$f":"[1]!PowerMod($A74,S$2,$A$2)","v":0},{"$f":"[1]!PowerMod($A74,T$2,$A$2)","v":0},{"$f":"[1]!PowerMod($A74,U$2,$A$2)","v":0},{"$f":"[1]!PowerMod($A74,V$2,$A$2)","v":0},{"$f":"[1]!PowerMod($A74,W$2,$A$2)","v":0},{"$f":"[1]!PowerMod($A74,X$2,$A$2)","v":0},{"$f":"[1]!PowerMod($A74,Y$2,$A$2)","v":0},{"$f":"[1]!PowerMod($A74,Z$2,$A$2)","v":0},{"$f":"[1]!PowerMod($A74,AA$2,$A$2)","v":0},{"$f":"[1]!PowerMod($A74,AB$2,$A$2)","v":0},{"$f":"[1]!PowerMod($A74,AC$2,$A$2)","v":0},{"$f":"[1]!PowerMod($A74,AD$2,$A$2)","v":0},{"$f":"[1]!PowerMod($A74,AE$2,$A$2)","v":0},{"$f":"[1]!PowerMod($A74,AF$2,$A$2)","v":0},{"$f":"[1]!PowerMod($A74,AG$2,$A$2)","v":0},{"$f":"[1]!PowerMod($A74,AH$2,$A$2)","v":0},{"$f":"[1]!PowerMod($A74,AI$2,$A$2)","v":0},{"$f":"[1]!PowerMod($A74,AJ$2,$A$2)","v":0},{"$f":"[1]!PowerMod($A74,AK$2,$A$2)","v":0},{"$f":"[1]!PowerMod($A74,AL$2,$A$2)","v":0},{"$f":"[1]!PowerMod($A74,AM$2,$A$2)","v":0},{"$f":"[1]!PowerMod($A74,AN$2,$A$2)","v":0},{"$f":"[1]!PowerMod($A74,AO$2,$A$2)","v":0},{"$f":"[1]!PowerMod($A74,AP$2,$A$2)","v":0},{"$f":"[1]!PowerMod($A74,AQ$2,$A$2)","v":0},{"$f":"[1]!PowerMod($A74,AR$2,$A$2)","v":0},{"$f":"[1]!PowerMod($A74,AS$2,$A$2)","v":0},{"$f":"[1]!PowerMod($A74,AT$2,$A$2)","v":0},{"$f":"[1]!PowerMod($A74,AU$2,$A$2)","v":0},{"$f":"[1]!PowerMod($A74,AV$2,$A$2)","v":0},{"$f":"[1]!PowerMod($A74,AW$2,$A$2)","v":0},{"$f":"[1]!PowerMod($A74,AX$2,$A$2)","v":0},{"$f":"[1]!PowerMod($A74,AY$2,$A$2)","v":0},{"$f":"[1]!PowerMod($A74,AZ$2,$A$2)","v":0},{"$f":"[1]!PowerMod($A74,BA$2,$A$2)","v":0},{"$f":"[1]!PowerMod($A74,BB$2,$A$2)","v":0},{"$f":"[1]!PowerMod($A74,BC$2,$A$2)","v":0},{"$f":"[1]!PowerMod($A74,BD$2,$A$2)","v":0},{"$f":"[1]!PowerMod($A74,BE$2,$A$2)","v":0},{"$f":"[1]!PowerMod($A74,BF$2,$A$2)","v":0},{"$f":"[1]!PowerMod($A74,BG$2,$A$2)","v":0},{"$f":"[1]!PowerMod($A74,BH$2,$A$2)","v":0},{"$f":"[1]!PowerMod($A74,BI$2,$A$2)","v":0},{"$f":"[1]!PowerMod($A74,BJ$2,$A$2)","v":0},{"$f":"[1]!PowerMod($A74,BK$2,$A$2)","v":0},{"$f":"[1]!PowerMod($A74,BL$2,$A$2)","v":0},{"$f":"[1]!PowerMod($A74,BM$2,$A$2)","v":0},{"$f":"[1]!PowerMod($A74,BN$2,$A$2)","v":0},{"$f":"[1]!PowerMod($A74,BO$2,$A$2)","v":0},{"$f":"[1]!PowerMod($A74,BP$2,$A$2)","v":0},{"$f":"[1]!PowerMod($A74,BQ$2,$A$2)","v":0},{"$f":"[1]!PowerMod($A74,BR$2,$A$2)","v":0},{"$f":"[1]!PowerMod($A74,BS$2,$A$2)","v":0},{"$f":"[1]!PowerMod($A74,BT$2,$A$2)","v":0}]
[73,{"$f":"[1]!PowerMod($A75,B$2,$A$2)","v":19},{"$f":"[1]!PowerMod($A75,C$2,$A$2)","v":10},{"$f":"[1]!PowerMod($A75,D$2,$A$2)","v":1},{"$f":"[1]!PowerMod($A75,E$2,$A$2)","v":19},{"$f":"[1]!PowerMod($A75,F$2,$A$2)","v":10},{"$f":"[1]!PowerMod($A75,G$2,$A$2)","v":1},{"$f":"[1]!PowerMod($A75,H$2,$A$2)","v":19},{"$f":"[1]!PowerMod($A75,I$2,$A$2)","v":10},{"$f":"[1]!PowerMod($A75,J$2,$A$2)","v":1},{"$f":"[1]!PowerMod($A75,K$2,$A$2)","v":19},{"$f":"[1]!PowerMod($A75,L$2,$A$2)","v":10},{"$f":"[1]!PowerMod($A75,M$2,$A$2)","v":1},{"$f":"[1]!PowerMod($A75,N$2,$A$2)","v":19},{"$f":"[1]!PowerMod($A75,O$2,$A$2)","v":10},{"$f":"[1]!PowerMod($A75,P$2,$A$2)","v":1},{"$f":"[1]!PowerMod($A75,Q$2,$A$2)","v":19},{"$f":"[1]!PowerMod($A75,R$2,$A$2)","v":10},{"$f":"[1]!PowerMod($A75,S$2,$A$2)","v":1},{"$f":"[1]!PowerMod($A75,T$2,$A$2)","v":19},{"$f":"[1]!PowerMod($A75,U$2,$A$2)","v":10},{"$f":"[1]!PowerMod($A75,V$2,$A$2)","v":1},{"$f":"[1]!PowerMod($A75,W$2,$A$2)","v":19},{"$f":"[1]!PowerMod($A75,X$2,$A$2)","v":10},{"$f":"[1]!PowerMod($A75,Y$2,$A$2)","v":1},{"$f":"[1]!PowerMod($A75,Z$2,$A$2)","v":19},{"$f":"[1]!PowerMod($A75,AA$2,$A$2)","v":10},{"$f":"[1]!PowerMod($A75,AB$2,$A$2)","v":1},{"$f":"[1]!PowerMod($A75,AC$2,$A$2)","v":19},{"$f":"[1]!PowerMod($A75,AD$2,$A$2)","v":10},{"$f":"[1]!PowerMod($A75,AE$2,$A$2)","v":1},{"$f":"[1]!PowerMod($A75,AF$2,$A$2)","v":19},{"$f":"[1]!PowerMod($A75,AG$2,$A$2)","v":10},{"$f":"[1]!PowerMod($A75,AH$2,$A$2)","v":1},{"$f":"[1]!PowerMod($A75,AI$2,$A$2)","v":19},{"$f":"[1]!PowerMod($A75,AJ$2,$A$2)","v":10},{"$f":"[1]!PowerMod($A75,AK$2,$A$2)","v":1},{"$f":"[1]!PowerMod($A75,AL$2,$A$2)","v":19},{"$f":"[1]!PowerMod($A75,AM$2,$A$2)","v":10},{"$f":"[1]!PowerMod($A75,AN$2,$A$2)","v":1},{"$f":"[1]!PowerMod($A75,AO$2,$A$2)","v":19},{"$f":"[1]!PowerMod($A75,AP$2,$A$2)","v":10},{"$f":"[1]!PowerMod($A75,AQ$2,$A$2)","v":1},{"$f":"[1]!PowerMod($A75,AR$2,$A$2)","v":19},{"$f":"[1]!PowerMod($A75,AS$2,$A$2)","v":10},{"$f":"[1]!PowerMod($A75,AT$2,$A$2)","v":1},{"$f":"[1]!PowerMod($A75,AU$2,$A$2)","v":19},{"$f":"[1]!PowerMod($A75,AV$2,$A$2)","v":10},{"$f":"[1]!PowerMod($A75,AW$2,$A$2)","v":1},{"$f":"[1]!PowerMod($A75,AX$2,$A$2)","v":19},{"$f":"[1]!PowerMod($A75,AY$2,$A$2)","v":10},{"$f":"[1]!PowerMod($A75,AZ$2,$A$2)","v":1},{"$f":"[1]!PowerMod($A75,BA$2,$A$2)","v":19},{"$f":"[1]!PowerMod($A75,BB$2,$A$2)","v":10},{"$f":"[1]!PowerMod($A75,BC$2,$A$2)","v":1},{"$f":"[1]!PowerMod($A75,BD$2,$A$2)","v":19},{"$f":"[1]!PowerMod($A75,BE$2,$A$2)","v":10},{"$f":"[1]!PowerMod($A75,BF$2,$A$2)","v":1},{"$f":"[1]!PowerMod($A75,BG$2,$A$2)","v":19},{"$f":"[1]!PowerMod($A75,BH$2,$A$2)","v":10},{"$f":"[1]!PowerMod($A75,BI$2,$A$2)","v":1},{"$f":"[1]!PowerMod($A75,BJ$2,$A$2)","v":19},{"$f":"[1]!PowerMod($A75,BK$2,$A$2)","v":10},{"$f":"[1]!PowerMod($A75,BL$2,$A$2)","v":1},{"$f":"[1]!PowerMod($A75,BM$2,$A$2)","v":19},{"$f":"[1]!PowerMod($A75,BN$2,$A$2)","v":10},{"$f":"[1]!PowerMod($A75,BO$2,$A$2)","v":1},{"$f":"[1]!PowerMod($A75,BP$2,$A$2)","v":19},{"$f":"[1]!PowerMod($A75,BQ$2,$A$2)","v":10},{"$f":"[1]!PowerMod($A75,BR$2,$A$2)","v":1},{"$f":"[1]!PowerMod($A75,BS$2,$A$2)","v":19},{"$f":"[1]!PowerMod($A75,BT$2,$A$2)","v":10}]
[74,{"$f":"[1]!PowerMod($A76,B$2,$A$2)","v":20},{"$f":"[1]!PowerMod($A76,C$2,$A$2)","v":22},{"$f":"[1]!PowerMod($A76,D$2,$A$2)","v":8},{"$f":"[1]!PowerMod($A76,E$2,$A$2)","v":25},{"$f":"[1]!PowerMod($A76,F$2,$A$2)","v":14},{"$f":"[1]!PowerMod($A76,G$2,$A$2)","v":10},{"$f":"[1]!PowerMod($A76,H$2,$A$2)","v":11},{"$f":"[1]!PowerMod($A76,I$2,$A$2)","v":4},{"$f":"[1]!PowerMod($A76,J$2,$A$2)","v":26},{"$f":"[1]!PowerMod($A76,K$2,$A$2)","v":7},{"$f":"[1]!PowerMod($A76,L$2,$A$2)","v":5},{"$f":"[1]!PowerMod($A76,M$2,$A$2)","v":19},{"$f":"[1]!PowerMod($A76,N$2,$A$2)","v":2},{"$f":"[1]!PowerMod($A76,O$2,$A$2)","v":13},{"$f":"[1]!PowerMod($A76,P$2,$A$2)","v":17},{"$f":"[1]!PowerMod($A76,Q$2,$A$2)","v":16},{"$f":"[1]!PowerMod($A76,R$2,$A$2)","v":23},{"$f":"[1]!PowerMod($A76,S$2,$A$2)","v":1},{"$f":"[1]!PowerMod($A76,T$2,$A$2)","v":20},{"$f":"[1]!PowerMod($A76,U$2,$A$2)","v":22},{"$f":"[1]!PowerMod($A76,V$2,$A$2)","v":8},{"$f":"[1]!PowerMod($A76,W$2,$A$2)","v":25},{"$f":"[1]!PowerMod($A76,X$2,$A$2)","v":14},{"$f":"[1]!PowerMod($A76,Y$2,$A$2)","v":10},{"$f":"[1]!PowerMod($A76,Z$2,$A$2)","v":11},{"$f":"[1]!PowerMod($A76,AA$2,$A$2)","v":4},{"$f":"[1]!PowerMod($A76,AB$2,$A$2)","v":26},{"$f":"[1]!PowerMod($A76,AC$2,$A$2)","v":7},{"$f":"[1]!PowerMod($A76,AD$2,$A$2)","v":5},{"$f":"[1]!PowerMod($A76,AE$2,$A$2)","v":19},{"$f":"[1]!PowerMod($A76,AF$2,$A$2)","v":2},{"$f":"[1]!PowerMod($A76,AG$2,$A$2)","v":13},{"$f":"[1]!PowerMod($A76,AH$2,$A$2)","v":17},{"$f":"[1]!PowerMod($A76,AI$2,$A$2)","v":16},{"$f":"[1]!PowerMod($A76,AJ$2,$A$2)","v":23},{"$f":"[1]!PowerMod($A76,AK$2,$A$2)","v":1},{"$f":"[1]!PowerMod($A76,AL$2,$A$2)","v":20},{"$f":"[1]!PowerMod($A76,AM$2,$A$2)","v":22},{"$f":"[1]!PowerMod($A76,AN$2,$A$2)","v":8},{"$f":"[1]!PowerMod($A76,AO$2,$A$2)","v":25},{"$f":"[1]!PowerMod($A76,AP$2,$A$2)","v":14},{"$f":"[1]!PowerMod($A76,AQ$2,$A$2)","v":10},{"$f":"[1]!PowerMod($A76,AR$2,$A$2)","v":11},{"$f":"[1]!PowerMod($A76,AS$2,$A$2)","v":4},{"$f":"[1]!PowerMod($A76,AT$2,$A$2)","v":26},{"$f":"[1]!PowerMod($A76,AU$2,$A$2)","v":7},{"$f":"[1]!PowerMod($A76,AV$2,$A$2)","v":5},{"$f":"[1]!PowerMod($A76,AW$2,$A$2)","v":19},{"$f":"[1]!PowerMod($A76,AX$2,$A$2)","v":2},{"$f":"[1]!PowerMod($A76,AY$2,$A$2)","v":13},{"$f":"[1]!PowerMod($A76,AZ$2,$A$2)","v":17},{"$f":"[1]!PowerMod($A76,BA$2,$A$2)","v":16},{"$f":"[1]!PowerMod($A76,BB$2,$A$2)","v":23},{"$f":"[1]!PowerMod($A76,BC$2,$A$2)","v":1},{"$f":"[1]!PowerMod($A76,BD$2,$A$2)","v":20},{"$f":"[1]!PowerMod($A76,BE$2,$A$2)","v":22},{"$f":"[1]!PowerMod($A76,BF$2,$A$2)","v":8},{"$f":"[1]!PowerMod($A76,BG$2,$A$2)","v":25},{"$f":"[1]!PowerMod($A76,BH$2,$A$2)","v":14},{"$f":"[1]!PowerMod($A76,BI$2,$A$2)","v":10},{"$f":"[1]!PowerMod($A76,BJ$2,$A$2)","v":11},{"$f":"[1]!PowerMod($A76,BK$2,$A$2)","v":4},{"$f":"[1]!PowerMod($A76,BL$2,$A$2)","v":26},{"$f":"[1]!PowerMod($A76,BM$2,$A$2)","v":7},{"$f":"[1]!PowerMod($A76,BN$2,$A$2)","v":5},{"$f":"[1]!PowerMod($A76,BO$2,$A$2)","v":19},{"$f":"[1]!PowerMod($A76,BP$2,$A$2)","v":2},{"$f":"[1]!PowerMod($A76,BQ$2,$A$2)","v":13},{"$f":"[1]!PowerMod($A76,BR$2,$A$2)","v":17},{"$f":"[1]!PowerMod($A76,BS$2,$A$2)","v":16},{"$f":"[1]!PowerMod($A76,BT$2,$A$2)","v":23}]
[75,{"$f":"[1]!PowerMod($A77,B$2,$A$2)","v":21},{"$f":"[1]!PowerMod($A77,C$2,$A$2)","v":9},{"$f":"[1]!PowerMod($A77,D$2,$A$2)","v":0},{"$f":"[1]!PowerMod($A77,E$2,$A$2)","v":0},{"$f":"[1]!PowerMod($A77,F$2,$A$2)","v":0},{"$f":"[1]!PowerMod($A77,G$2,$A$2)","v":0},{"$f":"[1]!PowerMod($A77,H$2,$A$2)","v":0},{"$f":"[1]!PowerMod($A77,I$2,$A$2)","v":0},{"$f":"[1]!PowerMod($A77,J$2,$A$2)","v":0},{"$f":"[1]!PowerMod($A77,K$2,$A$2)","v":0},{"$f":"[1]!PowerMod($A77,L$2,$A$2)","v":0},{"$f":"[1]!PowerMod($A77,M$2,$A$2)","v":0},{"$f":"[1]!PowerMod($A77,N$2,$A$2)","v":0},{"$f":"[1]!PowerMod($A77,O$2,$A$2)","v":0},{"$f":"[1]!PowerMod($A77,P$2,$A$2)","v":0},{"$f":"[1]!PowerMod($A77,Q$2,$A$2)","v":0},{"$f":"[1]!PowerMod($A77,R$2,$A$2)","v":0},{"$f":"[1]!PowerMod($A77,S$2,$A$2)","v":0},{"$f":"[1]!PowerMod($A77,T$2,$A$2)","v":0},{"$f":"[1]!PowerMod($A77,U$2,$A$2)","v":0},{"$f":"[1]!PowerMod($A77,V$2,$A$2)","v":0},{"$f":"[1]!PowerMod($A77,W$2,$A$2)","v":0},{"$f":"[1]!PowerMod($A77,X$2,$A$2)","v":0},{"$f":"[1]!PowerMod($A77,Y$2,$A$2)","v":0},{"$f":"[1]!PowerMod($A77,Z$2,$A$2)","v":0},{"$f":"[1]!PowerMod($A77,AA$2,$A$2)","v":0},{"$f":"[1]!PowerMod($A77,AB$2,$A$2)","v":0},{"$f":"[1]!PowerMod($A77,AC$2,$A$2)","v":0},{"$f":"[1]!PowerMod($A77,AD$2,$A$2)","v":0},{"$f":"[1]!PowerMod($A77,AE$2,$A$2)","v":0},{"$f":"[1]!PowerMod($A77,AF$2,$A$2)","v":0},{"$f":"[1]!PowerMod($A77,AG$2,$A$2)","v":0},{"$f":"[1]!PowerMod($A77,AH$2,$A$2)","v":0},{"$f":"[1]!PowerMod($A77,AI$2,$A$2)","v":0},{"$f":"[1]!PowerMod($A77,AJ$2,$A$2)","v":0},{"$f":"[1]!PowerMod($A77,AK$2,$A$2)","v":0},{"$f":"[1]!PowerMod($A77,AL$2,$A$2)","v":0},{"$f":"[1]!PowerMod($A77,AM$2,$A$2)","v":0},{"$f":"[1]!PowerMod($A77,AN$2,$A$2)","v":0},{"$f":"[1]!PowerMod($A77,AO$2,$A$2)","v":0},{"$f":"[1]!PowerMod($A77,AP$2,$A$2)","v":0},{"$f":"[1]!PowerMod($A77,AQ$2,$A$2)","v":0},{"$f":"[1]!PowerMod($A77,AR$2,$A$2)","v":0},{"$f":"[1]!PowerMod($A77,AS$2,$A$2)","v":0},{"$f":"[1]!PowerMod($A77,AT$2,$A$2)","v":0},{"$f":"[1]!PowerMod($A77,AU$2,$A$2)","v":0},{"$f":"[1]!PowerMod($A77,AV$2,$A$2)","v":0},{"$f":"[1]!PowerMod($A77,AW$2,$A$2)","v":0},{"$f":"[1]!PowerMod($A77,AX$2,$A$2)","v":0},{"$f":"[1]!PowerMod($A77,AY$2,$A$2)","v":0},{"$f":"[1]!PowerMod($A77,AZ$2,$A$2)","v":0},{"$f":"[1]!PowerMod($A77,BA$2,$A$2)","v":0},{"$f":"[1]!PowerMod($A77,BB$2,$A$2)","v":0},{"$f":"[1]!PowerMod($A77,BC$2,$A$2)","v":0},{"$f":"[1]!PowerMod($A77,BD$2,$A$2)","v":0},{"$f":"[1]!PowerMod($A77,BE$2,$A$2)","v":0},{"$f":"[1]!PowerMod($A77,BF$2,$A$2)","v":0},{"$f":"[1]!PowerMod($A77,BG$2,$A$2)","v":0},{"$f":"[1]!PowerMod($A77,BH$2,$A$2)","v":0},{"$f":"[1]!PowerMod($A77,BI$2,$A$2)","v":0},{"$f":"[1]!PowerMod($A77,BJ$2,$A$2)","v":0},{"$f":"[1]!PowerMod($A77,BK$2,$A$2)","v":0},{"$f":"[1]!PowerMod($A77,BL$2,$A$2)","v":0},{"$f":"[1]!PowerMod($A77,BM$2,$A$2)","v":0},{"$f":"[1]!PowerMod($A77,BN$2,$A$2)","v":0},{"$f":"[1]!PowerMod($A77,BO$2,$A$2)","v":0},{"$f":"[1]!PowerMod($A77,BP$2,$A$2)","v":0},{"$f":"[1]!PowerMod($A77,BQ$2,$A$2)","v":0},{"$f":"[1]!PowerMod($A77,BR$2,$A$2)","v":0},{"$f":"[1]!PowerMod($A77,BS$2,$A$2)","v":0},{"$f":"[1]!PowerMod($A77,BT$2,$A$2)","v":0}]
[76,{"$f":"[1]!PowerMod($A78,B$2,$A$2)","v":22},{"$f":"[1]!PowerMod($A78,C$2,$A$2)","v":25},{"$f":"[1]!PowerMod($A78,D$2,$A$2)","v":10},{"$f":"[1]!PowerMod($A78,E$2,$A$2)","v":4},{"$f":"[1]!PowerMod($A78,F$2,$A$2)","v":7},{"$f":"[1]!PowerMod($A78,G$2,$A$2)","v":19},{"$f":"[1]!PowerMod($A78,H$2,$A$2)","v":13},{"$f":"[1]!PowerMod($A78,I$2,$A$2)","v":16},{"$f":"[1]!PowerMod($A78,J$2,$A$2)","v":1},{"$f":"[1]!PowerMod($A78,K$2,$A$2)","v":22},{"$f":"[1]!PowerMod($A78,L$2,$A$2)","v":25},{"$f":"[1]!PowerMod($A78,M$2,$A$2)","v":10},{"$f":"[1]!PowerMod($A78,N$2,$A$2)","v":4},{"$f":"[1]!PowerMod($A78,O$2,$A$2)","v":7},{"$f":"[1]!PowerMod($A78,P$2,$A$2)","v":19},{"$f":"[1]!PowerMod($A78,Q$2,$A$2)","v":13},{"$f":"[1]!PowerMod($A78,R$2,$A$2)","v":16},{"$f":"[1]!PowerMod($A78,S$2,$A$2)","v":1},{"$f":"[1]!PowerMod($A78,T$2,$A$2)","v":22},{"$f":"[1]!PowerMod($A78,U$2,$A$2)","v":25},{"$f":"[1]!PowerMod($A78,V$2,$A$2)","v":10},{"$f":"[1]!PowerMod($A78,W$2,$A$2)","v":4},{"$f":"[1]!PowerMod($A78,X$2,$A$2)","v":7},{"$f":"[1]!PowerMod($A78,Y$2,$A$2)","v":19},{"$f":"[1]!PowerMod($A78,Z$2,$A$2)","v":13},{"$f":"[1]!PowerMod($A78,AA$2,$A$2)","v":16},{"$f":"[1]!PowerMod($A78,AB$2,$A$2)","v":1},{"$f":"[1]!PowerMod($A78,AC$2,$A$2)","v":22},{"$f":"[1]!PowerMod($A78,AD$2,$A$2)","v":25},{"$f":"[1]!PowerMod($A78,AE$2,$A$2)","v":10},{"$f":"[1]!PowerMod($A78,AF$2,$A$2)","v":4},{"$f":"[1]!PowerMod($A78,AG$2,$A$2)","v":7},{"$f":"[1]!PowerMod($A78,AH$2,$A$2)","v":19},{"$f":"[1]!PowerMod($A78,AI$2,$A$2)","v":13},{"$f":"[1]!PowerMod($A78,AJ$2,$A$2)","v":16},{"$f":"[1]!PowerMod($A78,AK$2,$A$2)","v":1},{"$f":"[1]!PowerMod($A78,AL$2,$A$2)","v":22},{"$f":"[1]!PowerMod($A78,AM$2,$A$2)","v":25},{"$f":"[1]!PowerMod($A78,AN$2,$A$2)","v":10},{"$f":"[1]!PowerMod($A78,AO$2,$A$2)","v":4},{"$f":"[1]!PowerMod($A78,AP$2,$A$2)","v":7},{"$f":"[1]!PowerMod($A78,AQ$2,$A$2)","v":19},{"$f":"[1]!PowerMod($A78,AR$2,$A$2)","v":13},{"$f":"[1]!PowerMod($A78,AS$2,$A$2)","v":16},{"$f":"[1]!PowerMod($A78,AT$2,$A$2)","v":1},{"$f":"[1]!PowerMod($A78,AU$2,$A$2)","v":22},{"$f":"[1]!PowerMod($A78,AV$2,$A$2)","v":25},{"$f":"[1]!PowerMod($A78,AW$2,$A$2)","v":10},{"$f":"[1]!PowerMod($A78,AX$2,$A$2)","v":4},{"$f":"[1]!PowerMod($A78,AY$2,$A$2)","v":7},{"$f":"[1]!PowerMod($A78,AZ$2,$A$2)","v":19},{"$f":"[1]!PowerMod($A78,BA$2,$A$2)","v":13},{"$f":"[1]!PowerMod($A78,BB$2,$A$2)","v":16},{"$f":"[1]!PowerMod($A78,BC$2,$A$2)","v":1},{"$f":"[1]!PowerMod($A78,BD$2,$A$2)","v":22},{"$f":"[1]!PowerMod($A78,BE$2,$A$2)","v":25},{"$f":"[1]!PowerMod($A78,BF$2,$A$2)","v":10},{"$f":"[1]!PowerMod($A78,BG$2,$A$2)","v":4},{"$f":"[1]!PowerMod($A78,BH$2,$A$2)","v":7},{"$f":"[1]!PowerMod($A78,BI$2,$A$2)","v":19},{"$f":"[1]!PowerMod($A78,BJ$2,$A$2)","v":13},{"$f":"[1]!PowerMod($A78,BK$2,$A$2)","v":16},{"$f":"[1]!PowerMod($A78,BL$2,$A$2)","v":1},{"$f":"[1]!PowerMod($A78,BM$2,$A$2)","v":22},{"$f":"[1]!PowerMod($A78,BN$2,$A$2)","v":25},{"$f":"[1]!PowerMod($A78,BO$2,$A$2)","v":10},{"$f":"[1]!PowerMod($A78,BP$2,$A$2)","v":4},{"$f":"[1]!PowerMod($A78,BQ$2,$A$2)","v":7},{"$f":"[1]!PowerMod($A78,BR$2,$A$2)","v":19},{"$f":"[1]!PowerMod($A78,BS$2,$A$2)","v":13},{"$f":"[1]!PowerMod($A78,BT$2,$A$2)","v":16}]
[77,{"$f":"[1]!PowerMod($A79,B$2,$A$2)","v":23},{"$f":"[1]!PowerMod($A79,C$2,$A$2)","v":16},{"$f":"[1]!PowerMod($A79,D$2,$A$2)","v":17},{"$f":"[1]!PowerMod($A79,E$2,$A$2)","v":13},{"$f":"[1]!PowerMod($A79,F$2,$A$2)","v":2},{"$f":"[1]!PowerMod($A79,G$2,$A$2)","v":19},{"$f":"[1]!PowerMod($A79,H$2,$A$2)","v":5},{"$f":"[1]!PowerMod($A79,I$2,$A$2)","v":7},{"$f":"[1]!PowerMod($A79,J$2,$A$2)","v":26},{"$f":"[1]!PowerMod($A79,K$2,$A$2)","v":4},{"$f":"[1]!PowerMod($A79,L$2,$A$2)","v":11},{"$f":"[1]!PowerMod($A79,M$2,$A$2)","v":10},{"$f":"[1]!PowerMod($A79,N$2,$A$2)","v":14},{"$f":"[1]!PowerMod($A79,O$2,$A$2)","v":25},{"$f":"[1]!PowerMod($A79,P$2,$A$2)","v":8},{"$f":"[1]!PowerMod($A79,Q$2,$A$2)","v":22},{"$f":"[1]!PowerMod($A79,R$2,$A$2)","v":20},{"$f":"[1]!PowerMod($A79,S$2,$A$2)","v":1},{"$f":"[1]!PowerMod($A79,T$2,$A$2)","v":23},{"$f":"[1]!PowerMod($A79,U$2,$A$2)","v":16},{"$f":"[1]!PowerMod($A79,V$2,$A$2)","v":17},{"$f":"[1]!PowerMod($A79,W$2,$A$2)","v":13},{"$f":"[1]!PowerMod($A79,X$2,$A$2)","v":2},{"$f":"[1]!PowerMod($A79,Y$2,$A$2)","v":19},{"$f":"[1]!PowerMod($A79,Z$2,$A$2)","v":5},{"$f":"[1]!PowerMod($A79,AA$2,$A$2)","v":7},{"$f":"[1]!PowerMod($A79,AB$2,$A$2)","v":26},{"$f":"[1]!PowerMod($A79,AC$2,$A$2)","v":4},{"$f":"[1]!PowerMod($A79,AD$2,$A$2)","v":11},{"$f":"[1]!PowerMod($A79,AE$2,$A$2)","v":10},{"$f":"[1]!PowerMod($A79,AF$2,$A$2)","v":14},{"$f":"[1]!PowerMod($A79,AG$2,$A$2)","v":25},{"$f":"[1]!PowerMod($A79,AH$2,$A$2)","v":8},{"$f":"[1]!PowerMod($A79,AI$2,$A$2)","v":22},{"$f":"[1]!PowerMod($A79,AJ$2,$A$2)","v":20},{"$f":"[1]!PowerMod($A79,AK$2,$A$2)","v":1},{"$f":"[1]!PowerMod($A79,AL$2,$A$2)","v":23},{"$f":"[1]!PowerMod($A79,AM$2,$A$2)","v":16},{"$f":"[1]!PowerMod($A79,AN$2,$A$2)","v":17},{"$f":"[1]!PowerMod($A79,AO$2,$A$2)","v":13},{"$f":"[1]!PowerMod($A79,AP$2,$A$2)","v":2},{"$f":"[1]!PowerMod($A79,AQ$2,$A$2)","v":19},{"$f":"[1]!PowerMod($A79,AR$2,$A$2)","v":5},{"$f":"[1]!PowerMod($A79,AS$2,$A$2)","v":7},{"$f":"[1]!PowerMod($A79,AT$2,$A$2)","v":26},{"$f":"[1]!PowerMod($A79,AU$2,$A$2)","v":4},{"$f":"[1]!PowerMod($A79,AV$2,$A$2)","v":11},{"$f":"[1]!PowerMod($A79,AW$2,$A$2)","v":10},{"$f":"[1]!PowerMod($A79,AX$2,$A$2)","v":14},{"$f":"[1]!PowerMod($A79,AY$2,$A$2)","v":25},{"$f":"[1]!PowerMod($A79,AZ$2,$A$2)","v":8},{"$f":"[1]!PowerMod($A79,BA$2,$A$2)","v":22},{"$f":"[1]!PowerMod($A79,BB$2,$A$2)","v":20},{"$f":"[1]!PowerMod($A79,BC$2,$A$2)","v":1},{"$f":"[1]!PowerMod($A79,BD$2,$A$2)","v":23},{"$f":"[1]!PowerMod($A79,BE$2,$A$2)","v":16},{"$f":"[1]!PowerMod($A79,BF$2,$A$2)","v":17},{"$f":"[1]!PowerMod($A79,BG$2,$A$2)","v":13},{"$f":"[1]!PowerMod($A79,BH$2,$A$2)","v":2},{"$f":"[1]!PowerMod($A79,BI$2,$A$2)","v":19},{"$f":"[1]!PowerMod($A79,BJ$2,$A$2)","v":5},{"$f":"[1]!PowerMod($A79,BK$2,$A$2)","v":7},{"$f":"[1]!PowerMod($A79,BL$2,$A$2)","v":26},{"$f":"[1]!PowerMod($A79,BM$2,$A$2)","v":4},{"$f":"[1]!PowerMod($A79,BN$2,$A$2)","v":11},{"$f":"[1]!PowerMod($A79,BO$2,$A$2)","v":10},{"$f":"[1]!PowerMod($A79,BP$2,$A$2)","v":14},{"$f":"[1]!PowerMod($A79,BQ$2,$A$2)","v":25},{"$f":"[1]!PowerMod($A79,BR$2,$A$2)","v":8},{"$f":"[1]!PowerMod($A79,BS$2,$A$2)","v":22},{"$f":"[1]!PowerMod($A79,BT$2,$A$2)","v":20}]
[78,{"$f":"[1]!PowerMod($A80,B$2,$A$2)","v":24},{"$f":"[1]!PowerMod($A80,C$2,$A$2)","v":9},{"$f":"[1]!PowerMod($A80,D$2,$A$2)","v":0},{"$f":"[1]!PowerMod($A80,E$2,$A$2)","v":0},{"$f":"[1]!PowerMod($A80,F$2,$A$2)","v":0},{"$f":"[1]!PowerMod($A80,G$2,$A$2)","v":0},{"$f":"[1]!PowerMod($A80,H$2,$A$2)","v":0},{"$f":"[1]!PowerMod($A80,I$2,$A$2)","v":0},{"$f":"[1]!PowerMod($A80,J$2,$A$2)","v":0},{"$f":"[1]!PowerMod($A80,K$2,$A$2)","v":0},{"$f":"[1]!PowerMod($A80,L$2,$A$2)","v":0},{"$f":"[1]!PowerMod($A80,M$2,$A$2)","v":0},{"$f":"[1]!PowerMod($A80,N$2,$A$2)","v":0},{"$f":"[1]!PowerMod($A80,O$2,$A$2)","v":0},{"$f":"[1]!PowerMod($A80,P$2,$A$2)","v":0},{"$f":"[1]!PowerMod($A80,Q$2,$A$2)","v":0},{"$f":"[1]!PowerMod($A80,R$2,$A$2)","v":0},{"$f":"[1]!PowerMod($A80,S$2,$A$2)","v":0},{"$f":"[1]!PowerMod($A80,T$2,$A$2)","v":0},{"$f":"[1]!PowerMod($A80,U$2,$A$2)","v":0},{"$f":"[1]!PowerMod($A80,V$2,$A$2)","v":0},{"$f":"[1]!PowerMod($A80,W$2,$A$2)","v":0},{"$f":"[1]!PowerMod($A80,X$2,$A$2)","v":0},{"$f":"[1]!PowerMod($A80,Y$2,$A$2)","v":0},{"$f":"[1]!PowerMod($A80,Z$2,$A$2)","v":0},{"$f":"[1]!PowerMod($A80,AA$2,$A$2)","v":0},{"$f":"[1]!PowerMod($A80,AB$2,$A$2)","v":0},{"$f":"[1]!PowerMod($A80,AC$2,$A$2)","v":0},{"$f":"[1]!PowerMod($A80,AD$2,$A$2)","v":0},{"$f":"[1]!PowerMod($A80,AE$2,$A$2)","v":0},{"$f":"[1]!PowerMod($A80,AF$2,$A$2)","v":0},{"$f":"[1]!PowerMod($A80,AG$2,$A$2)","v":0},{"$f":"[1]!PowerMod($A80,AH$2,$A$2)","v":0},{"$f":"[1]!PowerMod($A80,AI$2,$A$2)","v":0},{"$f":"[1]!PowerMod($A80,AJ$2,$A$2)","v":0},{"$f":"[1]!PowerMod($A80,AK$2,$A$2)","v":0},{"$f":"[1]!PowerMod($A80,AL$2,$A$2)","v":0},{"$f":"[1]!PowerMod($A80,AM$2,$A$2)","v":0},{"$f":"[1]!PowerMod($A80,AN$2,$A$2)","v":0},{"$f":"[1]!PowerMod($A80,AO$2,$A$2)","v":0},{"$f":"[1]!PowerMod($A80,AP$2,$A$2)","v":0},{"$f":"[1]!PowerMod($A80,AQ$2,$A$2)","v":0},{"$f":"[1]!PowerMod($A80,AR$2,$A$2)","v":0},{"$f":"[1]!PowerMod($A80,AS$2,$A$2)","v":0},{"$f":"[1]!PowerMod($A80,AT$2,$A$2)","v":0},{"$f":"[1]!PowerMod($A80,AU$2,$A$2)","v":0},{"$f":"[1]!PowerMod($A80,AV$2,$A$2)","v":0},{"$f":"[1]!PowerMod($A80,AW$2,$A$2)","v":0},{"$f":"[1]!PowerMod($A80,AX$2,$A$2)","v":0},{"$f":"[1]!PowerMod($A80,AY$2,$A$2)","v":0},{"$f":"[1]!PowerMod($A80,AZ$2,$A$2)","v":0},{"$f":"[1]!PowerMod($A80,BA$2,$A$2)","v":0},{"$f":"[1]!PowerMod($A80,BB$2,$A$2)","v":0},{"$f":"[1]!PowerMod($A80,BC$2,$A$2)","v":0},{"$f":"[1]!PowerMod($A80,BD$2,$A$2)","v":0},{"$f":"[1]!PowerMod($A80,BE$2,$A$2)","v":0},{"$f":"[1]!PowerMod($A80,BF$2,$A$2)","v":0},{"$f":"[1]!PowerMod($A80,BG$2,$A$2)","v":0},{"$f":"[1]!PowerMod($A80,BH$2,$A$2)","v":0},{"$f":"[1]!PowerMod($A80,BI$2,$A$2)","v":0},{"$f":"[1]!PowerMod($A80,BJ$2,$A$2)","v":0},{"$f":"[1]!PowerMod($A80,BK$2,$A$2)","v":0},{"$f":"[1]!PowerMod($A80,BL$2,$A$2)","v":0},{"$f":"[1]!PowerMod($A80,BM$2,$A$2)","v":0},{"$f":"[1]!PowerMod($A80,BN$2,$A$2)","v":0},{"$f":"[1]!PowerMod($A80,BO$2,$A$2)","v":0},{"$f":"[1]!PowerMod($A80,BP$2,$A$2)","v":0},{"$f":"[1]!PowerMod($A80,BQ$2,$A$2)","v":0},{"$f":"[1]!PowerMod($A80,BR$2,$A$2)","v":0},{"$f":"[1]!PowerMod($A80,BS$2,$A$2)","v":0},{"$f":"[1]!PowerMod($A80,BT$2,$A$2)","v":0}]
[79,{"$f":"[1]!PowerMod($A81,B$2,$A$2)","v":25},{"$f":"[1]!PowerMod($A81,C$2,$A$2)","v":4},{"$f":"[1]!PowerMod($A81,D$2,$A$2)","v":19},{"$f":"[1]!PowerMod($A81,E$2,$A$2)","v":16},{"$f":"[1]!PowerMod($A81,F$2,$A$2)","v":22},{"$f":"[1]!PowerMod($A81,G$2,$A$2)","v":10},{"$f":"[1]!PowerMod($A81,H$2,$A$2)","v":7},{"$f":"[1]!PowerMod($A81,I$2,$A$2)","v":13},{"$f":"[1]!PowerMod($A81,J$2,$A$2)","v":1},{"$f":"[1]!PowerMod($A81,K$2,$A$2)","v":25},{"$f":"[1]!PowerMod($A81,L$2,$A$2)","v":4},{"$f":"[1]!PowerMod($A81,M$2,$A$2)","v":19},{"$f":"[1]!PowerMod($A81,N$2,$A$2)","v":16},{"$f":"[1]!PowerMod($A81,O$2,$A$2)","v":22},{"$f":"[1]!PowerMod($A81,P$2,$A$2)","v":10},{"$f":"[1]!PowerMod($A81,Q$2,$A$2)","v":7},{"$f":"[1]!PowerMod($A81,R$2,$A$2)","v":13},{"$f":"[1]!PowerMod($A81,S$2,$A$2)","v":1},{"$f":"[1]!PowerMod($A81,T$2,$A$2)","v":25},{"$f":"[1]!PowerMod($A81,U$2,$A$2)","v":4},{"$f":"[1]!PowerMod($A81,V$2,$A$2)","v":19},{"$f":"[1]!PowerMod($A81,W$2,$A$2)","v":16},{"$f":"[1]!PowerMod($A81,X$2,$A$2)","v":22},{"$f":"[1]!PowerMod($A81,Y$2,$A$2)","v":10},{"$f":"[1]!PowerMod($A81,Z$2,$A$2)","v":7},{"$f":"[1]!PowerMod($A81,AA$2,$A$2)","v":13},{"$f":"[1]!PowerMod($A81,AB$2,$A$2)","v":1},{"$f":"[1]!PowerMod($A81,AC$2,$A$2)","v":25},{"$f":"[1]!PowerMod($A81,AD$2,$A$2)","v":4},{"$f":"[1]!PowerMod($A81,AE$2,$A$2)","v":19},{"$f":"[1]!PowerMod($A81,AF$2,$A$2)","v":16},{"$f":"[1]!PowerMod($A81,AG$2,$A$2)","v":22},{"$f":"[1]!PowerMod($A81,AH$2,$A$2)","v":10},{"$f":"[1]!PowerMod($A81,AI$2,$A$2)","v":7},{"$f":"[1]!PowerMod($A81,AJ$2,$A$2)","v":13},{"$f":"[1]!PowerMod($A81,AK$2,$A$2)","v":1},{"$f":"[1]!PowerMod($A81,AL$2,$A$2)","v":25},{"$f":"[1]!PowerMod($A81,AM$2,$A$2)","v":4},{"$f":"[1]!PowerMod($A81,AN$2,$A$2)","v":19},{"$f":"[1]!PowerMod($A81,AO$2,$A$2)","v":16},{"$f":"[1]!PowerMod($A81,AP$2,$A$2)","v":22},{"$f":"[1]!PowerMod($A81,AQ$2,$A$2)","v":10},{"$f":"[1]!PowerMod($A81,AR$2,$A$2)","v":7},{"$f":"[1]!PowerMod($A81,AS$2,$A$2)","v":13},{"$f":"[1]!PowerMod($A81,AT$2,$A$2)","v":1},{"$f":"[1]!PowerMod($A81,AU$2,$A$2)","v":25},{"$f":"[1]!PowerMod($A81,AV$2,$A$2)","v":4},{"$f":"[1]!PowerMod($A81,AW$2,$A$2)","v":19},{"$f":"[1]!PowerMod($A81,AX$2,$A$2)","v":16},{"$f":"[1]!PowerMod($A81,AY$2,$A$2)","v":22},{"$f":"[1]!PowerMod($A81,AZ$2,$A$2)","v":10},{"$f":"[1]!PowerMod($A81,BA$2,$A$2)","v":7},{"$f":"[1]!PowerMod($A81,BB$2,$A$2)","v":13},{"$f":"[1]!PowerMod($A81,BC$2,$A$2)","v":1},{"$f":"[1]!PowerMod($A81,BD$2,$A$2)","v":25},{"$f":"[1]!PowerMod($A81,BE$2,$A$2)","v":4},{"$f":"[1]!PowerMod($A81,BF$2,$A$2)","v":19},{"$f":"[1]!PowerMod($A81,BG$2,$A$2)","v":16},{"$f":"[1]!PowerMod($A81,BH$2,$A$2)","v":22},{"$f":"[1]!PowerMod($A81,BI$2,$A$2)","v":10},{"$f":"[1]!PowerMod($A81,BJ$2,$A$2)","v":7},{"$f":"[1]!PowerMod($A81,BK$2,$A$2)","v":13},{"$f":"[1]!PowerMod($A81,BL$2,$A$2)","v":1},{"$f":"[1]!PowerMod($A81,BM$2,$A$2)","v":25},{"$f":"[1]!PowerMod($A81,BN$2,$A$2)","v":4},{"$f":"[1]!PowerMod($A81,BO$2,$A$2)","v":19},{"$f":"[1]!PowerMod($A81,BP$2,$A$2)","v":16},{"$f":"[1]!PowerMod($A81,BQ$2,$A$2)","v":22},{"$f":"[1]!PowerMod($A81,BR$2,$A$2)","v":10},{"$f":"[1]!PowerMod($A81,BS$2,$A$2)","v":7},{"$f":"[1]!PowerMod($A81,BT$2,$A$2)","v":13}]
[80,{"$f":"[1]!PowerMod($A82,B$2,$A$2)","v":26},{"$f":"[1]!PowerMod($A82,C$2,$A$2)","v":1},{"$f":"[1]!PowerMod($A82,D$2,$A$2)","v":26},{"$f":"[1]!PowerMod($A82,E$2,$A$2)","v":1},{"$f":"[1]!PowerMod($A82,F$2,$A$2)","v":26},{"$f":"[1]!PowerMod($A82,G$2,$A$2)","v":1},{"$f":"[1]!PowerMod($A82,H$2,$A$2)","v":26},{"$f":"[1]!PowerMod($A82,I$2,$A$2)","v":1},{"$f":"[1]!PowerMod($A82,J$2,$A$2)","v":26},{"$f":"[1]!PowerMod($A82,K$2,$A$2)","v":1},{"$f":"[1]!PowerMod($A82,L$2,$A$2)","v":26},{"$f":"[1]!PowerMod($A82,M$2,$A$2)","v":1},{"$f":"[1]!PowerMod($A82,N$2,$A$2)","v":26},{"$f":"[1]!PowerMod($A82,O$2,$A$2)","v":1},{"$f":"[1]!PowerMod($A82,P$2,$A$2)","v":26},{"$f":"[1]!PowerMod($A82,Q$2,$A$2)","v":1},{"$f":"[1]!PowerMod($A82,R$2,$A$2)","v":26},{"$f":"[1]!PowerMod($A82,S$2,$A$2)","v":1},{"$f":"[1]!PowerMod($A82,T$2,$A$2)","v":26},{"$f":"[1]!PowerMod($A82,U$2,$A$2)","v":1},{"$f":"[1]!PowerMod($A82,V$2,$A$2)","v":26},{"$f":"[1]!PowerMod($A82,W$2,$A$2)","v":1},{"$f":"[1]!PowerMod($A82,X$2,$A$2)","v":26},{"$f":"[1]!PowerMod($A82,Y$2,$A$2)","v":1},{"$f":"[1]!PowerMod($A82,Z$2,$A$2)","v":26},{"$f":"[1]!PowerMod($A82,AA$2,$A$2)","v":1},{"$f":"[1]!PowerMod($A82,AB$2,$A$2)","v":26},{"$f":"[1]!PowerMod($A82,AC$2,$A$2)","v":1},{"$f":"[1]!PowerMod($A82,AD$2,$A$2)","v":26},{"$f":"[1]!PowerMod($A82,AE$2,$A$2)","v":1},{"$f":"[1]!PowerMod($A82,AF$2,$A$2)","v":26},{"$f":"[1]!PowerMod($A82,AG$2,$A$2)","v":1},{"$f":"[1]!PowerMod($A82,AH$2,$A$2)","v":26},{"$f":"[1]!PowerMod($A82,AI$2,$A$2)","v":1},{"$f":"[1]!PowerMod($A82,AJ$2,$A$2)","v":26},{"$f":"[1]!PowerMod($A82,AK$2,$A$2)","v":1},{"$f":"[1]!PowerMod($A82,AL$2,$A$2)","v":26},{"$f":"[1]!PowerMod($A82,AM$2,$A$2)","v":1},{"$f":"[1]!PowerMod($A82,AN$2,$A$2)","v":26},{"$f":"[1]!PowerMod($A82,AO$2,$A$2)","v":1},{"$f":"[1]!PowerMod($A82,AP$2,$A$2)","v":26},{"$f":"[1]!PowerMod($A82,AQ$2,$A$2)","v":1},{"$f":"[1]!PowerMod($A82,AR$2,$A$2)","v":26},{"$f":"[1]!PowerMod($A82,AS$2,$A$2)","v":1},{"$f":"[1]!PowerMod($A82,AT$2,$A$2)","v":26},{"$f":"[1]!PowerMod($A82,AU$2,$A$2)","v":1},{"$f":"[1]!PowerMod($A82,AV$2,$A$2)","v":26},{"$f":"[1]!PowerMod($A82,AW$2,$A$2)","v":1},{"$f":"[1]!PowerMod($A82,AX$2,$A$2)","v":26},{"$f":"[1]!PowerMod($A82,AY$2,$A$2)","v":1},{"$f":"[1]!PowerMod($A82,AZ$2,$A$2)","v":26},{"$f":"[1]!PowerMod($A82,BA$2,$A$2)","v":1},{"$f":"[1]!PowerMod($A82,BB$2,$A$2)","v":26},{"$f":"[1]!PowerMod($A82,BC$2,$A$2)","v":1},{"$f":"[1]!PowerMod($A82,BD$2,$A$2)","v":26},{"$f":"[1]!PowerMod($A82,BE$2,$A$2)","v":1},{"$f":"[1]!PowerMod($A82,BF$2,$A$2)","v":26},{"$f":"[1]!PowerMod($A82,BG$2,$A$2)","v":1},{"$f":"[1]!PowerMod($A82,BH$2,$A$2)","v":26},{"$f":"[1]!PowerMod($A82,BI$2,$A$2)","v":1},{"$f":"[1]!PowerMod($A82,BJ$2,$A$2)","v":26},{"$f":"[1]!PowerMod($A82,BK$2,$A$2)","v":1},{"$f":"[1]!PowerMod($A82,BL$2,$A$2)","v":26},{"$f":"[1]!PowerMod($A82,BM$2,$A$2)","v":1},{"$f":"[1]!PowerMod($A82,BN$2,$A$2)","v":26},{"$f":"[1]!PowerMod($A82,BO$2,$A$2)","v":1},{"$f":"[1]!PowerMod($A82,BP$2,$A$2)","v":26},{"$f":"[1]!PowerMod($A82,BQ$2,$A$2)","v":1},{"$f":"[1]!PowerMod($A82,BR$2,$A$2)","v":26},{"$f":"[1]!PowerMod($A82,BS$2,$A$2)","v":1},{"$f":"[1]!PowerMod($A82,BT$2,$A$2)","v":26}]
[81,{"$f":"[1]!PowerMod($A83,B$2,$A$2)","v":0},{"$f":"[1]!PowerMod($A83,C$2,$A$2)","v":0},{"$f":"[1]!PowerMod($A83,D$2,$A$2)","v":0},{"$f":"[1]!PowerMod($A83,E$2,$A$2)","v":0},{"$f":"[1]!PowerMod($A83,F$2,$A$2)","v":0},{"$f":"[1]!PowerMod($A83,G$2,$A$2)","v":0},{"$f":"[1]!PowerMod($A83,H$2,$A$2)","v":0},{"$f":"[1]!PowerMod($A83,I$2,$A$2)","v":0},{"$f":"[1]!PowerMod($A83,J$2,$A$2)","v":0},{"$f":"[1]!PowerMod($A83,K$2,$A$2)","v":0},{"$f":"[1]!PowerMod($A83,L$2,$A$2)","v":0},{"$f":"[1]!PowerMod($A83,M$2,$A$2)","v":0},{"$f":"[1]!PowerMod($A83,N$2,$A$2)","v":0},{"$f":"[1]!PowerMod($A83,O$2,$A$2)","v":0},{"$f":"[1]!PowerMod($A83,P$2,$A$2)","v":0},{"$f":"[1]!PowerMod($A83,Q$2,$A$2)","v":0},{"$f":"[1]!PowerMod($A83,R$2,$A$2)","v":0},{"$f":"[1]!PowerMod($A83,S$2,$A$2)","v":0},{"$f":"[1]!PowerMod($A83,T$2,$A$2)","v":0},{"$f":"[1]!PowerMod($A83,U$2,$A$2)","v":0},{"$f":"[1]!PowerMod($A83,V$2,$A$2)","v":0},{"$f":"[1]!PowerMod($A83,W$2,$A$2)","v":0},{"$f":"[1]!PowerMod($A83,X$2,$A$2)","v":0},{"$f":"[1]!PowerMod($A83,Y$2,$A$2)","v":0},{"$f":"[1]!PowerMod($A83,Z$2,$A$2)","v":0},{"$f":"[1]!PowerMod($A83,AA$2,$A$2)","v":0},{"$f":"[1]!PowerMod($A83,AB$2,$A$2)","v":0},{"$f":"[1]!PowerMod($A83,AC$2,$A$2)","v":0},{"$f":"[1]!PowerMod($A83,AD$2,$A$2)","v":0},{"$f":"[1]!PowerMod($A83,AE$2,$A$2)","v":0},{"$f":"[1]!PowerMod($A83,AF$2,$A$2)","v":0},{"$f":"[1]!PowerMod($A83,AG$2,$A$2)","v":0},{"$f":"[1]!PowerMod($A83,AH$2,$A$2)","v":0},{"$f":"[1]!PowerMod($A83,AI$2,$A$2)","v":0},{"$f":"[1]!PowerMod($A83,AJ$2,$A$2)","v":0},{"$f":"[1]!PowerMod($A83,AK$2,$A$2)","v":0},{"$f":"[1]!PowerMod($A83,AL$2,$A$2)","v":0},{"$f":"[1]!PowerMod($A83,AM$2,$A$2)","v":0},{"$f":"[1]!PowerMod($A83,AN$2,$A$2)","v":0},{"$f":"[1]!PowerMod($A83,AO$2,$A$2)","v":0},{"$f":"[1]!PowerMod($A83,AP$2,$A$2)","v":0},{"$f":"[1]!PowerMod($A83,AQ$2,$A$2)","v":0},{"$f":"[1]!PowerMod($A83,AR$2,$A$2)","v":0},{"$f":"[1]!PowerMod($A83,AS$2,$A$2)","v":0},{"$f":"[1]!PowerMod($A83,AT$2,$A$2)","v":0},{"$f":"[1]!PowerMod($A83,AU$2,$A$2)","v":0},{"$f":"[1]!PowerMod($A83,AV$2,$A$2)","v":0},{"$f":"[1]!PowerMod($A83,AW$2,$A$2)","v":0},{"$f":"[1]!PowerMod($A83,AX$2,$A$2)","v":0},{"$f":"[1]!PowerMod($A83,AY$2,$A$2)","v":0},{"$f":"[1]!PowerMod($A83,AZ$2,$A$2)","v":0},{"$f":"[1]!PowerMod($A83,BA$2,$A$2)","v":0},{"$f":"[1]!PowerMod($A83,BB$2,$A$2)","v":0},{"$f":"[1]!PowerMod($A83,BC$2,$A$2)","v":0},{"$f":"[1]!PowerMod($A83,BD$2,$A$2)","v":0},{"$f":"[1]!PowerMod($A83,BE$2,$A$2)","v":0},{"$f":"[1]!PowerMod($A83,BF$2,$A$2)","v":0},{"$f":"[1]!PowerMod($A83,BG$2,$A$2)","v":0},{"$f":"[1]!PowerMod($A83,BH$2,$A$2)","v":0},{"$f":"[1]!PowerMod($A83,BI$2,$A$2)","v":0},{"$f":"[1]!PowerMod($A83,BJ$2,$A$2)","v":0},{"$f":"[1]!PowerMod($A83,BK$2,$A$2)","v":0},{"$f":"[1]!PowerMod($A83,BL$2,$A$2)","v":0},{"$f":"[1]!PowerMod($A83,BM$2,$A$2)","v":0},{"$f":"[1]!PowerMod($A83,BN$2,$A$2)","v":0},{"$f":"[1]!PowerMod($A83,BO$2,$A$2)","v":0},{"$f":"[1]!PowerMod($A83,BP$2,$A$2)","v":0},{"$f":"[1]!PowerMod($A83,BQ$2,$A$2)","v":0},{"$f":"[1]!PowerMod($A83,BR$2,$A$2)","v":0},{"$f":"[1]!PowerMod($A83,BS$2,$A$2)","v":0},{"$f":"[1]!PowerMod($A83,BT$2,$A$2)","v":0}]
[82,{"$f":"[1]!PowerMod($A84,B$2,$A$2)","v":1},{"$f":"[1]!PowerMod($A84,C$2,$A$2)","v":1},{"$f":"[1]!PowerMod($A84,D$2,$A$2)","v":1},{"$f":"[1]!PowerMod($A84,E$2,$A$2)","v":1},{"$f":"[1]!PowerMod($A84,F$2,$A$2)","v":1},{"$f":"[1]!PowerMod($A84,G$2,$A$2)","v":1},{"$f":"[1]!PowerMod($A84,H$2,$A$2)","v":1},{"$f":"[1]!PowerMod($A84,I$2,$A$2)","v":1},{"$f":"[1]!PowerMod($A84,J$2,$A$2)","v":1},{"$f":"[1]!PowerMod($A84,K$2,$A$2)","v":1},{"$f":"[1]!PowerMod($A84,L$2,$A$2)","v":1},{"$f":"[1]!PowerMod($A84,M$2,$A$2)","v":1},{"$f":"[1]!PowerMod($A84,N$2,$A$2)","v":1},{"$f":"[1]!PowerMod($A84,O$2,$A$2)","v":1},{"$f":"[1]!PowerMod($A84,P$2,$A$2)","v":1},{"$f":"[1]!PowerMod($A84,Q$2,$A$2)","v":1},{"$f":"[1]!PowerMod($A84,R$2,$A$2)","v":1},{"$f":"[1]!PowerMod($A84,S$2,$A$2)","v":1},{"$f":"[1]!PowerMod($A84,T$2,$A$2)","v":1},{"$f":"[1]!PowerMod($A84,U$2,$A$2)","v":1},{"$f":"[1]!PowerMod($A84,V$2,$A$2)","v":1},{"$f":"[1]!PowerMod($A84,W$2,$A$2)","v":1},{"$f":"[1]!PowerMod($A84,X$2,$A$2)","v":1},{"$f":"[1]!PowerMod($A84,Y$2,$A$2)","v":1},{"$f":"[1]!PowerMod($A84,Z$2,$A$2)","v":1},{"$f":"[1]!PowerMod($A84,AA$2,$A$2)","v":1},{"$f":"[1]!PowerMod($A84,AB$2,$A$2)","v":1},{"$f":"[1]!PowerMod($A84,AC$2,$A$2)","v":1},{"$f":"[1]!PowerMod($A84,AD$2,$A$2)","v":1},{"$f":"[1]!PowerMod($A84,AE$2,$A$2)","v":1},{"$f":"[1]!PowerMod($A84,AF$2,$A$2)","v":1},{"$f":"[1]!PowerMod($A84,AG$2,$A$2)","v":1},{"$f":"[1]!PowerMod($A84,AH$2,$A$2)","v":1},{"$f":"[1]!PowerMod($A84,AI$2,$A$2)","v":1},{"$f":"[1]!PowerMod($A84,AJ$2,$A$2)","v":1},{"$f":"[1]!PowerMod($A84,AK$2,$A$2)","v":1},{"$f":"[1]!PowerMod($A84,AL$2,$A$2)","v":1},{"$f":"[1]!PowerMod($A84,AM$2,$A$2)","v":1},{"$f":"[1]!PowerMod($A84,AN$2,$A$2)","v":1},{"$f":"[1]!PowerMod($A84,AO$2,$A$2)","v":1},{"$f":"[1]!PowerMod($A84,AP$2,$A$2)","v":1},{"$f":"[1]!PowerMod($A84,AQ$2,$A$2)","v":1},{"$f":"[1]!PowerMod($A84,AR$2,$A$2)","v":1},{"$f":"[1]!PowerMod($A84,AS$2,$A$2)","v":1},{"$f":"[1]!PowerMod($A84,AT$2,$A$2)","v":1},{"$f":"[1]!PowerMod($A84,AU$2,$A$2)","v":1},{"$f":"[1]!PowerMod($A84,AV$2,$A$2)","v":1},{"$f":"[1]!PowerMod($A84,AW$2,$A$2)","v":1},{"$f":"[1]!PowerMod($A84,AX$2,$A$2)","v":1},{"$f":"[1]!PowerMod($A84,AY$2,$A$2)","v":1},{"$f":"[1]!PowerMod($A84,AZ$2,$A$2)","v":1},{"$f":"[1]!PowerMod($A84,BA$2,$A$2)","v":1},{"$f":"[1]!PowerMod($A84,BB$2,$A$2)","v":1},{"$f":"[1]!PowerMod($A84,BC$2,$A$2)","v":1},{"$f":"[1]!PowerMod($A84,BD$2,$A$2)","v":1},{"$f":"[1]!PowerMod($A84,BE$2,$A$2)","v":1},{"$f":"[1]!PowerMod($A84,BF$2,$A$2)","v":1},{"$f":"[1]!PowerMod($A84,BG$2,$A$2)","v":1},{"$f":"[1]!PowerMod($A84,BH$2,$A$2)","v":1},{"$f":"[1]!PowerMod($A84,BI$2,$A$2)","v":1},{"$f":"[1]!PowerMod($A84,BJ$2,$A$2)","v":1},{"$f":"[1]!PowerMod($A84,BK$2,$A$2)","v":1},{"$f":"[1]!PowerMod($A84,BL$2,$A$2)","v":1},{"$f":"[1]!PowerMod($A84,BM$2,$A$2)","v":1},{"$f":"[1]!PowerMod($A84,BN$2,$A$2)","v":1},{"$f":"[1]!PowerMod($A84,BO$2,$A$2)","v":1},{"$f":"[1]!PowerMod($A84,BP$2,$A$2)","v":1},{"$f":"[1]!PowerMod($A84,BQ$2,$A$2)","v":1},{"$f":"[1]!PowerMod($A84,BR$2,$A$2)","v":1},{"$f":"[1]!PowerMod($A84,BS$2,$A$2)","v":1},{"$f":"[1]!PowerMod($A84,BT$2,$A$2)","v":1}]
[83,{"$f":"[1]!PowerMod($A85,B$2,$A$2)","v":2},{"$f":"[1]!PowerMod($A85,C$2,$A$2)","v":4},{"$f":"[1]!PowerMod($A85,D$2,$A$2)","v":8},{"$f":"[1]!PowerMod($A85,E$2,$A$2)","v":16},{"$f":"[1]!PowerMod($A85,F$2,$A$2)","v":5},{"$f":"[1]!PowerMod($A85,G$2,$A$2)","v":10},{"$f":"[1]!PowerMod($A85,H$2,$A$2)","v":20},{"$f":"[1]!PowerMod($A85,I$2,$A$2)","v":13},{"$f":"[1]!PowerMod($A85,J$2,$A$2)","v":26},{"$f":"[1]!PowerMod($A85,K$2,$A$2)","v":25},{"$f":"[1]!PowerMod($A85,L$2,$A$2)","v":23},{"$f":"[1]!PowerMod($A85,M$2,$A$2)","v":19},{"$f":"[1]!PowerMod($A85,N$2,$A$2)","v":11},{"$f":"[1]!PowerMod($A85,O$2,$A$2)","v":22},{"$f":"[1]!PowerMod($A85,P$2,$A$2)","v":17},{"$f":"[1]!PowerMod($A85,Q$2,$A$2)","v":7},{"$f":"[1]!PowerMod($A85,R$2,$A$2)","v":14},{"$f":"[1]!PowerMod($A85,S$2,$A$2)","v":1},{"$f":"[1]!PowerMod($A85,T$2,$A$2)","v":2},{"$f":"[1]!PowerMod($A85,U$2,$A$2)","v":4},{"$f":"[1]!PowerMod($A85,V$2,$A$2)","v":8},{"$f":"[1]!PowerMod($A85,W$2,$A$2)","v":16},{"$f":"[1]!PowerMod($A85,X$2,$A$2)","v":5},{"$f":"[1]!PowerMod($A85,Y$2,$A$2)","v":10},{"$f":"[1]!PowerMod($A85,Z$2,$A$2)","v":20},{"$f":"[1]!PowerMod($A85,AA$2,$A$2)","v":13},{"$f":"[1]!PowerMod($A85,AB$2,$A$2)","v":26},{"$f":"[1]!PowerMod($A85,AC$2,$A$2)","v":25},{"$f":"[1]!PowerMod($A85,AD$2,$A$2)","v":23},{"$f":"[1]!PowerMod($A85,AE$2,$A$2)","v":19},{"$f":"[1]!PowerMod($A85,AF$2,$A$2)","v":11},{"$f":"[1]!PowerMod($A85,AG$2,$A$2)","v":22},{"$f":"[1]!PowerMod($A85,AH$2,$A$2)","v":17},{"$f":"[1]!PowerMod($A85,AI$2,$A$2)","v":7},{"$f":"[1]!PowerMod($A85,AJ$2,$A$2)","v":14},{"$f":"[1]!PowerMod($A85,AK$2,$A$2)","v":1},{"$f":"[1]!PowerMod($A85,AL$2,$A$2)","v":2},{"$f":"[1]!PowerMod($A85,AM$2,$A$2)","v":4},{"$f":"[1]!PowerMod($A85,AN$2,$A$2)","v":8},{"$f":"[1]!PowerMod($A85,AO$2,$A$2)","v":16},{"$f":"[1]!PowerMod($A85,AP$2,$A$2)","v":5},{"$f":"[1]!PowerMod($A85,AQ$2,$A$2)","v":10},{"$f":"[1]!PowerMod($A85,AR$2,$A$2)","v":20},{"$f":"[1]!PowerMod($A85,AS$2,$A$2)","v":13},{"$f":"[1]!PowerMod($A85,AT$2,$A$2)","v":26},{"$f":"[1]!PowerMod($A85,AU$2,$A$2)","v":25},{"$f":"[1]!PowerMod($A85,AV$2,$A$2)","v":23},{"$f":"[1]!PowerMod($A85,AW$2,$A$2)","v":19},{"$f":"[1]!PowerMod($A85,AX$2,$A$2)","v":11},{"$f":"[1]!PowerMod($A85,AY$2,$A$2)","v":22},{"$f":"[1]!PowerMod($A85,AZ$2,$A$2)","v":17},{"$f":"[1]!PowerMod($A85,BA$2,$A$2)","v":7},{"$f":"[1]!PowerMod($A85,BB$2,$A$2)","v":14},{"$f":"[1]!PowerMod($A85,BC$2,$A$2)","v":1},{"$f":"[1]!PowerMod($A85,BD$2,$A$2)","v":2},{"$f":"[1]!PowerMod($A85,BE$2,$A$2)","v":4},{"$f":"[1]!PowerMod($A85,BF$2,$A$2)","v":8},{"$f":"[1]!PowerMod($A85,BG$2,$A$2)","v":16},{"$f":"[1]!PowerMod($A85,BH$2,$A$2)","v":5},{"$f":"[1]!PowerMod($A85,BI$2,$A$2)","v":10},{"$f":"[1]!PowerMod($A85,BJ$2,$A$2)","v":20},{"$f":"[1]!PowerMod($A85,BK$2,$A$2)","v":13},{"$f":"[1]!PowerMod($A85,BL$2,$A$2)","v":26},{"$f":"[1]!PowerMod($A85,BM$2,$A$2)","v":25},{"$f":"[1]!PowerMod($A85,BN$2,$A$2)","v":23},{"$f":"[1]!PowerMod($A85,BO$2,$A$2)","v":19},{"$f":"[1]!PowerMod($A85,BP$2,$A$2)","v":11},{"$f":"[1]!PowerMod($A85,BQ$2,$A$2)","v":22},{"$f":"[1]!PowerMod($A85,BR$2,$A$2)","v":17},{"$f":"[1]!PowerMod($A85,BS$2,$A$2)","v":7},{"$f":"[1]!PowerMod($A85,BT$2,$A$2)","v":14}]
[84,{"$f":"[1]!PowerMod($A86,B$2,$A$2)","v":3},{"$f":"[1]!PowerMod($A86,C$2,$A$2)","v":9},{"$f":"[1]!PowerMod($A86,D$2,$A$2)","v":0},{"$f":"[1]!PowerMod($A86,E$2,$A$2)","v":0},{"$f":"[1]!PowerMod($A86,F$2,$A$2)","v":0},{"$f":"[1]!PowerMod($A86,G$2,$A$2)","v":0},{"$f":"[1]!PowerMod($A86,H$2,$A$2)","v":0},{"$f":"[1]!PowerMod($A86,I$2,$A$2)","v":0},{"$f":"[1]!PowerMod($A86,J$2,$A$2)","v":0},{"$f":"[1]!PowerMod($A86,K$2,$A$2)","v":0},{"$f":"[1]!PowerMod($A86,L$2,$A$2)","v":0},{"$f":"[1]!PowerMod($A86,M$2,$A$2)","v":0},{"$f":"[1]!PowerMod($A86,N$2,$A$2)","v":0},{"$f":"[1]!PowerMod($A86,O$2,$A$2)","v":0},{"$f":"[1]!PowerMod($A86,P$2,$A$2)","v":0},{"$f":"[1]!PowerMod($A86,Q$2,$A$2)","v":0},{"$f":"[1]!PowerMod($A86,R$2,$A$2)","v":0},{"$f":"[1]!PowerMod($A86,S$2,$A$2)","v":0},{"$f":"[1]!PowerMod($A86,T$2,$A$2)","v":0},{"$f":"[1]!PowerMod($A86,U$2,$A$2)","v":0},{"$f":"[1]!PowerMod($A86,V$2,$A$2)","v":0},{"$f":"[1]!PowerMod($A86,W$2,$A$2)","v":0},{"$f":"[1]!PowerMod($A86,X$2,$A$2)","v":0},{"$f":"[1]!PowerMod($A86,Y$2,$A$2)","v":0},{"$f":"[1]!PowerMod($A86,Z$2,$A$2)","v":0},{"$f":"[1]!PowerMod($A86,AA$2,$A$2)","v":0},{"$f":"[1]!PowerMod($A86,AB$2,$A$2)","v":0},{"$f":"[1]!PowerMod($A86,AC$2,$A$2)","v":0},{"$f":"[1]!PowerMod($A86,AD$2,$A$2)","v":0},{"$f":"[1]!PowerMod($A86,AE$2,$A$2)","v":0},{"$f":"[1]!PowerMod($A86,AF$2,$A$2)","v":0},{"$f":"[1]!PowerMod($A86,AG$2,$A$2)","v":0},{"$f":"[1]!PowerMod($A86,AH$2,$A$2)","v":0},{"$f":"[1]!PowerMod($A86,AI$2,$A$2)","v":0},{"$f":"[1]!PowerMod($A86,AJ$2,$A$2)","v":0},{"$f":"[1]!PowerMod($A86,AK$2,$A$2)","v":0},{"$f":"[1]!PowerMod($A86,AL$2,$A$2)","v":0},{"$f":"[1]!PowerMod($A86,AM$2,$A$2)","v":0},{"$f":"[1]!PowerMod($A86,AN$2,$A$2)","v":0},{"$f":"[1]!PowerMod($A86,AO$2,$A$2)","v":0},{"$f":"[1]!PowerMod($A86,AP$2,$A$2)","v":0},{"$f":"[1]!PowerMod($A86,AQ$2,$A$2)","v":0},{"$f":"[1]!PowerMod($A86,AR$2,$A$2)","v":0},{"$f":"[1]!PowerMod($A86,AS$2,$A$2)","v":0},{"$f":"[1]!PowerMod($A86,AT$2,$A$2)","v":0},{"$f":"[1]!PowerMod($A86,AU$2,$A$2)","v":0},{"$f":"[1]!PowerMod($A86,AV$2,$A$2)","v":0},{"$f":"[1]!PowerMod($A86,AW$2,$A$2)","v":0},{"$f":"[1]!PowerMod($A86,AX$2,$A$2)","v":0},{"$f":"[1]!PowerMod($A86,AY$2,$A$2)","v":0},{"$f":"[1]!PowerMod($A86,AZ$2,$A$2)","v":0},{"$f":"[1]!PowerMod($A86,BA$2,$A$2)","v":0},{"$f":"[1]!PowerMod($A86,BB$2,$A$2)","v":0},{"$f":"[1]!PowerMod($A86,BC$2,$A$2)","v":0},{"$f":"[1]!PowerMod($A86,BD$2,$A$2)","v":0},{"$f":"[1]!PowerMod($A86,BE$2,$A$2)","v":0},{"$f":"[1]!PowerMod($A86,BF$2,$A$2)","v":0},{"$f":"[1]!PowerMod($A86,BG$2,$A$2)","v":0},{"$f":"[1]!PowerMod($A86,BH$2,$A$2)","v":0},{"$f":"[1]!PowerMod($A86,BI$2,$A$2)","v":0},{"$f":"[1]!PowerMod($A86,BJ$2,$A$2)","v":0},{"$f":"[1]!PowerMod($A86,BK$2,$A$2)","v":0},{"$f":"[1]!PowerMod($A86,BL$2,$A$2)","v":0},{"$f":"[1]!PowerMod($A86,BM$2,$A$2)","v":0},{"$f":"[1]!PowerMod($A86,BN$2,$A$2)","v":0},{"$f":"[1]!PowerMod($A86,BO$2,$A$2)","v":0},{"$f":"[1]!PowerMod($A86,BP$2,$A$2)","v":0},{"$f":"[1]!PowerMod($A86,BQ$2,$A$2)","v":0},{"$f":"[1]!PowerMod($A86,BR$2,$A$2)","v":0},{"$f":"[1]!PowerMod($A86,BS$2,$A$2)","v":0},{"$f":"[1]!PowerMod($A86,BT$2,$A$2)","v":0}]
[85,{"$f":"[1]!PowerMod($A87,B$2,$A$2)","v":4},{"$f":"[1]!PowerMod($A87,C$2,$A$2)","v":16},{"$f":"[1]!PowerMod($A87,D$2,$A$2)","v":10},{"$f":"[1]!PowerMod($A87,E$2,$A$2)","v":13},{"$f":"[1]!PowerMod($A87,F$2,$A$2)","v":25},{"$f":"[1]!PowerMod($A87,G$2,$A$2)","v":19},{"$f":"[1]!PowerMod($A87,H$2,$A$2)","v":22},{"$f":"[1]!PowerMod($A87,I$2,$A$2)","v":7},{"$f":"[1]!PowerMod($A87,J$2,$A$2)","v":1},{"$f":"[1]!PowerMod($A87,K$2,$A$2)","v":4},{"$f":"[1]!PowerMod($A87,L$2,$A$2)","v":16},{"$f":"[1]!PowerMod($A87,M$2,$A$2)","v":10},{"$f":"[1]!PowerMod($A87,N$2,$A$2)","v":13},{"$f":"[1]!PowerMod($A87,O$2,$A$2)","v":25},{"$f":"[1]!PowerMod($A87,P$2,$A$2)","v":19},{"$f":"[1]!PowerMod($A87,Q$2,$A$2)","v":22},{"$f":"[1]!PowerMod($A87,R$2,$A$2)","v":7},{"$f":"[1]!PowerMod($A87,S$2,$A$2)","v":1},{"$f":"[1]!PowerMod($A87,T$2,$A$2)","v":4},{"$f":"[1]!PowerMod($A87,U$2,$A$2)","v":16},{"$f":"[1]!PowerMod($A87,V$2,$A$2)","v":10},{"$f":"[1]!PowerMod($A87,W$2,$A$2)","v":13},{"$f":"[1]!PowerMod($A87,X$2,$A$2)","v":25},{"$f":"[1]!PowerMod($A87,Y$2,$A$2)","v":19},{"$f":"[1]!PowerMod($A87,Z$2,$A$2)","v":22},{"$f":"[1]!PowerMod($A87,AA$2,$A$2)","v":7},{"$f":"[1]!PowerMod($A87,AB$2,$A$2)","v":1},{"$f":"[1]!PowerMod($A87,AC$2,$A$2)","v":4},{"$f":"[1]!PowerMod($A87,AD$2,$A$2)","v":16},{"$f":"[1]!PowerMod($A87,AE$2,$A$2)","v":10},{"$f":"[1]!PowerMod($A87,AF$2,$A$2)","v":13},{"$f":"[1]!PowerMod($A87,AG$2,$A$2)","v":25},{"$f":"[1]!PowerMod($A87,AH$2,$A$2)","v":19},{"$f":"[1]!PowerMod($A87,AI$2,$A$2)","v":22},{"$f":"[1]!PowerMod($A87,AJ$2,$A$2)","v":7},{"$f":"[1]!PowerMod($A87,AK$2,$A$2)","v":1},{"$f":"[1]!PowerMod($A87,AL$2,$A$2)","v":4},{"$f":"[1]!PowerMod($A87,AM$2,$A$2)","v":16},{"$f":"[1]!PowerMod($A87,AN$2,$A$2)","v":10},{"$f":"[1]!PowerMod($A87,AO$2,$A$2)","v":13},{"$f":"[1]!PowerMod($A87,AP$2,$A$2)","v":25},{"$f":"[1]!PowerMod($A87,AQ$2,$A$2)","v":19},{"$f":"[1]!PowerMod($A87,AR$2,$A$2)","v":22},{"$f":"[1]!PowerMod($A87,AS$2,$A$2)","v":7},{"$f":"[1]!PowerMod($A87,AT$2,$A$2)","v":1},{"$f":"[1]!PowerMod($A87,AU$2,$A$2)","v":4},{"$f":"[1]!PowerMod($A87,AV$2,$A$2)","v":16},{"$f":"[1]!PowerMod($A87,AW$2,$A$2)","v":10},{"$f":"[1]!PowerMod($A87,AX$2,$A$2)","v":13},{"$f":"[1]!PowerMod($A87,AY$2,$A$2)","v":25},{"$f":"[1]!PowerMod($A87,AZ$2,$A$2)","v":19},{"$f":"[1]!PowerMod($A87,BA$2,$A$2)","v":22},{"$f":"[1]!PowerMod($A87,BB$2,$A$2)","v":7},{"$f":"[1]!PowerMod($A87,BC$2,$A$2)","v":1},{"$f":"[1]!PowerMod($A87,BD$2,$A$2)","v":4},{"$f":"[1]!PowerMod($A87,BE$2,$A$2)","v":16},{"$f":"[1]!PowerMod($A87,BF$2,$A$2)","v":10},{"$f":"[1]!PowerMod($A87,BG$2,$A$2)","v":13},{"$f":"[1]!PowerMod($A87,BH$2,$A$2)","v":25},{"$f":"[1]!PowerMod($A87,BI$2,$A$2)","v":19},{"$f":"[1]!PowerMod($A87,BJ$2,$A$2)","v":22},{"$f":"[1]!PowerMod($A87,BK$2,$A$2)","v":7},{"$f":"[1]!PowerMod($A87,BL$2,$A$2)","v":1},{"$f":"[1]!PowerMod($A87,BM$2,$A$2)","v":4},{"$f":"[1]!PowerMod($A87,BN$2,$A$2)","v":16},{"$f":"[1]!PowerMod($A87,BO$2,$A$2)","v":10},{"$f":"[1]!PowerMod($A87,BP$2,$A$2)","v":13},{"$f":"[1]!PowerMod($A87,BQ$2,$A$2)","v":25},{"$f":"[1]!PowerMod($A87,BR$2,$A$2)","v":19},{"$f":"[1]!PowerMod($A87,BS$2,$A$2)","v":22},{"$f":"[1]!PowerMod($A87,BT$2,$A$2)","v":7}]
[86,{"$f":"[1]!PowerMod($A88,B$2,$A$2)","v":5},{"$f":"[1]!PowerMod($A88,C$2,$A$2)","v":25},{"$f":"[1]!PowerMod($A88,D$2,$A$2)","v":17},{"$f":"[1]!PowerMod($A88,E$2,$A$2)","v":4},{"$f":"[1]!PowerMod($A88,F$2,$A$2)","v":20},{"$f":"[1]!PowerMod($A88,G$2,$A$2)","v":19},{"$f":"[1]!PowerMod($A88,H$2,$A$2)","v":14},{"$f":"[1]!PowerMod($A88,I$2,$A$2)","v":16},{"$f":"[1]!PowerMod($A88,J$2,$A$2)","v":26},{"$f":"[1]!PowerMod($A88,K$2,$A$2)","v":22},{"$f":"[1]!PowerMod($A88,L$2,$A$2)","v":2},{"$f":"[1]!PowerMod($A88,M$2,$A$2)","v":10},{"$f":"[1]!PowerMod($A88,N$2,$A$2)","v":23},{"$f":"[1]!PowerMod($A88,O$2,$A$2)","v":7},{"$f":"[1]!PowerMod($A88,P$2,$A$2)","v":8},{"$f":"[1]!PowerMod($A88,Q$2,$A$2)","v":13},{"$f":"[1]!PowerMod($A88,R$2,$A$2)","v":11},{"$f":"[1]!PowerMod($A88,S$2,$A$2)","v":1},{"$f":"[1]!PowerMod($A88,T$2,$A$2)","v":5},{"$f":"[1]!PowerMod($A88,U$2,$A$2)","v":25},{"$f":"[1]!PowerMod($A88,V$2,$A$2)","v":17},{"$f":"[1]!PowerMod($A88,W$2,$A$2)","v":4},{"$f":"[1]!PowerMod($A88,X$2,$A$2)","v":20},{"$f":"[1]!PowerMod($A88,Y$2,$A$2)","v":19},{"$f":"[1]!PowerMod($A88,Z$2,$A$2)","v":14},{"$f":"[1]!PowerMod($A88,AA$2,$A$2)","v":16},{"$f":"[1]!PowerMod($A88,AB$2,$A$2)","v":26},{"$f":"[1]!PowerMod($A88,AC$2,$A$2)","v":22},{"$f":"[1]!PowerMod($A88,AD$2,$A$2)","v":2},{"$f":"[1]!PowerMod($A88,AE$2,$A$2)","v":10},{"$f":"[1]!PowerMod($A88,AF$2,$A$2)","v":23},{"$f":"[1]!PowerMod($A88,AG$2,$A$2)","v":7},{"$f":"[1]!PowerMod($A88,AH$2,$A$2)","v":8},{"$f":"[1]!PowerMod($A88,AI$2,$A$2)","v":13},{"$f":"[1]!PowerMod($A88,AJ$2,$A$2)","v":11},{"$f":"[1]!PowerMod($A88,AK$2,$A$2)","v":1},{"$f":"[1]!PowerMod($A88,AL$2,$A$2)","v":5},{"$f":"[1]!PowerMod($A88,AM$2,$A$2)","v":25},{"$f":"[1]!PowerMod($A88,AN$2,$A$2)","v":17},{"$f":"[1]!PowerMod($A88,AO$2,$A$2)","v":4},{"$f":"[1]!PowerMod($A88,AP$2,$A$2)","v":20},{"$f":"[1]!PowerMod($A88,AQ$2,$A$2)","v":19},{"$f":"[1]!PowerMod($A88,AR$2,$A$2)","v":14},{"$f":"[1]!PowerMod($A88,AS$2,$A$2)","v":16},{"$f":"[1]!PowerMod($A88,AT$2,$A$2)","v":26},{"$f":"[1]!PowerMod($A88,AU$2,$A$2)","v":22},{"$f":"[1]!PowerMod($A88,AV$2,$A$2)","v":2},{"$f":"[1]!PowerMod($A88,AW$2,$A$2)","v":10},{"$f":"[1]!PowerMod($A88,AX$2,$A$2)","v":23},{"$f":"[1]!PowerMod($A88,AY$2,$A$2)","v":7},{"$f":"[1]!PowerMod($A88,AZ$2,$A$2)","v":8},{"$f":"[1]!PowerMod($A88,BA$2,$A$2)","v":13},{"$f":"[1]!PowerMod($A88,BB$2,$A$2)","v":11},{"$f":"[1]!PowerMod($A88,BC$2,$A$2)","v":1},{"$f":"[1]!PowerMod($A88,BD$2,$A$2)","v":5},{"$f":"[1]!PowerMod($A88,BE$2,$A$2)","v":25},{"$f":"[1]!PowerMod($A88,BF$2,$A$2)","v":17},{"$f":"[1]!PowerMod($A88,BG$2,$A$2)","v":4},{"$f":"[1]!PowerMod($A88,BH$2,$A$2)","v":20},{"$f":"[1]!PowerMod($A88,BI$2,$A$2)","v":19},{"$f":"[1]!PowerMod($A88,BJ$2,$A$2)","v":14},{"$f":"[1]!PowerMod($A88,BK$2,$A$2)","v":16},{"$f":"[1]!PowerMod($A88,BL$2,$A$2)","v":26},{"$f":"[1]!PowerMod($A88,BM$2,$A$2)","v":22},{"$f":"[1]!PowerMod($A88,BN$2,$A$2)","v":2},{"$f":"[1]!PowerMod($A88,BO$2,$A$2)","v":10},{"$f":"[1]!PowerMod($A88,BP$2,$A$2)","v":23},{"$f":"[1]!PowerMod($A88,BQ$2,$A$2)","v":7},{"$f":"[1]!PowerMod($A88,BR$2,$A$2)","v":8},{"$f":"[1]!PowerMod($A88,BS$2,$A$2)","v":13},{"$f":"[1]!PowerMod($A88,BT$2,$A$2)","v":11}]
[87,{"$f":"[1]!PowerMod($A89,B$2,$A$2)","v":6},{"$f":"[1]!PowerMod($A89,C$2,$A$2)","v":9},{"$f":"[1]!PowerMod($A89,D$2,$A$2)","v":0},{"$f":"[1]!PowerMod($A89,E$2,$A$2)","v":0},{"$f":"[1]!PowerMod($A89,F$2,$A$2)","v":0},{"$f":"[1]!PowerMod($A89,G$2,$A$2)","v":0},{"$f":"[1]!PowerMod($A89,H$2,$A$2)","v":0},{"$f":"[1]!PowerMod($A89,I$2,$A$2)","v":0},{"$f":"[1]!PowerMod($A89,J$2,$A$2)","v":0},{"$f":"[1]!PowerMod($A89,K$2,$A$2)","v":0},{"$f":"[1]!PowerMod($A89,L$2,$A$2)","v":0},{"$f":"[1]!PowerMod($A89,M$2,$A$2)","v":0},{"$f":"[1]!PowerMod($A89,N$2,$A$2)","v":0},{"$f":"[1]!PowerMod($A89,O$2,$A$2)","v":0},{"$f":"[1]!PowerMod($A89,P$2,$A$2)","v":0},{"$f":"[1]!PowerMod($A89,Q$2,$A$2)","v":0},{"$f":"[1]!PowerMod($A89,R$2,$A$2)","v":0},{"$f":"[1]!PowerMod($A89,S$2,$A$2)","v":0},{"$f":"[1]!PowerMod($A89,T$2,$A$2)","v":0},{"$f":"[1]!PowerMod($A89,U$2,$A$2)","v":0},{"$f":"[1]!PowerMod($A89,V$2,$A$2)","v":0},{"$f":"[1]!PowerMod($A89,W$2,$A$2)","v":0},{"$f":"[1]!PowerMod($A89,X$2,$A$2)","v":0},{"$f":"[1]!PowerMod($A89,Y$2,$A$2)","v":0},{"$f":"[1]!PowerMod($A89,Z$2,$A$2)","v":0},{"$f":"[1]!PowerMod($A89,AA$2,$A$2)","v":0},{"$f":"[1]!PowerMod($A89,AB$2,$A$2)","v":0},{"$f":"[1]!PowerMod($A89,AC$2,$A$2)","v":0},{"$f":"[1]!PowerMod($A89,AD$2,$A$2)","v":0},{"$f":"[1]!PowerMod($A89,AE$2,$A$2)","v":0},{"$f":"[1]!PowerMod($A89,AF$2,$A$2)","v":0},{"$f":"[1]!PowerMod($A89,AG$2,$A$2)","v":0},{"$f":"[1]!PowerMod($A89,AH$2,$A$2)","v":0},{"$f":"[1]!PowerMod($A89,AI$2,$A$2)","v":0},{"$f":"[1]!PowerMod($A89,AJ$2,$A$2)","v":0},{"$f":"[1]!PowerMod($A89,AK$2,$A$2)","v":0},{"$f":"[1]!PowerMod($A89,AL$2,$A$2)","v":0},{"$f":"[1]!PowerMod($A89,AM$2,$A$2)","v":0},{"$f":"[1]!PowerMod($A89,AN$2,$A$2)","v":0},{"$f":"[1]!PowerMod($A89,AO$2,$A$2)","v":0},{"$f":"[1]!PowerMod($A89,AP$2,$A$2)","v":0},{"$f":"[1]!PowerMod($A89,AQ$2,$A$2)","v":0},{"$f":"[1]!PowerMod($A89,AR$2,$A$2)","v":0},{"$f":"[1]!PowerMod($A89,AS$2,$A$2)","v":0},{"$f":"[1]!PowerMod($A89,AT$2,$A$2)","v":0},{"$f":"[1]!PowerMod($A89,AU$2,$A$2)","v":0},{"$f":"[1]!PowerMod($A89,AV$2,$A$2)","v":0},{"$f":"[1]!PowerMod($A89,AW$2,$A$2)","v":0},{"$f":"[1]!PowerMod($A89,AX$2,$A$2)","v":0},{"$f":"[1]!PowerMod($A89,AY$2,$A$2)","v":0},{"$f":"[1]!PowerMod($A89,AZ$2,$A$2)","v":0},{"$f":"[1]!PowerMod($A89,BA$2,$A$2)","v":0},{"$f":"[1]!PowerMod($A89,BB$2,$A$2)","v":0},{"$f":"[1]!PowerMod($A89,BC$2,$A$2)","v":0},{"$f":"[1]!PowerMod($A89,BD$2,$A$2)","v":0},{"$f":"[1]!PowerMod($A89,BE$2,$A$2)","v":0},{"$f":"[1]!PowerMod($A89,BF$2,$A$2)","v":0},{"$f":"[1]!PowerMod($A89,BG$2,$A$2)","v":0},{"$f":"[1]!PowerMod($A89,BH$2,$A$2)","v":0},{"$f":"[1]!PowerMod($A89,BI$2,$A$2)","v":0},{"$f":"[1]!PowerMod($A89,BJ$2,$A$2)","v":0},{"$f":"[1]!PowerMod($A89,BK$2,$A$2)","v":0},{"$f":"[1]!PowerMod($A89,BL$2,$A$2)","v":0},{"$f":"[1]!PowerMod($A89,BM$2,$A$2)","v":0},{"$f":"[1]!PowerMod($A89,BN$2,$A$2)","v":0},{"$f":"[1]!PowerMod($A89,BO$2,$A$2)","v":0},{"$f":"[1]!PowerMod($A89,BP$2,$A$2)","v":0},{"$f":"[1]!PowerMod($A89,BQ$2,$A$2)","v":0},{"$f":"[1]!PowerMod($A89,BR$2,$A$2)","v":0},{"$f":"[1]!PowerMod($A89,BS$2,$A$2)","v":0},{"$f":"[1]!PowerMod($A89,BT$2,$A$2)","v":0}]
[88,{"$f":"[1]!PowerMod($A90,B$2,$A$2)","v":7},{"$f":"[1]!PowerMod($A90,C$2,$A$2)","v":22},{"$f":"[1]!PowerMod($A90,D$2,$A$2)","v":19},{"$f":"[1]!PowerMod($A90,E$2,$A$2)","v":25},{"$f":"[1]!PowerMod($A90,F$2,$A$2)","v":13},{"$f":"[1]!PowerMod($A90,G$2,$A$2)","v":10},{"$f":"[1]!PowerMod($A90,H$2,$A$2)","v":16},{"$f":"[1]!PowerMod($A90,I$2,$A$2)","v":4},{"$f":"[1]!PowerMod($A90,J$2,$A$2)","v":1},{"$f":"[1]!PowerMod($A90,K$2,$A$2)","v":7},{"$f":"[1]!PowerMod($A90,L$2,$A$2)","v":22},{"$f":"[1]!PowerMod($A90,M$2,$A$2)","v":19},{"$f":"[1]!PowerMod($A90,N$2,$A$2)","v":25},{"$f":"[1]!PowerMod($A90,O$2,$A$2)","v":13},{"$f":"[1]!PowerMod($A90,P$2,$A$2)","v":10},{"$f":"[1]!PowerMod($A90,Q$2,$A$2)","v":16},{"$f":"[1]!PowerMod($A90,R$2,$A$2)","v":4},{"$f":"[1]!PowerMod($A90,S$2,$A$2)","v":1},{"$f":"[1]!PowerMod($A90,T$2,$A$2)","v":7},{"$f":"[1]!PowerMod($A90,U$2,$A$2)","v":22},{"$f":"[1]!PowerMod($A90,V$2,$A$2)","v":19},{"$f":"[1]!PowerMod($A90,W$2,$A$2)","v":25},{"$f":"[1]!PowerMod($A90,X$2,$A$2)","v":13},{"$f":"[1]!PowerMod($A90,Y$2,$A$2)","v":10},{"$f":"[1]!PowerMod($A90,Z$2,$A$2)","v":16},{"$f":"[1]!PowerMod($A90,AA$2,$A$2)","v":4},{"$f":"[1]!PowerMod($A90,AB$2,$A$2)","v":1},{"$f":"[1]!PowerMod($A90,AC$2,$A$2)","v":7},{"$f":"[1]!PowerMod($A90,AD$2,$A$2)","v":22},{"$f":"[1]!PowerMod($A90,AE$2,$A$2)","v":19},{"$f":"[1]!PowerMod($A90,AF$2,$A$2)","v":25},{"$f":"[1]!PowerMod($A90,AG$2,$A$2)","v":13},{"$f":"[1]!PowerMod($A90,AH$2,$A$2)","v":10},{"$f":"[1]!PowerMod($A90,AI$2,$A$2)","v":16},{"$f":"[1]!PowerMod($A90,AJ$2,$A$2)","v":4},{"$f":"[1]!PowerMod($A90,AK$2,$A$2)","v":1},{"$f":"[1]!PowerMod($A90,AL$2,$A$2)","v":7},{"$f":"[1]!PowerMod($A90,AM$2,$A$2)","v":22},{"$f":"[1]!PowerMod($A90,AN$2,$A$2)","v":19},{"$f":"[1]!PowerMod($A90,AO$2,$A$2)","v":25},{"$f":"[1]!PowerMod($A90,AP$2,$A$2)","v":13},{"$f":"[1]!PowerMod($A90,AQ$2,$A$2)","v":10},{"$f":"[1]!PowerMod($A90,AR$2,$A$2)","v":16},{"$f":"[1]!PowerMod($A90,AS$2,$A$2)","v":4},{"$f":"[1]!PowerMod($A90,AT$2,$A$2)","v":1},{"$f":"[1]!PowerMod($A90,AU$2,$A$2)","v":7},{"$f":"[1]!PowerMod($A90,AV$2,$A$2)","v":22},{"$f":"[1]!PowerMod($A90,AW$2,$A$2)","v":19},{"$f":"[1]!PowerMod($A90,AX$2,$A$2)","v":25},{"$f":"[1]!PowerMod($A90,AY$2,$A$2)","v":13},{"$f":"[1]!PowerMod($A90,AZ$2,$A$2)","v":10},{"$f":"[1]!PowerMod($A90,BA$2,$A$2)","v":16},{"$f":"[1]!PowerMod($A90,BB$2,$A$2)","v":4},{"$f":"[1]!PowerMod($A90,BC$2,$A$2)","v":1},{"$f":"[1]!PowerMod($A90,BD$2,$A$2)","v":7},{"$f":"[1]!PowerMod($A90,BE$2,$A$2)","v":22},{"$f":"[1]!PowerMod($A90,BF$2,$A$2)","v":19},{"$f":"[1]!PowerMod($A90,BG$2,$A$2)","v":25},{"$f":"[1]!PowerMod($A90,BH$2,$A$2)","v":13},{"$f":"[1]!PowerMod($A90,BI$2,$A$2)","v":10},{"$f":"[1]!PowerMod($A90,BJ$2,$A$2)","v":16},{"$f":"[1]!PowerMod($A90,BK$2,$A$2)","v":4},{"$f":"[1]!PowerMod($A90,BL$2,$A$2)","v":1},{"$f":"[1]!PowerMod($A90,BM$2,$A$2)","v":7},{"$f":"[1]!PowerMod($A90,BN$2,$A$2)","v":22},{"$f":"[1]!PowerMod($A90,BO$2,$A$2)","v":19},{"$f":"[1]!PowerMod($A90,BP$2,$A$2)","v":25},{"$f":"[1]!PowerMod($A90,BQ$2,$A$2)","v":13},{"$f":"[1]!PowerMod($A90,BR$2,$A$2)","v":10},{"$f":"[1]!PowerMod($A90,BS$2,$A$2)","v":16},{"$f":"[1]!PowerMod($A90,BT$2,$A$2)","v":4}]
[89,{"$f":"[1]!PowerMod($A91,B$2,$A$2)","v":8},{"$f":"[1]!PowerMod($A91,C$2,$A$2)","v":10},{"$f":"[1]!PowerMod($A91,D$2,$A$2)","v":26},{"$f":"[1]!PowerMod($A91,E$2,$A$2)","v":19},{"$f":"[1]!PowerMod($A91,F$2,$A$2)","v":17},{"$f":"[1]!PowerMod($A91,G$2,$A$2)","v":1},{"$f":"[1]!PowerMod($A91,H$2,$A$2)","v":8},{"$f":"[1]!PowerMod($A91,I$2,$A$2)","v":10},{"$f":"[1]!PowerMod($A91,J$2,$A$2)","v":26},{"$f":"[1]!PowerMod($A91,K$2,$A$2)","v":19},{"$f":"[1]!PowerMod($A91,L$2,$A$2)","v":17},{"$f":"[1]!PowerMod($A91,M$2,$A$2)","v":1},{"$f":"[1]!PowerMod($A91,N$2,$A$2)","v":8},{"$f":"[1]!PowerMod($A91,O$2,$A$2)","v":10},{"$f":"[1]!PowerMod($A91,P$2,$A$2)","v":26},{"$f":"[1]!PowerMod($A91,Q$2,$A$2)","v":19},{"$f":"[1]!PowerMod($A91,R$2,$A$2)","v":17},{"$f":"[1]!PowerMod($A91,S$2,$A$2)","v":1},{"$f":"[1]!PowerMod($A91,T$2,$A$2)","v":8},{"$f":"[1]!PowerMod($A91,U$2,$A$2)","v":10},{"$f":"[1]!PowerMod($A91,V$2,$A$2)","v":26},{"$f":"[1]!PowerMod($A91,W$2,$A$2)","v":19},{"$f":"[1]!PowerMod($A91,X$2,$A$2)","v":17},{"$f":"[1]!PowerMod($A91,Y$2,$A$2)","v":1},{"$f":"[1]!PowerMod($A91,Z$2,$A$2)","v":8},{"$f":"[1]!PowerMod($A91,AA$2,$A$2)","v":10},{"$f":"[1]!PowerMod($A91,AB$2,$A$2)","v":26},{"$f":"[1]!PowerMod($A91,AC$2,$A$2)","v":19},{"$f":"[1]!PowerMod($A91,AD$2,$A$2)","v":17},{"$f":"[1]!PowerMod($A91,AE$2,$A$2)","v":1},{"$f":"[1]!PowerMod($A91,AF$2,$A$2)","v":8},{"$f":"[1]!PowerMod($A91,AG$2,$A$2)","v":10},{"$f":"[1]!PowerMod($A91,AH$2,$A$2)","v":26},{"$f":"[1]!PowerMod($A91,AI$2,$A$2)","v":19},{"$f":"[1]!PowerMod($A91,AJ$2,$A$2)","v":17},{"$f":"[1]!PowerMod($A91,AK$2,$A$2)","v":1},{"$f":"[1]!PowerMod($A91,AL$2,$A$2)","v":8},{"$f":"[1]!PowerMod($A91,AM$2,$A$2)","v":10},{"$f":"[1]!PowerMod($A91,AN$2,$A$2)","v":26},{"$f":"[1]!PowerMod($A91,AO$2,$A$2)","v":19},{"$f":"[1]!PowerMod($A91,AP$2,$A$2)","v":17},{"$f":"[1]!PowerMod($A91,AQ$2,$A$2)","v":1},{"$f":"[1]!PowerMod($A91,AR$2,$A$2)","v":8},{"$f":"[1]!PowerMod($A91,AS$2,$A$2)","v":10},{"$f":"[1]!PowerMod($A91,AT$2,$A$2)","v":26},{"$f":"[1]!PowerMod($A91,AU$2,$A$2)","v":19},{"$f":"[1]!PowerMod($A91,AV$2,$A$2)","v":17},{"$f":"[1]!PowerMod($A91,AW$2,$A$2)","v":1},{"$f":"[1]!PowerMod($A91,AX$2,$A$2)","v":8},{"$f":"[1]!PowerMod($A91,AY$2,$A$2)","v":10},{"$f":"[1]!PowerMod($A91,AZ$2,$A$2)","v":26},{"$f":"[1]!PowerMod($A91,BA$2,$A$2)","v":19},{"$f":"[1]!PowerMod($A91,BB$2,$A$2)","v":17},{"$f":"[1]!PowerMod($A91,BC$2,$A$2)","v":1},{"$f":"[1]!PowerMod($A91,BD$2,$A$2)","v":8},{"$f":"[1]!PowerMod($A91,BE$2,$A$2)","v":10},{"$f":"[1]!PowerMod($A91,BF$2,$A$2)","v":26},{"$f":"[1]!PowerMod($A91,BG$2,$A$2)","v":19},{"$f":"[1]!PowerMod($A91,BH$2,$A$2)","v":17},{"$f":"[1]!PowerMod($A91,BI$2,$A$2)","v":1},{"$f":"[1]!PowerMod($A91,BJ$2,$A$2)","v":8},{"$f":"[1]!PowerMod($A91,BK$2,$A$2)","v":10},{"$f":"[1]!PowerMod($A91,BL$2,$A$2)","v":26},{"$f":"[1]!PowerMod($A91,BM$2,$A$2)","v":19},{"$f":"[1]!PowerMod($A91,BN$2,$A$2)","v":17},{"$f":"[1]!PowerMod($A91,BO$2,$A$2)","v":1},{"$f":"[1]!PowerMod($A91,BP$2,$A$2)","v":8},{"$f":"[1]!PowerMod($A91,BQ$2,$A$2)","v":10},{"$f":"[1]!PowerMod($A91,BR$2,$A$2)","v":26},{"$f":"[1]!PowerMod($A91,BS$2,$A$2)","v":19},{"$f":"[1]!PowerMod($A91,BT$2,$A$2)","v":17}]
[90,{"$f":"[1]!PowerMod($A92,B$2,$A$2)","v":9},{"$f":"[1]!PowerMod($A92,C$2,$A$2)","v":0},{"$f":"[1]!PowerMod($A92,D$2,$A$2)","v":0},{"$f":"[1]!PowerMod($A92,E$2,$A$2)","v":0},{"$f":"[1]!PowerMod($A92,F$2,$A$2)","v":0},{"$f":"[1]!PowerMod($A92,G$2,$A$2)","v":0},{"$f":"[1]!PowerMod($A92,H$2,$A$2)","v":0},{"$f":"[1]!PowerMod($A92,I$2,$A$2)","v":0},{"$f":"[1]!PowerMod($A92,J$2,$A$2)","v":0},{"$f":"[1]!PowerMod($A92,K$2,$A$2)","v":0},{"$f":"[1]!PowerMod($A92,L$2,$A$2)","v":0},{"$f":"[1]!PowerMod($A92,M$2,$A$2)","v":0},{"$f":"[1]!PowerMod($A92,N$2,$A$2)","v":0},{"$f":"[1]!PowerMod($A92,O$2,$A$2)","v":0},{"$f":"[1]!PowerMod($A92,P$2,$A$2)","v":0},{"$f":"[1]!PowerMod($A92,Q$2,$A$2)","v":0},{"$f":"[1]!PowerMod($A92,R$2,$A$2)","v":0},{"$f":"[1]!PowerMod($A92,S$2,$A$2)","v":0},{"$f":"[1]!PowerMod($A92,T$2,$A$2)","v":0},{"$f":"[1]!PowerMod($A92,U$2,$A$2)","v":0},{"$f":"[1]!PowerMod($A92,V$2,$A$2)","v":0},{"$f":"[1]!PowerMod($A92,W$2,$A$2)","v":0},{"$f":"[1]!PowerMod($A92,X$2,$A$2)","v":0},{"$f":"[1]!PowerMod($A92,Y$2,$A$2)","v":0},{"$f":"[1]!PowerMod($A92,Z$2,$A$2)","v":0},{"$f":"[1]!PowerMod($A92,AA$2,$A$2)","v":0},{"$f":"[1]!PowerMod($A92,AB$2,$A$2)","v":0},{"$f":"[1]!PowerMod($A92,AC$2,$A$2)","v":0},{"$f":"[1]!PowerMod($A92,AD$2,$A$2)","v":0},{"$f":"[1]!PowerMod($A92,AE$2,$A$2)","v":0},{"$f":"[1]!PowerMod($A92,AF$2,$A$2)","v":0},{"$f":"[1]!PowerMod($A92,AG$2,$A$2)","v":0},{"$f":"[1]!PowerMod($A92,AH$2,$A$2)","v":0},{"$f":"[1]!PowerMod($A92,AI$2,$A$2)","v":0},{"$f":"[1]!PowerMod($A92,AJ$2,$A$2)","v":0},{"$f":"[1]!PowerMod($A92,AK$2,$A$2)","v":0},{"$f":"[1]!PowerMod($A92,AL$2,$A$2)","v":0},{"$f":"[1]!PowerMod($A92,AM$2,$A$2)","v":0},{"$f":"[1]!PowerMod($A92,AN$2,$A$2)","v":0},{"$f":"[1]!PowerMod($A92,AO$2,$A$2)","v":0},{"$f":"[1]!PowerMod($A92,AP$2,$A$2)","v":0},{"$f":"[1]!PowerMod($A92,AQ$2,$A$2)","v":0},{"$f":"[1]!PowerMod($A92,AR$2,$A$2)","v":0},{"$f":"[1]!PowerMod($A92,AS$2,$A$2)","v":0},{"$f":"[1]!PowerMod($A92,AT$2,$A$2)","v":0},{"$f":"[1]!PowerMod($A92,AU$2,$A$2)","v":0},{"$f":"[1]!PowerMod($A92,AV$2,$A$2)","v":0},{"$f":"[1]!PowerMod($A92,AW$2,$A$2)","v":0},{"$f":"[1]!PowerMod($A92,AX$2,$A$2)","v":0},{"$f":"[1]!PowerMod($A92,AY$2,$A$2)","v":0},{"$f":"[1]!PowerMod($A92,AZ$2,$A$2)","v":0},{"$f":"[1]!PowerMod($A92,BA$2,$A$2)","v":0},{"$f":"[1]!PowerMod($A92,BB$2,$A$2)","v":0},{"$f":"[1]!PowerMod($A92,BC$2,$A$2)","v":0},{"$f":"[1]!PowerMod($A92,BD$2,$A$2)","v":0},{"$f":"[1]!PowerMod($A92,BE$2,$A$2)","v":0},{"$f":"[1]!PowerMod($A92,BF$2,$A$2)","v":0},{"$f":"[1]!PowerMod($A92,BG$2,$A$2)","v":0},{"$f":"[1]!PowerMod($A92,BH$2,$A$2)","v":0},{"$f":"[1]!PowerMod($A92,BI$2,$A$2)","v":0},{"$f":"[1]!PowerMod($A92,BJ$2,$A$2)","v":0},{"$f":"[1]!PowerMod($A92,BK$2,$A$2)","v":0},{"$f":"[1]!PowerMod($A92,BL$2,$A$2)","v":0},{"$f":"[1]!PowerMod($A92,BM$2,$A$2)","v":0},{"$f":"[1]!PowerMod($A92,BN$2,$A$2)","v":0},{"$f":"[1]!PowerMod($A92,BO$2,$A$2)","v":0},{"$f":"[1]!PowerMod($A92,BP$2,$A$2)","v":0},{"$f":"[1]!PowerMod($A92,BQ$2,$A$2)","v":0},{"$f":"[1]!PowerMod($A92,BR$2,$A$2)","v":0},{"$f":"[1]!PowerMod($A92,BS$2,$A$2)","v":0},{"$f":"[1]!PowerMod($A92,BT$2,$A$2)","v":0}]
[91,{"$f":"[1]!PowerMod($A93,B$2,$A$2)","v":10},{"$f":"[1]!PowerMod($A93,C$2,$A$2)","v":19},{"$f":"[1]!PowerMod($A93,D$2,$A$2)","v":1},{"$f":"[1]!PowerMod($A93,E$2,$A$2)","v":10},{"$f":"[1]!PowerMod($A93,F$2,$A$2)","v":19},{"$f":"[1]!PowerMod($A93,G$2,$A$2)","v":1},{"$f":"[1]!PowerMod($A93,H$2,$A$2)","v":10},{"$f":"[1]!PowerMod($A93,I$2,$A$2)","v":19},{"$f":"[1]!PowerMod($A93,J$2,$A$2)","v":1},{"$f":"[1]!PowerMod($A93,K$2,$A$2)","v":10},{"$f":"[1]!PowerMod($A93,L$2,$A$2)","v":19},{"$f":"[1]!PowerMod($A93,M$2,$A$2)","v":1},{"$f":"[1]!PowerMod($A93,N$2,$A$2)","v":10},{"$f":"[1]!PowerMod($A93,O$2,$A$2)","v":19},{"$f":"[1]!PowerMod($A93,P$2,$A$2)","v":1},{"$f":"[1]!PowerMod($A93,Q$2,$A$2)","v":10},{"$f":"[1]!PowerMod($A93,R$2,$A$2)","v":19},{"$f":"[1]!PowerMod($A93,S$2,$A$2)","v":1},{"$f":"[1]!PowerMod($A93,T$2,$A$2)","v":10},{"$f":"[1]!PowerMod($A93,U$2,$A$2)","v":19},{"$f":"[1]!PowerMod($A93,V$2,$A$2)","v":1},{"$f":"[1]!PowerMod($A93,W$2,$A$2)","v":10},{"$f":"[1]!PowerMod($A93,X$2,$A$2)","v":19},{"$f":"[1]!PowerMod($A93,Y$2,$A$2)","v":1},{"$f":"[1]!PowerMod($A93,Z$2,$A$2)","v":10},{"$f":"[1]!PowerMod($A93,AA$2,$A$2)","v":19},{"$f":"[1]!PowerMod($A93,AB$2,$A$2)","v":1},{"$f":"[1]!PowerMod($A93,AC$2,$A$2)","v":10},{"$f":"[1]!PowerMod($A93,AD$2,$A$2)","v":19},{"$f":"[1]!PowerMod($A93,AE$2,$A$2)","v":1},{"$f":"[1]!PowerMod($A93,AF$2,$A$2)","v":10},{"$f":"[1]!PowerMod($A93,AG$2,$A$2)","v":19},{"$f":"[1]!PowerMod($A93,AH$2,$A$2)","v":1},{"$f":"[1]!PowerMod($A93,AI$2,$A$2)","v":10},{"$f":"[1]!PowerMod($A93,AJ$2,$A$2)","v":19},{"$f":"[1]!PowerMod($A93,AK$2,$A$2)","v":1},{"$f":"[1]!PowerMod($A93,AL$2,$A$2)","v":10},{"$f":"[1]!PowerMod($A93,AM$2,$A$2)","v":19},{"$f":"[1]!PowerMod($A93,AN$2,$A$2)","v":1},{"$f":"[1]!PowerMod($A93,AO$2,$A$2)","v":10},{"$f":"[1]!PowerMod($A93,AP$2,$A$2)","v":19},{"$f":"[1]!PowerMod($A93,AQ$2,$A$2)","v":1},{"$f":"[1]!PowerMod($A93,AR$2,$A$2)","v":10},{"$f":"[1]!PowerMod($A93,AS$2,$A$2)","v":19},{"$f":"[1]!PowerMod($A93,AT$2,$A$2)","v":1},{"$f":"[1]!PowerMod($A93,AU$2,$A$2)","v":10},{"$f":"[1]!PowerMod($A93,AV$2,$A$2)","v":19},{"$f":"[1]!PowerMod($A93,AW$2,$A$2)","v":1},{"$f":"[1]!PowerMod($A93,AX$2,$A$2)","v":10},{"$f":"[1]!PowerMod($A93,AY$2,$A$2)","v":19},{"$f":"[1]!PowerMod($A93,AZ$2,$A$2)","v":1},{"$f":"[1]!PowerMod($A93,BA$2,$A$2)","v":10},{"$f":"[1]!PowerMod($A93,BB$2,$A$2)","v":19},{"$f":"[1]!PowerMod($A93,BC$2,$A$2)","v":1},{"$f":"[1]!PowerMod($A93,BD$2,$A$2)","v":10},{"$f":"[1]!PowerMod($A93,BE$2,$A$2)","v":19},{"$f":"[1]!PowerMod($A93,BF$2,$A$2)","v":1},{"$f":"[1]!PowerMod($A93,BG$2,$A$2)","v":10},{"$f":"[1]!PowerMod($A93,BH$2,$A$2)","v":19},{"$f":"[1]!PowerMod($A93,BI$2,$A$2)","v":1},{"$f":"[1]!PowerMod($A93,BJ$2,$A$2)","v":10},{"$f":"[1]!PowerMod($A93,BK$2,$A$2)","v":19},{"$f":"[1]!PowerMod($A93,BL$2,$A$2)","v":1},{"$f":"[1]!PowerMod($A93,BM$2,$A$2)","v":10},{"$f":"[1]!PowerMod($A93,BN$2,$A$2)","v":19},{"$f":"[1]!PowerMod($A93,BO$2,$A$2)","v":1},{"$f":"[1]!PowerMod($A93,BP$2,$A$2)","v":10},{"$f":"[1]!PowerMod($A93,BQ$2,$A$2)","v":19},{"$f":"[1]!PowerMod($A93,BR$2,$A$2)","v":1},{"$f":"[1]!PowerMod($A93,BS$2,$A$2)","v":10},{"$f":"[1]!PowerMod($A93,BT$2,$A$2)","v":19}]
[92,{"$f":"[1]!PowerMod($A94,B$2,$A$2)","v":11},{"$f":"[1]!PowerMod($A94,C$2,$A$2)","v":13},{"$f":"[1]!PowerMod($A94,D$2,$A$2)","v":8},{"$f":"[1]!PowerMod($A94,E$2,$A$2)","v":7},{"$f":"[1]!PowerMod($A94,F$2,$A$2)","v":23},{"$f":"[1]!PowerMod($A94,G$2,$A$2)","v":10},{"$f":"[1]!PowerMod($A94,H$2,$A$2)","v":2},{"$f":"[1]!PowerMod($A94,I$2,$A$2)","v":22},{"$f":"[1]!PowerMod($A94,J$2,$A$2)","v":26},{"$f":"[1]!PowerMod($A94,K$2,$A$2)","v":16},{"$f":"[1]!PowerMod($A94,L$2,$A$2)","v":14},{"$f":"[1]!PowerMod($A94,M$2,$A$2)","v":19},{"$f":"[1]!PowerMod($A94,N$2,$A$2)","v":20},{"$f":"[1]!PowerMod($A94,O$2,$A$2)","v":4},{"$f":"[1]!PowerMod($A94,P$2,$A$2)","v":17},{"$f":"[1]!PowerMod($A94,Q$2,$A$2)","v":25},{"$f":"[1]!PowerMod($A94,R$2,$A$2)","v":5},{"$f":"[1]!PowerMod($A94,S$2,$A$2)","v":1},{"$f":"[1]!PowerMod($A94,T$2,$A$2)","v":11},{"$f":"[1]!PowerMod($A94,U$2,$A$2)","v":13},{"$f":"[1]!PowerMod($A94,V$2,$A$2)","v":8},{"$f":"[1]!PowerMod($A94,W$2,$A$2)","v":7},{"$f":"[1]!PowerMod($A94,X$2,$A$2)","v":23},{"$f":"[1]!PowerMod($A94,Y$2,$A$2)","v":10},{"$f":"[1]!PowerMod($A94,Z$2,$A$2)","v":2},{"$f":"[1]!PowerMod($A94,AA$2,$A$2)","v":22},{"$f":"[1]!PowerMod($A94,AB$2,$A$2)","v":26},{"$f":"[1]!PowerMod($A94,AC$2,$A$2)","v":16},{"$f":"[1]!PowerMod($A94,AD$2,$A$2)","v":14},{"$f":"[1]!PowerMod($A94,AE$2,$A$2)","v":19},{"$f":"[1]!PowerMod($A94,AF$2,$A$2)","v":20},{"$f":"[1]!PowerMod($A94,AG$2,$A$2)","v":4},{"$f":"[1]!PowerMod($A94,AH$2,$A$2)","v":17},{"$f":"[1]!PowerMod($A94,AI$2,$A$2)","v":25},{"$f":"[1]!PowerMod($A94,AJ$2,$A$2)","v":5},{"$f":"[1]!PowerMod($A94,AK$2,$A$2)","v":1},{"$f":"[1]!PowerMod($A94,AL$2,$A$2)","v":11},{"$f":"[1]!PowerMod($A94,AM$2,$A$2)","v":13},{"$f":"[1]!PowerMod($A94,AN$2,$A$2)","v":8},{"$f":"[1]!PowerMod($A94,AO$2,$A$2)","v":7},{"$f":"[1]!PowerMod($A94,AP$2,$A$2)","v":23},{"$f":"[1]!PowerMod($A94,AQ$2,$A$2)","v":10},{"$f":"[1]!PowerMod($A94,AR$2,$A$2)","v":2},{"$f":"[1]!PowerMod($A94,AS$2,$A$2)","v":22},{"$f":"[1]!PowerMod($A94,AT$2,$A$2)","v":26},{"$f":"[1]!PowerMod($A94,AU$2,$A$2)","v":16},{"$f":"[1]!PowerMod($A94,AV$2,$A$2)","v":14},{"$f":"[1]!PowerMod($A94,AW$2,$A$2)","v":19},{"$f":"[1]!PowerMod($A94,AX$2,$A$2)","v":20},{"$f":"[1]!PowerMod($A94,AY$2,$A$2)","v":4},{"$f":"[1]!PowerMod($A94,AZ$2,$A$2)","v":17},{"$f":"[1]!PowerMod($A94,BA$2,$A$2)","v":25},{"$f":"[1]!PowerMod($A94,BB$2,$A$2)","v":5},{"$f":"[1]!PowerMod($A94,BC$2,$A$2)","v":1},{"$f":"[1]!PowerMod($A94,BD$2,$A$2)","v":11},{"$f":"[1]!PowerMod($A94,BE$2,$A$2)","v":13},{"$f":"[1]!PowerMod($A94,BF$2,$A$2)","v":8},{"$f":"[1]!PowerMod($A94,BG$2,$A$2)","v":7},{"$f":"[1]!PowerMod($A94,BH$2,$A$2)","v":23},{"$f":"[1]!PowerMod($A94,BI$2,$A$2)","v":10},{"$f":"[1]!PowerMod($A94,BJ$2,$A$2)","v":2},{"$f":"[1]!PowerMod($A94,BK$2,$A$2)","v":22},{"$f":"[1]!PowerMod($A94,BL$2,$A$2)","v":26},{"$f":"[1]!PowerMod($A94,BM$2,$A$2)","v":16},{"$f":"[1]!PowerMod($A94,BN$2,$A$2)","v":14},{"$f":"[1]!PowerMod($A94,BO$2,$A$2)","v":19},{"$f":"[1]!PowerMod($A94,BP$2,$A$2)","v":20},{"$f":"[1]!PowerMod($A94,BQ$2,$A$2)","v":4},{"$f":"[1]!PowerMod($A94,BR$2,$A$2)","v":17},{"$f":"[1]!PowerMod($A94,BS$2,$A$2)","v":25},{"$f":"[1]!PowerMod($A94,BT$2,$A$2)","v":5}]
[93,{"$f":"[1]!PowerMod($A95,B$2,$A$2)","v":12},{"$f":"[1]!PowerMod($A95,C$2,$A$2)","v":9},{"$f":"[1]!PowerMod($A95,D$2,$A$2)","v":0},{"$f":"[1]!PowerMod($A95,E$2,$A$2)","v":0},{"$f":"[1]!PowerMod($A95,F$2,$A$2)","v":0},{"$f":"[1]!PowerMod($A95,G$2,$A$2)","v":0},{"$f":"[1]!PowerMod($A95,H$2,$A$2)","v":0},{"$f":"[1]!PowerMod($A95,I$2,$A$2)","v":0},{"$f":"[1]!PowerMod($A95,J$2,$A$2)","v":0},{"$f":"[1]!PowerMod($A95,K$2,$A$2)","v":0},{"$f":"[1]!PowerMod($A95,L$2,$A$2)","v":0},{"$f":"[1]!PowerMod($A95,M$2,$A$2)","v":0},{"$f":"[1]!PowerMod($A95,N$2,$A$2)","v":0},{"$f":"[1]!PowerMod($A95,O$2,$A$2)","v":0},{"$f":"[1]!PowerMod($A95,P$2,$A$2)","v":0},{"$f":"[1]!PowerMod($A95,Q$2,$A$2)","v":0},{"$f":"[1]!PowerMod($A95,R$2,$A$2)","v":0},{"$f":"[1]!PowerMod($A95,S$2,$A$2)","v":0},{"$f":"[1]!PowerMod($A95,T$2,$A$2)","v":0},{"$f":"[1]!PowerMod($A95,U$2,$A$2)","v":0},{"$f":"[1]!PowerMod($A95,V$2,$A$2)","v":0},{"$f":"[1]!PowerMod($A95,W$2,$A$2)","v":0},{"$f":"[1]!PowerMod($A95,X$2,$A$2)","v":0},{"$f":"[1]!PowerMod($A95,Y$2,$A$2)","v":0},{"$f":"[1]!PowerMod($A95,Z$2,$A$2)","v":0},{"$f":"[1]!PowerMod($A95,AA$2,$A$2)","v":0},{"$f":"[1]!PowerMod($A95,AB$2,$A$2)","v":0},{"$f":"[1]!PowerMod($A95,AC$2,$A$2)","v":0},{"$f":"[1]!PowerMod($A95,AD$2,$A$2)","v":0},{"$f":"[1]!PowerMod($A95,AE$2,$A$2)","v":0},{"$f":"[1]!PowerMod($A95,AF$2,$A$2)","v":0},{"$f":"[1]!PowerMod($A95,AG$2,$A$2)","v":0},{"$f":"[1]!PowerMod($A95,AH$2,$A$2)","v":0},{"$f":"[1]!PowerMod($A95,AI$2,$A$2)","v":0},{"$f":"[1]!PowerMod($A95,AJ$2,$A$2)","v":0},{"$f":"[1]!PowerMod($A95,AK$2,$A$2)","v":0},{"$f":"[1]!PowerMod($A95,AL$2,$A$2)","v":0},{"$f":"[1]!PowerMod($A95,AM$2,$A$2)","v":0},{"$f":"[1]!PowerMod($A95,AN$2,$A$2)","v":0},{"$f":"[1]!PowerMod($A95,AO$2,$A$2)","v":0},{"$f":"[1]!PowerMod($A95,AP$2,$A$2)","v":0},{"$f":"[1]!PowerMod($A95,AQ$2,$A$2)","v":0},{"$f":"[1]!PowerMod($A95,AR$2,$A$2)","v":0},{"$f":"[1]!PowerMod($A95,AS$2,$A$2)","v":0},{"$f":"[1]!PowerMod($A95,AT$2,$A$2)","v":0},{"$f":"[1]!PowerMod($A95,AU$2,$A$2)","v":0},{"$f":"[1]!PowerMod($A95,AV$2,$A$2)","v":0},{"$f":"[1]!PowerMod($A95,AW$2,$A$2)","v":0},{"$f":"[1]!PowerMod($A95,AX$2,$A$2)","v":0},{"$f":"[1]!PowerMod($A95,AY$2,$A$2)","v":0},{"$f":"[1]!PowerMod($A95,AZ$2,$A$2)","v":0},{"$f":"[1]!PowerMod($A95,BA$2,$A$2)","v":0},{"$f":"[1]!PowerMod($A95,BB$2,$A$2)","v":0},{"$f":"[1]!PowerMod($A95,BC$2,$A$2)","v":0},{"$f":"[1]!PowerMod($A95,BD$2,$A$2)","v":0},{"$f":"[1]!PowerMod($A95,BE$2,$A$2)","v":0},{"$f":"[1]!PowerMod($A95,BF$2,$A$2)","v":0},{"$f":"[1]!PowerMod($A95,BG$2,$A$2)","v":0},{"$f":"[1]!PowerMod($A95,BH$2,$A$2)","v":0},{"$f":"[1]!PowerMod($A95,BI$2,$A$2)","v":0},{"$f":"[1]!PowerMod($A95,BJ$2,$A$2)","v":0},{"$f":"[1]!PowerMod($A95,BK$2,$A$2)","v":0},{"$f":"[1]!PowerMod($A95,BL$2,$A$2)","v":0},{"$f":"[1]!PowerMod($A95,BM$2,$A$2)","v":0},{"$f":"[1]!PowerMod($A95,BN$2,$A$2)","v":0},{"$f":"[1]!PowerMod($A95,BO$2,$A$2)","v":0},{"$f":"[1]!PowerMod($A95,BP$2,$A$2)","v":0},{"$f":"[1]!PowerMod($A95,BQ$2,$A$2)","v":0},{"$f":"[1]!PowerMod($A95,BR$2,$A$2)","v":0},{"$f":"[1]!PowerMod($A95,BS$2,$A$2)","v":0},{"$f":"[1]!PowerMod($A95,BT$2,$A$2)","v":0}]
[94,{"$f":"[1]!PowerMod($A96,B$2,$A$2)","v":13},{"$f":"[1]!PowerMod($A96,C$2,$A$2)","v":7},{"$f":"[1]!PowerMod($A96,D$2,$A$2)","v":10},{"$f":"[1]!PowerMod($A96,E$2,$A$2)","v":22},{"$f":"[1]!PowerMod($A96,F$2,$A$2)","v":16},{"$f":"[1]!PowerMod($A96,G$2,$A$2)","v":19},{"$f":"[1]!PowerMod($A96,H$2,$A$2)","v":4},{"$f":"[1]!PowerMod($A96,I$2,$A$2)","v":25},{"$f":"[1]!PowerMod($A96,J$2,$A$2)","v":1},{"$f":"[1]!PowerMod($A96,K$2,$A$2)","v":13},{"$f":"[1]!PowerMod($A96,L$2,$A$2)","v":7},{"$f":"[1]!PowerMod($A96,M$2,$A$2)","v":10},{"$f":"[1]!PowerMod($A96,N$2,$A$2)","v":22},{"$f":"[1]!PowerMod($A96,O$2,$A$2)","v":16},{"$f":"[1]!PowerMod($A96,P$2,$A$2)","v":19},{"$f":"[1]!PowerMod($A96,Q$2,$A$2)","v":4},{"$f":"[1]!PowerMod($A96,R$2,$A$2)","v":25},{"$f":"[1]!PowerMod($A96,S$2,$A$2)","v":1},{"$f":"[1]!PowerMod($A96,T$2,$A$2)","v":13},{"$f":"[1]!PowerMod($A96,U$2,$A$2)","v":7},{"$f":"[1]!PowerMod($A96,V$2,$A$2)","v":10},{"$f":"[1]!PowerMod($A96,W$2,$A$2)","v":22},{"$f":"[1]!PowerMod($A96,X$2,$A$2)","v":16},{"$f":"[1]!PowerMod($A96,Y$2,$A$2)","v":19},{"$f":"[1]!PowerMod($A96,Z$2,$A$2)","v":4},{"$f":"[1]!PowerMod($A96,AA$2,$A$2)","v":25},{"$f":"[1]!PowerMod($A96,AB$2,$A$2)","v":1},{"$f":"[1]!PowerMod($A96,AC$2,$A$2)","v":13},{"$f":"[1]!PowerMod($A96,AD$2,$A$2)","v":7},{"$f":"[1]!PowerMod($A96,AE$2,$A$2)","v":10},{"$f":"[1]!PowerMod($A96,AF$2,$A$2)","v":22},{"$f":"[1]!PowerMod($A96,AG$2,$A$2)","v":16},{"$f":"[1]!PowerMod($A96,AH$2,$A$2)","v":19},{"$f":"[1]!PowerMod($A96,AI$2,$A$2)","v":4},{"$f":"[1]!PowerMod($A96,AJ$2,$A$2)","v":25},{"$f":"[1]!PowerMod($A96,AK$2,$A$2)","v":1},{"$f":"[1]!PowerMod($A96,AL$2,$A$2)","v":13},{"$f":"[1]!PowerMod($A96,AM$2,$A$2)","v":7},{"$f":"[1]!PowerMod($A96,AN$2,$A$2)","v":10},{"$f":"[1]!PowerMod($A96,AO$2,$A$2)","v":22},{"$f":"[1]!PowerMod($A96,AP$2,$A$2)","v":16},{"$f":"[1]!PowerMod($A96,AQ$2,$A$2)","v":19},{"$f":"[1]!PowerMod($A96,AR$2,$A$2)","v":4},{"$f":"[1]!PowerMod($A96,AS$2,$A$2)","v":25},{"$f":"[1]!PowerMod($A96,AT$2,$A$2)","v":1},{"$f":"[1]!PowerMod($A96,AU$2,$A$2)","v":13},{"$f":"[1]!PowerMod($A96,AV$2,$A$2)","v":7},{"$f":"[1]!PowerMod($A96,AW$2,$A$2)","v":10},{"$f":"[1]!PowerMod($A96,AX$2,$A$2)","v":22},{"$f":"[1]!PowerMod($A96,AY$2,$A$2)","v":16},{"$f":"[1]!PowerMod($A96,AZ$2,$A$2)","v":19},{"$f":"[1]!PowerMod($A96,BA$2,$A$2)","v":4},{"$f":"[1]!PowerMod($A96,BB$2,$A$2)","v":25},{"$f":"[1]!PowerMod($A96,BC$2,$A$2)","v":1},{"$f":"[1]!PowerMod($A96,BD$2,$A$2)","v":13},{"$f":"[1]!PowerMod($A96,BE$2,$A$2)","v":7},{"$f":"[1]!PowerMod($A96,BF$2,$A$2)","v":10},{"$f":"[1]!PowerMod($A96,BG$2,$A$2)","v":22},{"$f":"[1]!PowerMod($A96,BH$2,$A$2)","v":16},{"$f":"[1]!PowerMod($A96,BI$2,$A$2)","v":19},{"$f":"[1]!PowerMod($A96,BJ$2,$A$2)","v":4},{"$f":"[1]!PowerMod($A96,BK$2,$A$2)","v":25},{"$f":"[1]!PowerMod($A96,BL$2,$A$2)","v":1},{"$f":"[1]!PowerMod($A96,BM$2,$A$2)","v":13},{"$f":"[1]!PowerMod($A96,BN$2,$A$2)","v":7},{"$f":"[1]!PowerMod($A96,BO$2,$A$2)","v":10},{"$f":"[1]!PowerMod($A96,BP$2,$A$2)","v":22},{"$f":"[1]!PowerMod($A96,BQ$2,$A$2)","v":16},{"$f":"[1]!PowerMod($A96,BR$2,$A$2)","v":19},{"$f":"[1]!PowerMod($A96,BS$2,$A$2)","v":4},{"$f":"[1]!PowerMod($A96,BT$2,$A$2)","v":25}]
[95,{"$f":"[1]!PowerMod($A97,B$2,$A$2)","v":14},{"$f":"[1]!PowerMod($A97,C$2,$A$2)","v":7},{"$f":"[1]!PowerMod($A97,D$2,$A$2)","v":17},{"$f":"[1]!PowerMod($A97,E$2,$A$2)","v":22},{"$f":"[1]!PowerMod($A97,F$2,$A$2)","v":11},{"$f":"[1]!PowerMod($A97,G$2,$A$2)","v":19},{"$f":"[1]!PowerMod($A97,H$2,$A$2)","v":23},{"$f":"[1]!PowerMod($A97,I$2,$A$2)","v":25},{"$f":"[1]!PowerMod($A97,J$2,$A$2)","v":26},{"$f":"[1]!PowerMod($A97,K$2,$A$2)","v":13},{"$f":"[1]!PowerMod($A97,L$2,$A$2)","v":20},{"$f":"[1]!PowerMod($A97,M$2,$A$2)","v":10},{"$f":"[1]!PowerMod($A97,N$2,$A$2)","v":5},{"$f":"[1]!PowerMod($A97,O$2,$A$2)","v":16},{"$f":"[1]!PowerMod($A97,P$2,$A$2)","v":8},{"$f":"[1]!PowerMod($A97,Q$2,$A$2)","v":4},{"$f":"[1]!PowerMod($A97,R$2,$A$2)","v":2},{"$f":"[1]!PowerMod($A97,S$2,$A$2)","v":1},{"$f":"[1]!PowerMod($A97,T$2,$A$2)","v":14},{"$f":"[1]!PowerMod($A97,U$2,$A$2)","v":7},{"$f":"[1]!PowerMod($A97,V$2,$A$2)","v":17},{"$f":"[1]!PowerMod($A97,W$2,$A$2)","v":22},{"$f":"[1]!PowerMod($A97,X$2,$A$2)","v":11},{"$f":"[1]!PowerMod($A97,Y$2,$A$2)","v":19},{"$f":"[1]!PowerMod($A97,Z$2,$A$2)","v":23},{"$f":"[1]!PowerMod($A97,AA$2,$A$2)","v":25},{"$f":"[1]!PowerMod($A97,AB$2,$A$2)","v":26},{"$f":"[1]!PowerMod($A97,AC$2,$A$2)","v":13},{"$f":"[1]!PowerMod($A97,AD$2,$A$2)","v":20},{"$f":"[1]!PowerMod($A97,AE$2,$A$2)","v":10},{"$f":"[1]!PowerMod($A97,AF$2,$A$2)","v":5},{"$f":"[1]!PowerMod($A97,AG$2,$A$2)","v":16},{"$f":"[1]!PowerMod($A97,AH$2,$A$2)","v":8},{"$f":"[1]!PowerMod($A97,AI$2,$A$2)","v":4},{"$f":"[1]!PowerMod($A97,AJ$2,$A$2)","v":2},{"$f":"[1]!PowerMod($A97,AK$2,$A$2)","v":1},{"$f":"[1]!PowerMod($A97,AL$2,$A$2)","v":14},{"$f":"[1]!PowerMod($A97,AM$2,$A$2)","v":7},{"$f":"[1]!PowerMod($A97,AN$2,$A$2)","v":17},{"$f":"[1]!PowerMod($A97,AO$2,$A$2)","v":22},{"$f":"[1]!PowerMod($A97,AP$2,$A$2)","v":11},{"$f":"[1]!PowerMod($A97,AQ$2,$A$2)","v":19},{"$f":"[1]!PowerMod($A97,AR$2,$A$2)","v":23},{"$f":"[1]!PowerMod($A97,AS$2,$A$2)","v":25},{"$f":"[1]!PowerMod($A97,AT$2,$A$2)","v":26},{"$f":"[1]!PowerMod($A97,AU$2,$A$2)","v":13},{"$f":"[1]!PowerMod($A97,AV$2,$A$2)","v":20},{"$f":"[1]!PowerMod($A97,AW$2,$A$2)","v":10},{"$f":"[1]!PowerMod($A97,AX$2,$A$2)","v":5},{"$f":"[1]!PowerMod($A97,AY$2,$A$2)","v":16},{"$f":"[1]!PowerMod($A97,AZ$2,$A$2)","v":8},{"$f":"[1]!PowerMod($A97,BA$2,$A$2)","v":4},{"$f":"[1]!PowerMod($A97,BB$2,$A$2)","v":2},{"$f":"[1]!PowerMod($A97,BC$2,$A$2)","v":1},{"$f":"[1]!PowerMod($A97,BD$2,$A$2)","v":14},{"$f":"[1]!PowerMod($A97,BE$2,$A$2)","v":7},{"$f":"[1]!PowerMod($A97,BF$2,$A$2)","v":17},{"$f":"[1]!PowerMod($A97,BG$2,$A$2)","v":22},{"$f":"[1]!PowerMod($A97,BH$2,$A$2)","v":11},{"$f":"[1]!PowerMod($A97,BI$2,$A$2)","v":19},{"$f":"[1]!PowerMod($A97,BJ$2,$A$2)","v":23},{"$f":"[1]!PowerMod($A97,BK$2,$A$2)","v":25},{"$f":"[1]!PowerMod($A97,BL$2,$A$2)","v":26},{"$f":"[1]!PowerMod($A97,BM$2,$A$2)","v":13},{"$f":"[1]!PowerMod($A97,BN$2,$A$2)","v":20},{"$f":"[1]!PowerMod($A97,BO$2,$A$2)","v":10},{"$f":"[1]!PowerMod($A97,BP$2,$A$2)","v":5},{"$f":"[1]!PowerMod($A97,BQ$2,$A$2)","v":16},{"$f":"[1]!PowerMod($A97,BR$2,$A$2)","v":8},{"$f":"[1]!PowerMod($A97,BS$2,$A$2)","v":4},{"$f":"[1]!PowerMod($A97,BT$2,$A$2)","v":2}]
[96,{"$f":"[1]!PowerMod($A98,B$2,$A$2)","v":15},{"$f":"[1]!PowerMod($A98,C$2,$A$2)","v":9},{"$f":"[1]!PowerMod($A98,D$2,$A$2)","v":0},{"$f":"[1]!PowerMod($A98,E$2,$A$2)","v":0},{"$f":"[1]!PowerMod($A98,F$2,$A$2)","v":0},{"$f":"[1]!PowerMod($A98,G$2,$A$2)","v":0},{"$f":"[1]!PowerMod($A98,H$2,$A$2)","v":0},{"$f":"[1]!PowerMod($A98,I$2,$A$2)","v":0},{"$f":"[1]!PowerMod($A98,J$2,$A$2)","v":0},{"$f":"[1]!PowerMod($A98,K$2,$A$2)","v":0},{"$f":"[1]!PowerMod($A98,L$2,$A$2)","v":0},{"$f":"[1]!PowerMod($A98,M$2,$A$2)","v":0},{"$f":"[1]!PowerMod($A98,N$2,$A$2)","v":0},{"$f":"[1]!PowerMod($A98,O$2,$A$2)","v":0},{"$f":"[1]!PowerMod($A98,P$2,$A$2)","v":0},{"$f":"[1]!PowerMod($A98,Q$2,$A$2)","v":0},{"$f":"[1]!PowerMod($A98,R$2,$A$2)","v":0},{"$f":"[1]!PowerMod($A98,S$2,$A$2)","v":0},{"$f":"[1]!PowerMod($A98,T$2,$A$2)","v":0},{"$f":"[1]!PowerMod($A98,U$2,$A$2)","v":0},{"$f":"[1]!PowerMod($A98,V$2,$A$2)","v":0},{"$f":"[1]!PowerMod($A98,W$2,$A$2)","v":0},{"$f":"[1]!PowerMod($A98,X$2,$A$2)","v":0},{"$f":"[1]!PowerMod($A98,Y$2,$A$2)","v":0},{"$f":"[1]!PowerMod($A98,Z$2,$A$2)","v":0},{"$f":"[1]!PowerMod($A98,AA$2,$A$2)","v":0},{"$f":"[1]!PowerMod($A98,AB$2,$A$2)","v":0},{"$f":"[1]!PowerMod($A98,AC$2,$A$2)","v":0},{"$f":"[1]!PowerMod($A98,AD$2,$A$2)","v":0},{"$f":"[1]!PowerMod($A98,AE$2,$A$2)","v":0},{"$f":"[1]!PowerMod($A98,AF$2,$A$2)","v":0},{"$f":"[1]!PowerMod($A98,AG$2,$A$2)","v":0},{"$f":"[1]!PowerMod($A98,AH$2,$A$2)","v":0},{"$f":"[1]!PowerMod($A98,AI$2,$A$2)","v":0},{"$f":"[1]!PowerMod($A98,AJ$2,$A$2)","v":0},{"$f":"[1]!PowerMod($A98,AK$2,$A$2)","v":0},{"$f":"[1]!PowerMod($A98,AL$2,$A$2)","v":0},{"$f":"[1]!PowerMod($A98,AM$2,$A$2)","v":0},{"$f":"[1]!PowerMod($A98,AN$2,$A$2)","v":0},{"$f":"[1]!PowerMod($A98,AO$2,$A$2)","v":0},{"$f":"[1]!PowerMod($A98,AP$2,$A$2)","v":0},{"$f":"[1]!PowerMod($A98,AQ$2,$A$2)","v":0},{"$f":"[1]!PowerMod($A98,AR$2,$A$2)","v":0},{"$f":"[1]!PowerMod($A98,AS$2,$A$2)","v":0},{"$f":"[1]!PowerMod($A98,AT$2,$A$2)","v":0},{"$f":"[1]!PowerMod($A98,AU$2,$A$2)","v":0},{"$f":"[1]!PowerMod($A98,AV$2,$A$2)","v":0},{"$f":"[1]!PowerMod($A98,AW$2,$A$2)","v":0},{"$f":"[1]!PowerMod($A98,AX$2,$A$2)","v":0},{"$f":"[1]!PowerMod($A98,AY$2,$A$2)","v":0},{"$f":"[1]!PowerMod($A98,AZ$2,$A$2)","v":0},{"$f":"[1]!PowerMod($A98,BA$2,$A$2)","v":0},{"$f":"[1]!PowerMod($A98,BB$2,$A$2)","v":0},{"$f":"[1]!PowerMod($A98,BC$2,$A$2)","v":0},{"$f":"[1]!PowerMod($A98,BD$2,$A$2)","v":0},{"$f":"[1]!PowerMod($A98,BE$2,$A$2)","v":0},{"$f":"[1]!PowerMod($A98,BF$2,$A$2)","v":0},{"$f":"[1]!PowerMod($A98,BG$2,$A$2)","v":0},{"$f":"[1]!PowerMod($A98,BH$2,$A$2)","v":0},{"$f":"[1]!PowerMod($A98,BI$2,$A$2)","v":0},{"$f":"[1]!PowerMod($A98,BJ$2,$A$2)","v":0},{"$f":"[1]!PowerMod($A98,BK$2,$A$2)","v":0},{"$f":"[1]!PowerMod($A98,BL$2,$A$2)","v":0},{"$f":"[1]!PowerMod($A98,BM$2,$A$2)","v":0},{"$f":"[1]!PowerMod($A98,BN$2,$A$2)","v":0},{"$f":"[1]!PowerMod($A98,BO$2,$A$2)","v":0},{"$f":"[1]!PowerMod($A98,BP$2,$A$2)","v":0},{"$f":"[1]!PowerMod($A98,BQ$2,$A$2)","v":0},{"$f":"[1]!PowerMod($A98,BR$2,$A$2)","v":0},{"$f":"[1]!PowerMod($A98,BS$2,$A$2)","v":0},{"$f":"[1]!PowerMod($A98,BT$2,$A$2)","v":0}]
[97,{"$f":"[1]!PowerMod($A99,B$2,$A$2)","v":16},{"$f":"[1]!PowerMod($A99,C$2,$A$2)","v":13},{"$f":"[1]!PowerMod($A99,D$2,$A$2)","v":19},{"$f":"[1]!PowerMod($A99,E$2,$A$2)","v":7},{"$f":"[1]!PowerMod($A99,F$2,$A$2)","v":4},{"$f":"[1]!PowerMod($A99,G$2,$A$2)","v":10},{"$f":"[1]!PowerMod($A99,H$2,$A$2)","v":25},{"$f":"[1]!PowerMod($A99,I$2,$A$2)","v":22},{"$f":"[1]!PowerMod($A99,J$2,$A$2)","v":1},{"$f":"[1]!PowerMod($A99,K$2,$A$2)","v":16},{"$f":"[1]!PowerMod($A99,L$2,$A$2)","v":13},{"$f":"[1]!PowerMod($A99,M$2,$A$2)","v":19},{"$f":"[1]!PowerMod($A99,N$2,$A$2)","v":7},{"$f":"[1]!PowerMod($A99,O$2,$A$2)","v":4},{"$f":"[1]!PowerMod($A99,P$2,$A$2)","v":10},{"$f":"[1]!PowerMod($A99,Q$2,$A$2)","v":25},{"$f":"[1]!PowerMod($A99,R$2,$A$2)","v":22},{"$f":"[1]!PowerMod($A99,S$2,$A$2)","v":1},{"$f":"[1]!PowerMod($A99,T$2,$A$2)","v":16},{"$f":"[1]!PowerMod($A99,U$2,$A$2)","v":13},{"$f":"[1]!PowerMod($A99,V$2,$A$2)","v":19},{"$f":"[1]!PowerMod($A99,W$2,$A$2)","v":7},{"$f":"[1]!PowerMod($A99,X$2,$A$2)","v":4},{"$f":"[1]!PowerMod($A99,Y$2,$A$2)","v":10},{"$f":"[1]!PowerMod($A99,Z$2,$A$2)","v":25},{"$f":"[1]!PowerMod($A99,AA$2,$A$2)","v":22},{"$f":"[1]!PowerMod($A99,AB$2,$A$2)","v":1},{"$f":"[1]!PowerMod($A99,AC$2,$A$2)","v":16},{"$f":"[1]!PowerMod($A99,AD$2,$A$2)","v":13},{"$f":"[1]!PowerMod($A99,AE$2,$A$2)","v":19},{"$f":"[1]!PowerMod($A99,AF$2,$A$2)","v":7},{"$f":"[1]!PowerMod($A99,AG$2,$A$2)","v":4},{"$f":"[1]!PowerMod($A99,AH$2,$A$2)","v":10},{"$f":"[1]!PowerMod($A99,AI$2,$A$2)","v":25},{"$f":"[1]!PowerMod($A99,AJ$2,$A$2)","v":22},{"$f":"[1]!PowerMod($A99,AK$2,$A$2)","v":1},{"$f":"[1]!PowerMod($A99,AL$2,$A$2)","v":16},{"$f":"[1]!PowerMod($A99,AM$2,$A$2)","v":13},{"$f":"[1]!PowerMod($A99,AN$2,$A$2)","v":19},{"$f":"[1]!PowerMod($A99,AO$2,$A$2)","v":7},{"$f":"[1]!PowerMod($A99,AP$2,$A$2)","v":4},{"$f":"[1]!PowerMod($A99,AQ$2,$A$2)","v":10},{"$f":"[1]!PowerMod($A99,AR$2,$A$2)","v":25},{"$f":"[1]!PowerMod($A99,AS$2,$A$2)","v":22},{"$f":"[1]!PowerMod($A99,AT$2,$A$2)","v":1},{"$f":"[1]!PowerMod($A99,AU$2,$A$2)","v":16},{"$f":"[1]!PowerMod($A99,AV$2,$A$2)","v":13},{"$f":"[1]!PowerMod($A99,AW$2,$A$2)","v":19},{"$f":"[1]!PowerMod($A99,AX$2,$A$2)","v":7},{"$f":"[1]!PowerMod($A99,AY$2,$A$2)","v":4},{"$f":"[1]!PowerMod($A99,AZ$2,$A$2)","v":10},{"$f":"[1]!PowerMod($A99,BA$2,$A$2)","v":25},{"$f":"[1]!PowerMod($A99,BB$2,$A$2)","v":22},{"$f":"[1]!PowerMod($A99,BC$2,$A$2)","v":1},{"$f":"[1]!PowerMod($A99,BD$2,$A$2)","v":16},{"$f":"[1]!PowerMod($A99,BE$2,$A$2)","v":13},{"$f":"[1]!PowerMod($A99,BF$2,$A$2)","v":19},{"$f":"[1]!PowerMod($A99,BG$2,$A$2)","v":7},{"$f":"[1]!PowerMod($A99,BH$2,$A$2)","v":4},{"$f":"[1]!PowerMod($A99,BI$2,$A$2)","v":10},{"$f":"[1]!PowerMod($A99,BJ$2,$A$2)","v":25},{"$f":"[1]!PowerMod($A99,BK$2,$A$2)","v":22},{"$f":"[1]!PowerMod($A99,BL$2,$A$2)","v":1},{"$f":"[1]!PowerMod($A99,BM$2,$A$2)","v":16},{"$f":"[1]!PowerMod($A99,BN$2,$A$2)","v":13},{"$f":"[1]!PowerMod($A99,BO$2,$A$2)","v":19},{"$f":"[1]!PowerMod($A99,BP$2,$A$2)","v":7},{"$f":"[1]!PowerMod($A99,BQ$2,$A$2)","v":4},{"$f":"[1]!PowerMod($A99,BR$2,$A$2)","v":10},{"$f":"[1]!PowerMod($A99,BS$2,$A$2)","v":25},{"$f":"[1]!PowerMod($A99,BT$2,$A$2)","v":22}]
[98,{"$f":"[1]!PowerMod($A100,B$2,$A$2)","v":17},{"$f":"[1]!PowerMod($A100,C$2,$A$2)","v":19},{"$f":"[1]!PowerMod($A100,D$2,$A$2)","v":26},{"$f":"[1]!PowerMod($A100,E$2,$A$2)","v":10},{"$f":"[1]!PowerMod($A100,F$2,$A$2)","v":8},{"$f":"[1]!PowerMod($A100,G$2,$A$2)","v":1},{"$f":"[1]!PowerMod($A100,H$2,$A$2)","v":17},{"$f":"[1]!PowerMod($A100,I$2,$A$2)","v":19},{"$f":"[1]!PowerMod($A100,J$2,$A$2)","v":26},{"$f":"[1]!PowerMod($A100,K$2,$A$2)","v":10},{"$f":"[1]!PowerMod($A100,L$2,$A$2)","v":8},{"$f":"[1]!PowerMod($A100,M$2,$A$2)","v":1},{"$f":"[1]!PowerMod($A100,N$2,$A$2)","v":17},{"$f":"[1]!PowerMod($A100,O$2,$A$2)","v":19},{"$f":"[1]!PowerMod($A100,P$2,$A$2)","v":26},{"$f":"[1]!PowerMod($A100,Q$2,$A$2)","v":10},{"$f":"[1]!PowerMod($A100,R$2,$A$2)","v":8},{"$f":"[1]!PowerMod($A100,S$2,$A$2)","v":1},{"$f":"[1]!PowerMod($A100,T$2,$A$2)","v":17},{"$f":"[1]!PowerMod($A100,U$2,$A$2)","v":19},{"$f":"[1]!PowerMod($A100,V$2,$A$2)","v":26},{"$f":"[1]!PowerMod($A100,W$2,$A$2)","v":10},{"$f":"[1]!PowerMod($A100,X$2,$A$2)","v":8},{"$f":"[1]!PowerMod($A100,Y$2,$A$2)","v":1},{"$f":"[1]!PowerMod($A100,Z$2,$A$2)","v":17},{"$f":"[1]!PowerMod($A100,AA$2,$A$2)","v":19},{"$f":"[1]!PowerMod($A100,AB$2,$A$2)","v":26},{"$f":"[1]!PowerMod($A100,AC$2,$A$2)","v":10},{"$f":"[1]!PowerMod($A100,AD$2,$A$2)","v":8},{"$f":"[1]!PowerMod($A100,AE$2,$A$2)","v":1},{"$f":"[1]!PowerMod($A100,AF$2,$A$2)","v":17},{"$f":"[1]!PowerMod($A100,AG$2,$A$2)","v":19},{"$f":"[1]!PowerMod($A100,AH$2,$A$2)","v":26},{"$f":"[1]!PowerMod($A100,AI$2,$A$2)","v":10},{"$f":"[1]!PowerMod($A100,AJ$2,$A$2)","v":8},{"$f":"[1]!PowerMod($A100,AK$2,$A$2)","v":1},{"$f":"[1]!PowerMod($A100,AL$2,$A$2)","v":17},{"$f":"[1]!PowerMod($A100,AM$2,$A$2)","v":19},{"$f":"[1]!PowerMod($A100,AN$2,$A$2)","v":26},{"$f":"[1]!PowerMod($A100,AO$2,$A$2)","v":10},{"$f":"[1]!PowerMod($A100,AP$2,$A$2)","v":8},{"$f":"[1]!PowerMod($A100,AQ$2,$A$2)","v":1},{"$f":"[1]!PowerMod($A100,AR$2,$A$2)","v":17},{"$f":"[1]!PowerMod($A100,AS$2,$A$2)","v":19},{"$f":"[1]!PowerMod($A100,AT$2,$A$2)","v":26},{"$f":"[1]!PowerMod($A100,AU$2,$A$2)","v":10},{"$f":"[1]!PowerMod($A100,AV$2,$A$2)","v":8},{"$f":"[1]!PowerMod($A100,AW$2,$A$2)","v":1},{"$f":"[1]!PowerMod($A100,AX$2,$A$2)","v":17},{"$f":"[1]!PowerMod($A100,AY$2,$A$2)","v":19},{"$f":"[1]!PowerMod($A100,AZ$2,$A$2)","v":26},{"$f":"[1]!PowerMod($A100,BA$2,$A$2)","v":10},{"$f":"[1]!PowerMod($A100,BB$2,$A$2)","v":8},{"$f":"[1]!PowerMod($A100,BC$2,$A$2)","v":1},{"$f":"[1]!PowerMod($A100,BD$2,$A$2)","v":17},{"$f":"[1]!PowerMod($A100,BE$2,$A$2)","v":19},{"$f":"[1]!PowerMod($A100,BF$2,$A$2)","v":26},{"$f":"[1]!PowerMod($A100,BG$2,$A$2)","v":10},{"$f":"[1]!PowerMod($A100,BH$2,$A$2)","v":8},{"$f":"[1]!PowerMod($A100,BI$2,$A$2)","v":1},{"$f":"[1]!PowerMod($A100,BJ$2,$A$2)","v":17},{"$f":"[1]!PowerMod($A100,BK$2,$A$2)","v":19},{"$f":"[1]!PowerMod($A100,BL$2,$A$2)","v":26},{"$f":"[1]!PowerMod($A100,BM$2,$A$2)","v":10},{"$f":"[1]!PowerMod($A100,BN$2,$A$2)","v":8},{"$f":"[1]!PowerMod($A100,BO$2,$A$2)","v":1},{"$f":"[1]!PowerMod($A100,BP$2,$A$2)","v":17},{"$f":"[1]!PowerMod($A100,BQ$2,$A$2)","v":19},{"$f":"[1]!PowerMod($A100,BR$2,$A$2)","v":26},{"$f":"[1]!PowerMod($A100,BS$2,$A$2)","v":10},{"$f":"[1]!PowerMod($A100,BT$2,$A$2)","v":8}]
[99,{"$f":"[1]!PowerMod($A101,B$2,$A$2)","v":18},{"$f":"[1]!PowerMod($A101,C$2,$A$2)","v":0},{"$f":"[1]!PowerMod($A101,D$2,$A$2)","v":0},{"$f":"[1]!PowerMod($A101,E$2,$A$2)","v":0},{"$f":"[1]!PowerMod($A101,F$2,$A$2)","v":0},{"$f":"[1]!PowerMod($A101,G$2,$A$2)","v":0},{"$f":"[1]!PowerMod($A101,H$2,$A$2)","v":0},{"$f":"[1]!PowerMod($A101,I$2,$A$2)","v":0},{"$f":"[1]!PowerMod($A101,J$2,$A$2)","v":0},{"$f":"[1]!PowerMod($A101,K$2,$A$2)","v":0},{"$f":"[1]!PowerMod($A101,L$2,$A$2)","v":0},{"$f":"[1]!PowerMod($A101,M$2,$A$2)","v":0},{"$f":"[1]!PowerMod($A101,N$2,$A$2)","v":0},{"$f":"[1]!PowerMod($A101,O$2,$A$2)","v":0},{"$f":"[1]!PowerMod($A101,P$2,$A$2)","v":0},{"$f":"[1]!PowerMod($A101,Q$2,$A$2)","v":0},{"$f":"[1]!PowerMod($A101,R$2,$A$2)","v":0},{"$f":"[1]!PowerMod($A101,S$2,$A$2)","v":0},{"$f":"[1]!PowerMod($A101,T$2,$A$2)","v":0},{"$f":"[1]!PowerMod($A101,U$2,$A$2)","v":0},{"$f":"[1]!PowerMod($A101,V$2,$A$2)","v":0},{"$f":"[1]!PowerMod($A101,W$2,$A$2)","v":0},{"$f":"[1]!PowerMod($A101,X$2,$A$2)","v":0},{"$f":"[1]!PowerMod($A101,Y$2,$A$2)","v":0},{"$f":"[1]!PowerMod($A101,Z$2,$A$2)","v":0},{"$f":"[1]!PowerMod($A101,AA$2,$A$2)","v":0},{"$f":"[1]!PowerMod($A101,AB$2,$A$2)","v":0},{"$f":"[1]!PowerMod($A101,AC$2,$A$2)","v":0},{"$f":"[1]!PowerMod($A101,AD$2,$A$2)","v":0},{"$f":"[1]!PowerMod($A101,AE$2,$A$2)","v":0},{"$f":"[1]!PowerMod($A101,AF$2,$A$2)","v":0},{"$f":"[1]!PowerMod($A101,AG$2,$A$2)","v":0},{"$f":"[1]!PowerMod($A101,AH$2,$A$2)","v":0},{"$f":"[1]!PowerMod($A101,AI$2,$A$2)","v":0},{"$f":"[1]!PowerMod($A101,AJ$2,$A$2)","v":0},{"$f":"[1]!PowerMod($A101,AK$2,$A$2)","v":0},{"$f":"[1]!PowerMod($A101,AL$2,$A$2)","v":0},{"$f":"[1]!PowerMod($A101,AM$2,$A$2)","v":0},{"$f":"[1]!PowerMod($A101,AN$2,$A$2)","v":0},{"$f":"[1]!PowerMod($A101,AO$2,$A$2)","v":0},{"$f":"[1]!PowerMod($A101,AP$2,$A$2)","v":0},{"$f":"[1]!PowerMod($A101,AQ$2,$A$2)","v":0},{"$f":"[1]!PowerMod($A101,AR$2,$A$2)","v":0},{"$f":"[1]!PowerMod($A101,AS$2,$A$2)","v":0},{"$f":"[1]!PowerMod($A101,AT$2,$A$2)","v":0},{"$f":"[1]!PowerMod($A101,AU$2,$A$2)","v":0},{"$f":"[1]!PowerMod($A101,AV$2,$A$2)","v":0},{"$f":"[1]!PowerMod($A101,AW$2,$A$2)","v":0},{"$f":"[1]!PowerMod($A101,AX$2,$A$2)","v":0},{"$f":"[1]!PowerMod($A101,AY$2,$A$2)","v":0},{"$f":"[1]!PowerMod($A101,AZ$2,$A$2)","v":0},{"$f":"[1]!PowerMod($A101,BA$2,$A$2)","v":0},{"$f":"[1]!PowerMod($A101,BB$2,$A$2)","v":0},{"$f":"[1]!PowerMod($A101,BC$2,$A$2)","v":0},{"$f":"[1]!PowerMod($A101,BD$2,$A$2)","v":0},{"$f":"[1]!PowerMod($A101,BE$2,$A$2)","v":0},{"$f":"[1]!PowerMod($A101,BF$2,$A$2)","v":0},{"$f":"[1]!PowerMod($A101,BG$2,$A$2)","v":0},{"$f":"[1]!PowerMod($A101,BH$2,$A$2)","v":0},{"$f":"[1]!PowerMod($A101,BI$2,$A$2)","v":0},{"$f":"[1]!PowerMod($A101,BJ$2,$A$2)","v":0},{"$f":"[1]!PowerMod($A101,BK$2,$A$2)","v":0},{"$f":"[1]!PowerMod($A101,BL$2,$A$2)","v":0},{"$f":"[1]!PowerMod($A101,BM$2,$A$2)","v":0},{"$f":"[1]!PowerMod($A101,BN$2,$A$2)","v":0},{"$f":"[1]!PowerMod($A101,BO$2,$A$2)","v":0},{"$f":"[1]!PowerMod($A101,BP$2,$A$2)","v":0},{"$f":"[1]!PowerMod($A101,BQ$2,$A$2)","v":0},{"$f":"[1]!PowerMod($A101,BR$2,$A$2)","v":0},{"$f":"[1]!PowerMod($A101,BS$2,$A$2)","v":0},{"$f":"[1]!PowerMod($A101,BT$2,$A$2)","v":0}]
[100,{"$f":"[1]!PowerMod($A102,B$2,$A$2)","v":19},{"$f":"[1]!PowerMod($A102,C$2,$A$2)","v":10},{"$f":"[1]!PowerMod($A102,D$2,$A$2)","v":1},{"$f":"[1]!PowerMod($A102,E$2,$A$2)","v":19},{"$f":"[1]!PowerMod($A102,F$2,$A$2)","v":10},{"$f":"[1]!PowerMod($A102,G$2,$A$2)","v":1},{"$f":"[1]!PowerMod($A102,H$2,$A$2)","v":19},{"$f":"[1]!PowerMod($A102,I$2,$A$2)","v":10},{"$f":"[1]!PowerMod($A102,J$2,$A$2)","v":1},{"$f":"[1]!PowerMod($A102,K$2,$A$2)","v":19},{"$f":"[1]!PowerMod($A102,L$2,$A$2)","v":10},{"$f":"[1]!PowerMod($A102,M$2,$A$2)","v":1},{"$f":"[1]!PowerMod($A102,N$2,$A$2)","v":19},{"$f":"[1]!PowerMod($A102,O$2,$A$2)","v":10},{"$f":"[1]!PowerMod($A102,P$2,$A$2)","v":1},{"$f":"[1]!PowerMod($A102,Q$2,$A$2)","v":19},{"$f":"[1]!PowerMod($A102,R$2,$A$2)","v":10},{"$f":"[1]!PowerMod($A102,S$2,$A$2)","v":1},{"$f":"[1]!PowerMod($A102,T$2,$A$2)","v":19},{"$f":"[1]!PowerMod($A102,U$2,$A$2)","v":10},{"$f":"[1]!PowerMod($A102,V$2,$A$2)","v":1},{"$f":"[1]!PowerMod($A102,W$2,$A$2)","v":19},{"$f":"[1]!PowerMod($A102,X$2,$A$2)","v":10},{"$f":"[1]!PowerMod($A102,Y$2,$A$2)","v":1},{"$f":"[1]!PowerMod($A102,Z$2,$A$2)","v":19},{"$f":"[1]!PowerMod($A102,AA$2,$A$2)","v":10},{"$f":"[1]!PowerMod($A102,AB$2,$A$2)","v":1},{"$f":"[1]!PowerMod($A102,AC$2,$A$2)","v":19},{"$f":"[1]!PowerMod($A102,AD$2,$A$2)","v":10},{"$f":"[1]!PowerMod($A102,AE$2,$A$2)","v":1},{"$f":"[1]!PowerMod($A102,AF$2,$A$2)","v":19},{"$f":"[1]!PowerMod($A102,AG$2,$A$2)","v":10},{"$f":"[1]!PowerMod($A102,AH$2,$A$2)","v":1},{"$f":"[1]!PowerMod($A102,AI$2,$A$2)","v":19},{"$f":"[1]!PowerMod($A102,AJ$2,$A$2)","v":10},{"$f":"[1]!PowerMod($A102,AK$2,$A$2)","v":1},{"$f":"[1]!PowerMod($A102,AL$2,$A$2)","v":19},{"$f":"[1]!PowerMod($A102,AM$2,$A$2)","v":10},{"$f":"[1]!PowerMod($A102,AN$2,$A$2)","v":1},{"$f":"[1]!PowerMod($A102,AO$2,$A$2)","v":19},{"$f":"[1]!PowerMod($A102,AP$2,$A$2)","v":10},{"$f":"[1]!PowerMod($A102,AQ$2,$A$2)","v":1},{"$f":"[1]!PowerMod($A102,AR$2,$A$2)","v":19},{"$f":"[1]!PowerMod($A102,AS$2,$A$2)","v":10},{"$f":"[1]!PowerMod($A102,AT$2,$A$2)","v":1},{"$f":"[1]!PowerMod($A102,AU$2,$A$2)","v":19},{"$f":"[1]!PowerMod($A102,AV$2,$A$2)","v":10},{"$f":"[1]!PowerMod($A102,AW$2,$A$2)","v":1},{"$f":"[1]!PowerMod($A102,AX$2,$A$2)","v":19},{"$f":"[1]!PowerMod($A102,AY$2,$A$2)","v":10},{"$f":"[1]!PowerMod($A102,AZ$2,$A$2)","v":1},{"$f":"[1]!PowerMod($A102,BA$2,$A$2)","v":19},{"$f":"[1]!PowerMod($A102,BB$2,$A$2)","v":10},{"$f":"[1]!PowerMod($A102,BC$2,$A$2)","v":1},{"$f":"[1]!PowerMod($A102,BD$2,$A$2)","v":19},{"$f":"[1]!PowerMod($A102,BE$2,$A$2)","v":10},{"$f":"[1]!PowerMod($A102,BF$2,$A$2)","v":1},{"$f":"[1]!PowerMod($A102,BG$2,$A$2)","v":19},{"$f":"[1]!PowerMod($A102,BH$2,$A$2)","v":10},{"$f":"[1]!PowerMod($A102,BI$2,$A$2)","v":1},{"$f":"[1]!PowerMod($A102,BJ$2,$A$2)","v":19},{"$f":"[1]!PowerMod($A102,BK$2,$A$2)","v":10},{"$f":"[1]!PowerMod($A102,BL$2,$A$2)","v":1},{"$f":"[1]!PowerMod($A102,BM$2,$A$2)","v":19},{"$f":"[1]!PowerMod($A102,BN$2,$A$2)","v":10},{"$f":"[1]!PowerMod($A102,BO$2,$A$2)","v":1},{"$f":"[1]!PowerMod($A102,BP$2,$A$2)","v":19},{"$f":"[1]!PowerMod($A102,BQ$2,$A$2)","v":10},{"$f":"[1]!PowerMod($A102,BR$2,$A$2)","v":1},{"$f":"[1]!PowerMod($A102,BS$2,$A$2)","v":19},{"$f":"[1]!PowerMod($A102,BT$2,$A$2)","v":10}]
[101,{"$f":"[1]!PowerMod($A103,B$2,$A$2)","v":20},{"$f":"[1]!PowerMod($A103,C$2,$A$2)","v":22},{"$f":"[1]!PowerMod($A103,D$2,$A$2)","v":8},{"$f":"[1]!PowerMod($A103,E$2,$A$2)","v":25},{"$f":"[1]!PowerMod($A103,F$2,$A$2)","v":14},{"$f":"[1]!PowerMod($A103,G$2,$A$2)","v":10},{"$f":"[1]!PowerMod($A103,H$2,$A$2)","v":11},{"$f":"[1]!PowerMod($A103,I$2,$A$2)","v":4},{"$f":"[1]!PowerMod($A103,J$2,$A$2)","v":26},{"$f":"[1]!PowerMod($A103,K$2,$A$2)","v":7},{"$f":"[1]!PowerMod($A103,L$2,$A$2)","v":5},{"$f":"[1]!PowerMod($A103,M$2,$A$2)","v":19},{"$f":"[1]!PowerMod($A103,N$2,$A$2)","v":2},{"$f":"[1]!PowerMod($A103,O$2,$A$2)","v":13},{"$f":"[1]!PowerMod($A103,P$2,$A$2)","v":17},{"$f":"[1]!PowerMod($A103,Q$2,$A$2)","v":16},{"$f":"[1]!PowerMod($A103,R$2,$A$2)","v":23},{"$f":"[1]!PowerMod($A103,S$2,$A$2)","v":1},{"$f":"[1]!PowerMod($A103,T$2,$A$2)","v":20},{"$f":"[1]!PowerMod($A103,U$2,$A$2)","v":22},{"$f":"[1]!PowerMod($A103,V$2,$A$2)","v":8},{"$f":"[1]!PowerMod($A103,W$2,$A$2)","v":25},{"$f":"[1]!PowerMod($A103,X$2,$A$2)","v":14},{"$f":"[1]!PowerMod($A103,Y$2,$A$2)","v":10},{"$f":"[1]!PowerMod($A103,Z$2,$A$2)","v":11},{"$f":"[1]!PowerMod($A103,AA$2,$A$2)","v":4},{"$f":"[1]!PowerMod($A103,AB$2,$A$2)","v":26},{"$f":"[1]!PowerMod($A103,AC$2,$A$2)","v":7},{"$f":"[1]!PowerMod($A103,AD$2,$A$2)","v":5},{"$f":"[1]!PowerMod($A103,AE$2,$A$2)","v":19},{"$f":"[1]!PowerMod($A103,AF$2,$A$2)","v":2},{"$f":"[1]!PowerMod($A103,AG$2,$A$2)","v":13},{"$f":"[1]!PowerMod($A103,AH$2,$A$2)","v":17},{"$f":"[1]!PowerMod($A103,AI$2,$A$2)","v":16},{"$f":"[1]!PowerMod($A103,AJ$2,$A$2)","v":23},{"$f":"[1]!PowerMod($A103,AK$2,$A$2)","v":1},{"$f":"[1]!PowerMod($A103,AL$2,$A$2)","v":20},{"$f":"[1]!PowerMod($A103,AM$2,$A$2)","v":22},{"$f":"[1]!PowerMod($A103,AN$2,$A$2)","v":8},{"$f":"[1]!PowerMod($A103,AO$2,$A$2)","v":25},{"$f":"[1]!PowerMod($A103,AP$2,$A$2)","v":14},{"$f":"[1]!PowerMod($A103,AQ$2,$A$2)","v":10},{"$f":"[1]!PowerMod($A103,AR$2,$A$2)","v":11},{"$f":"[1]!PowerMod($A103,AS$2,$A$2)","v":4},{"$f":"[1]!PowerMod($A103,AT$2,$A$2)","v":26},{"$f":"[1]!PowerMod($A103,AU$2,$A$2)","v":7},{"$f":"[1]!PowerMod($A103,AV$2,$A$2)","v":5},{"$f":"[1]!PowerMod($A103,AW$2,$A$2)","v":19},{"$f":"[1]!PowerMod($A103,AX$2,$A$2)","v":2},{"$f":"[1]!PowerMod($A103,AY$2,$A$2)","v":13},{"$f":"[1]!PowerMod($A103,AZ$2,$A$2)","v":17},{"$f":"[1]!PowerMod($A103,BA$2,$A$2)","v":16},{"$f":"[1]!PowerMod($A103,BB$2,$A$2)","v":23},{"$f":"[1]!PowerMod($A103,BC$2,$A$2)","v":1},{"$f":"[1]!PowerMod($A103,BD$2,$A$2)","v":20},{"$f":"[1]!PowerMod($A103,BE$2,$A$2)","v":22},{"$f":"[1]!PowerMod($A103,BF$2,$A$2)","v":8},{"$f":"[1]!PowerMod($A103,BG$2,$A$2)","v":25},{"$f":"[1]!PowerMod($A103,BH$2,$A$2)","v":14},{"$f":"[1]!PowerMod($A103,BI$2,$A$2)","v":10},{"$f":"[1]!PowerMod($A103,BJ$2,$A$2)","v":11},{"$f":"[1]!PowerMod($A103,BK$2,$A$2)","v":4},{"$f":"[1]!PowerMod($A103,BL$2,$A$2)","v":26},{"$f":"[1]!PowerMod($A103,BM$2,$A$2)","v":7},{"$f":"[1]!PowerMod($A103,BN$2,$A$2)","v":5},{"$f":"[1]!PowerMod($A103,BO$2,$A$2)","v":19},{"$f":"[1]!PowerMod($A103,BP$2,$A$2)","v":2},{"$f":"[1]!PowerMod($A103,BQ$2,$A$2)","v":13},{"$f":"[1]!PowerMod($A103,BR$2,$A$2)","v":17},{"$f":"[1]!PowerMod($A103,BS$2,$A$2)","v":16},{"$f":"[1]!PowerMod($A103,BT$2,$A$2)","v":23}]
[102,{"$f":"[1]!PowerMod($A104,B$2,$A$2)","v":21},{"$f":"[1]!PowerMod($A104,C$2,$A$2)","v":9},{"$f":"[1]!PowerMod($A104,D$2,$A$2)","v":0},{"$f":"[1]!PowerMod($A104,E$2,$A$2)","v":0},{"$f":"[1]!PowerMod($A104,F$2,$A$2)","v":0},{"$f":"[1]!PowerMod($A104,G$2,$A$2)","v":0},{"$f":"[1]!PowerMod($A104,H$2,$A$2)","v":0},{"$f":"[1]!PowerMod($A104,I$2,$A$2)","v":0},{"$f":"[1]!PowerMod($A104,J$2,$A$2)","v":0},{"$f":"[1]!PowerMod($A104,K$2,$A$2)","v":0},{"$f":"[1]!PowerMod($A104,L$2,$A$2)","v":0},{"$f":"[1]!PowerMod($A104,M$2,$A$2)","v":0},{"$f":"[1]!PowerMod($A104,N$2,$A$2)","v":0},{"$f":"[1]!PowerMod($A104,O$2,$A$2)","v":0},{"$f":"[1]!PowerMod($A104,P$2,$A$2)","v":0},{"$f":"[1]!PowerMod($A104,Q$2,$A$2)","v":0},{"$f":"[1]!PowerMod($A104,R$2,$A$2)","v":0},{"$f":"[1]!PowerMod($A104,S$2,$A$2)","v":0},{"$f":"[1]!PowerMod($A104,T$2,$A$2)","v":0},{"$f":"[1]!PowerMod($A104,U$2,$A$2)","v":0},{"$f":"[1]!PowerMod($A104,V$2,$A$2)","v":0},{"$f":"[1]!PowerMod($A104,W$2,$A$2)","v":0},{"$f":"[1]!PowerMod($A104,X$2,$A$2)","v":0},{"$f":"[1]!PowerMod($A104,Y$2,$A$2)","v":0},{"$f":"[1]!PowerMod($A104,Z$2,$A$2)","v":0},{"$f":"[1]!PowerMod($A104,AA$2,$A$2)","v":0},{"$f":"[1]!PowerMod($A104,AB$2,$A$2)","v":0},{"$f":"[1]!PowerMod($A104,AC$2,$A$2)","v":0},{"$f":"[1]!PowerMod($A104,AD$2,$A$2)","v":0},{"$f":"[1]!PowerMod($A104,AE$2,$A$2)","v":0},{"$f":"[1]!PowerMod($A104,AF$2,$A$2)","v":0},{"$f":"[1]!PowerMod($A104,AG$2,$A$2)","v":0},{"$f":"[1]!PowerMod($A104,AH$2,$A$2)","v":0},{"$f":"[1]!PowerMod($A104,AI$2,$A$2)","v":0},{"$f":"[1]!PowerMod($A104,AJ$2,$A$2)","v":0},{"$f":"[1]!PowerMod($A104,AK$2,$A$2)","v":0},{"$f":"[1]!PowerMod($A104,AL$2,$A$2)","v":0},{"$f":"[1]!PowerMod($A104,AM$2,$A$2)","v":0},{"$f":"[1]!PowerMod($A104,AN$2,$A$2)","v":0},{"$f":"[1]!PowerMod($A104,AO$2,$A$2)","v":0},{"$f":"[1]!PowerMod($A104,AP$2,$A$2)","v":0},{"$f":"[1]!PowerMod($A104,AQ$2,$A$2)","v":0},{"$f":"[1]!PowerMod($A104,AR$2,$A$2)","v":0},{"$f":"[1]!PowerMod($A104,AS$2,$A$2)","v":0},{"$f":"[1]!PowerMod($A104,AT$2,$A$2)","v":0},{"$f":"[1]!PowerMod($A104,AU$2,$A$2)","v":0},{"$f":"[1]!PowerMod($A104,AV$2,$A$2)","v":0},{"$f":"[1]!PowerMod($A104,AW$2,$A$2)","v":0},{"$f":"[1]!PowerMod($A104,AX$2,$A$2)","v":0},{"$f":"[1]!PowerMod($A104,AY$2,$A$2)","v":0},{"$f":"[1]!PowerMod($A104,AZ$2,$A$2)","v":0},{"$f":"[1]!PowerMod($A104,BA$2,$A$2)","v":0},{"$f":"[1]!PowerMod($A104,BB$2,$A$2)","v":0},{"$f":"[1]!PowerMod($A104,BC$2,$A$2)","v":0},{"$f":"[1]!PowerMod($A104,BD$2,$A$2)","v":0},{"$f":"[1]!PowerMod($A104,BE$2,$A$2)","v":0},{"$f":"[1]!PowerMod($A104,BF$2,$A$2)","v":0},{"$f":"[1]!PowerMod($A104,BG$2,$A$2)","v":0},{"$f":"[1]!PowerMod($A104,BH$2,$A$2)","v":0},{"$f":"[1]!PowerMod($A104,BI$2,$A$2)","v":0},{"$f":"[1]!PowerMod($A104,BJ$2,$A$2)","v":0},{"$f":"[1]!PowerMod($A104,BK$2,$A$2)","v":0},{"$f":"[1]!PowerMod($A104,BL$2,$A$2)","v":0},{"$f":"[1]!PowerMod($A104,BM$2,$A$2)","v":0},{"$f":"[1]!PowerMod($A104,BN$2,$A$2)","v":0},{"$f":"[1]!PowerMod($A104,BO$2,$A$2)","v":0},{"$f":"[1]!PowerMod($A104,BP$2,$A$2)","v":0},{"$f":"[1]!PowerMod($A104,BQ$2,$A$2)","v":0},{"$f":"[1]!PowerMod($A104,BR$2,$A$2)","v":0},{"$f":"[1]!PowerMod($A104,BS$2,$A$2)","v":0},{"$f":"[1]!PowerMod($A104,BT$2,$A$2)","v":0}]
[103,{"$f":"[1]!PowerMod($A105,B$2,$A$2)","v":22},{"$f":"[1]!PowerMod($A105,C$2,$A$2)","v":25},{"$f":"[1]!PowerMod($A105,D$2,$A$2)","v":10},{"$f":"[1]!PowerMod($A105,E$2,$A$2)","v":4},{"$f":"[1]!PowerMod($A105,F$2,$A$2)","v":7},{"$f":"[1]!PowerMod($A105,G$2,$A$2)","v":19},{"$f":"[1]!PowerMod($A105,H$2,$A$2)","v":13},{"$f":"[1]!PowerMod($A105,I$2,$A$2)","v":16},{"$f":"[1]!PowerMod($A105,J$2,$A$2)","v":1},{"$f":"[1]!PowerMod($A105,K$2,$A$2)","v":22},{"$f":"[1]!PowerMod($A105,L$2,$A$2)","v":25},{"$f":"[1]!PowerMod($A105,M$2,$A$2)","v":10},{"$f":"[1]!PowerMod($A105,N$2,$A$2)","v":4},{"$f":"[1]!PowerMod($A105,O$2,$A$2)","v":7},{"$f":"[1]!PowerMod($A105,P$2,$A$2)","v":19},{"$f":"[1]!PowerMod($A105,Q$2,$A$2)","v":13},{"$f":"[1]!PowerMod($A105,R$2,$A$2)","v":16},{"$f":"[1]!PowerMod($A105,S$2,$A$2)","v":1},{"$f":"[1]!PowerMod($A105,T$2,$A$2)","v":22},{"$f":"[1]!PowerMod($A105,U$2,$A$2)","v":25},{"$f":"[1]!PowerMod($A105,V$2,$A$2)","v":10},{"$f":"[1]!PowerMod($A105,W$2,$A$2)","v":4},{"$f":"[1]!PowerMod($A105,X$2,$A$2)","v":7},{"$f":"[1]!PowerMod($A105,Y$2,$A$2)","v":19},{"$f":"[1]!PowerMod($A105,Z$2,$A$2)","v":13},{"$f":"[1]!PowerMod($A105,AA$2,$A$2)","v":16},{"$f":"[1]!PowerMod($A105,AB$2,$A$2)","v":1},{"$f":"[1]!PowerMod($A105,AC$2,$A$2)","v":22},{"$f":"[1]!PowerMod($A105,AD$2,$A$2)","v":25},{"$f":"[1]!PowerMod($A105,AE$2,$A$2)","v":10},{"$f":"[1]!PowerMod($A105,AF$2,$A$2)","v":4},{"$f":"[1]!PowerMod($A105,AG$2,$A$2)","v":7},{"$f":"[1]!PowerMod($A105,AH$2,$A$2)","v":19},{"$f":"[1]!PowerMod($A105,AI$2,$A$2)","v":13},{"$f":"[1]!PowerMod($A105,AJ$2,$A$2)","v":16},{"$f":"[1]!PowerMod($A105,AK$2,$A$2)","v":1},{"$f":"[1]!PowerMod($A105,AL$2,$A$2)","v":22},{"$f":"[1]!PowerMod($A105,AM$2,$A$2)","v":25},{"$f":"[1]!PowerMod($A105,AN$2,$A$2)","v":10},{"$f":"[1]!PowerMod($A105,AO$2,$A$2)","v":4},{"$f":"[1]!PowerMod($A105,AP$2,$A$2)","v":7},{"$f":"[1]!PowerMod($A105,AQ$2,$A$2)","v":19},{"$f":"[1]!PowerMod($A105,AR$2,$A$2)","v":13},{"$f":"[1]!PowerMod($A105,AS$2,$A$2)","v":16},{"$f":"[1]!PowerMod($A105,AT$2,$A$2)","v":1},{"$f":"[1]!PowerMod($A105,AU$2,$A$2)","v":22},{"$f":"[1]!PowerMod($A105,AV$2,$A$2)","v":25},{"$f":"[1]!PowerMod($A105,AW$2,$A$2)","v":10},{"$f":"[1]!PowerMod($A105,AX$2,$A$2)","v":4},{"$f":"[1]!PowerMod($A105,AY$2,$A$2)","v":7},{"$f":"[1]!PowerMod($A105,AZ$2,$A$2)","v":19},{"$f":"[1]!PowerMod($A105,BA$2,$A$2)","v":13},{"$f":"[1]!PowerMod($A105,BB$2,$A$2)","v":16},{"$f":"[1]!PowerMod($A105,BC$2,$A$2)","v":1},{"$f":"[1]!PowerMod($A105,BD$2,$A$2)","v":22},{"$f":"[1]!PowerMod($A105,BE$2,$A$2)","v":25},{"$f":"[1]!PowerMod($A105,BF$2,$A$2)","v":10},{"$f":"[1]!PowerMod($A105,BG$2,$A$2)","v":4},{"$f":"[1]!PowerMod($A105,BH$2,$A$2)","v":7},{"$f":"[1]!PowerMod($A105,BI$2,$A$2)","v":19},{"$f":"[1]!PowerMod($A105,BJ$2,$A$2)","v":13},{"$f":"[1]!PowerMod($A105,BK$2,$A$2)","v":16},{"$f":"[1]!PowerMod($A105,BL$2,$A$2)","v":1},{"$f":"[1]!PowerMod($A105,BM$2,$A$2)","v":22},{"$f":"[1]!PowerMod($A105,BN$2,$A$2)","v":25},{"$f":"[1]!PowerMod($A105,BO$2,$A$2)","v":10},{"$f":"[1]!PowerMod($A105,BP$2,$A$2)","v":4},{"$f":"[1]!PowerMod($A105,BQ$2,$A$2)","v":7},{"$f":"[1]!PowerMod($A105,BR$2,$A$2)","v":19},{"$f":"[1]!PowerMod($A105,BS$2,$A$2)","v":13},{"$f":"[1]!PowerMod($A105,BT$2,$A$2)","v":16}]
[104,{"$f":"[1]!PowerMod($A106,B$2,$A$2)","v":23},{"$f":"[1]!PowerMod($A106,C$2,$A$2)","v":16},{"$f":"[1]!PowerMod($A106,D$2,$A$2)","v":17},{"$f":"[1]!PowerMod($A106,E$2,$A$2)","v":13},{"$f":"[1]!PowerMod($A106,F$2,$A$2)","v":2},{"$f":"[1]!PowerMod($A106,G$2,$A$2)","v":19},{"$f":"[1]!PowerMod($A106,H$2,$A$2)","v":5},{"$f":"[1]!PowerMod($A106,I$2,$A$2)","v":7},{"$f":"[1]!PowerMod($A106,J$2,$A$2)","v":26},{"$f":"[1]!PowerMod($A106,K$2,$A$2)","v":4},{"$f":"[1]!PowerMod($A106,L$2,$A$2)","v":11},{"$f":"[1]!PowerMod($A106,M$2,$A$2)","v":10},{"$f":"[1]!PowerMod($A106,N$2,$A$2)","v":14},{"$f":"[1]!PowerMod($A106,O$2,$A$2)","v":25},{"$f":"[1]!PowerMod($A106,P$2,$A$2)","v":8},{"$f":"[1]!PowerMod($A106,Q$2,$A$2)","v":22},{"$f":"[1]!PowerMod($A106,R$2,$A$2)","v":20},{"$f":"[1]!PowerMod($A106,S$2,$A$2)","v":1},{"$f":"[1]!PowerMod($A106,T$2,$A$2)","v":23},{"$f":"[1]!PowerMod($A106,U$2,$A$2)","v":16},{"$f":"[1]!PowerMod($A106,V$2,$A$2)","v":17},{"$f":"[1]!PowerMod($A106,W$2,$A$2)","v":13},{"$f":"[1]!PowerMod($A106,X$2,$A$2)","v":2},{"$f":"[1]!PowerMod($A106,Y$2,$A$2)","v":19},{"$f":"[1]!PowerMod($A106,Z$2,$A$2)","v":5},{"$f":"[1]!PowerMod($A106,AA$2,$A$2)","v":7},{"$f":"[1]!PowerMod($A106,AB$2,$A$2)","v":26},{"$f":"[1]!PowerMod($A106,AC$2,$A$2)","v":4},{"$f":"[1]!PowerMod($A106,AD$2,$A$2)","v":11},{"$f":"[1]!PowerMod($A106,AE$2,$A$2)","v":10},{"$f":"[1]!PowerMod($A106,AF$2,$A$2)","v":14},{"$f":"[1]!PowerMod($A106,AG$2,$A$2)","v":25},{"$f":"[1]!PowerMod($A106,AH$2,$A$2)","v":8},{"$f":"[1]!PowerMod($A106,AI$2,$A$2)","v":22},{"$f":"[1]!PowerMod($A106,AJ$2,$A$2)","v":20},{"$f":"[1]!PowerMod($A106,AK$2,$A$2)","v":1},{"$f":"[1]!PowerMod($A106,AL$2,$A$2)","v":23},{"$f":"[1]!PowerMod($A106,AM$2,$A$2)","v":16},{"$f":"[1]!PowerMod($A106,AN$2,$A$2)","v":17},{"$f":"[1]!PowerMod($A106,AO$2,$A$2)","v":13},{"$f":"[1]!PowerMod($A106,AP$2,$A$2)","v":2},{"$f":"[1]!PowerMod($A106,AQ$2,$A$2)","v":19},{"$f":"[1]!PowerMod($A106,AR$2,$A$2)","v":5},{"$f":"[1]!PowerMod($A106,AS$2,$A$2)","v":7},{"$f":"[1]!PowerMod($A106,AT$2,$A$2)","v":26},{"$f":"[1]!PowerMod($A106,AU$2,$A$2)","v":4},{"$f":"[1]!PowerMod($A106,AV$2,$A$2)","v":11},{"$f":"[1]!PowerMod($A106,AW$2,$A$2)","v":10},{"$f":"[1]!PowerMod($A106,AX$2,$A$2)","v":14},{"$f":"[1]!PowerMod($A106,AY$2,$A$2)","v":25},{"$f":"[1]!PowerMod($A106,AZ$2,$A$2)","v":8},{"$f":"[1]!PowerMod($A106,BA$2,$A$2)","v":22},{"$f":"[1]!PowerMod($A106,BB$2,$A$2)","v":20},{"$f":"[1]!PowerMod($A106,BC$2,$A$2)","v":1},{"$f":"[1]!PowerMod($A106,BD$2,$A$2)","v":23},{"$f":"[1]!PowerMod($A106,BE$2,$A$2)","v":16},{"$f":"[1]!PowerMod($A106,BF$2,$A$2)","v":17},{"$f":"[1]!PowerMod($A106,BG$2,$A$2)","v":13},{"$f":"[1]!PowerMod($A106,BH$2,$A$2)","v":2},{"$f":"[1]!PowerMod($A106,BI$2,$A$2)","v":19},{"$f":"[1]!PowerMod($A106,BJ$2,$A$2)","v":5},{"$f":"[1]!PowerMod($A106,BK$2,$A$2)","v":7},{"$f":"[1]!PowerMod($A106,BL$2,$A$2)","v":26},{"$f":"[1]!PowerMod($A106,BM$2,$A$2)","v":4},{"$f":"[1]!PowerMod($A106,BN$2,$A$2)","v":11},{"$f":"[1]!PowerMod($A106,BO$2,$A$2)","v":10},{"$f":"[1]!PowerMod($A106,BP$2,$A$2)","v":14},{"$f":"[1]!PowerMod($A106,BQ$2,$A$2)","v":25},{"$f":"[1]!PowerMod($A106,BR$2,$A$2)","v":8},{"$f":"[1]!PowerMod($A106,BS$2,$A$2)","v":22},{"$f":"[1]!PowerMod($A106,BT$2,$A$2)","v":20}]
[105,{"$f":"[1]!PowerMod($A107,B$2,$A$2)","v":24},{"$f":"[1]!PowerMod($A107,C$2,$A$2)","v":9},{"$f":"[1]!PowerMod($A107,D$2,$A$2)","v":0},{"$f":"[1]!PowerMod($A107,E$2,$A$2)","v":0},{"$f":"[1]!PowerMod($A107,F$2,$A$2)","v":0},{"$f":"[1]!PowerMod($A107,G$2,$A$2)","v":0},{"$f":"[1]!PowerMod($A107,H$2,$A$2)","v":0},{"$f":"[1]!PowerMod($A107,I$2,$A$2)","v":0},{"$f":"[1]!PowerMod($A107,J$2,$A$2)","v":0},{"$f":"[1]!PowerMod($A107,K$2,$A$2)","v":0},{"$f":"[1]!PowerMod($A107,L$2,$A$2)","v":0},{"$f":"[1]!PowerMod($A107,M$2,$A$2)","v":0},{"$f":"[1]!PowerMod($A107,N$2,$A$2)","v":0},{"$f":"[1]!PowerMod($A107,O$2,$A$2)","v":0},{"$f":"[1]!PowerMod($A107,P$2,$A$2)","v":0},{"$f":"[1]!PowerMod($A107,Q$2,$A$2)","v":0},{"$f":"[1]!PowerMod($A107,R$2,$A$2)","v":0},{"$f":"[1]!PowerMod($A107,S$2,$A$2)","v":0},{"$f":"[1]!PowerMod($A107,T$2,$A$2)","v":0},{"$f":"[1]!PowerMod($A107,U$2,$A$2)","v":0},{"$f":"[1]!PowerMod($A107,V$2,$A$2)","v":0},{"$f":"[1]!PowerMod($A107,W$2,$A$2)","v":0},{"$f":"[1]!PowerMod($A107,X$2,$A$2)","v":0},{"$f":"[1]!PowerMod($A107,Y$2,$A$2)","v":0},{"$f":"[1]!PowerMod($A107,Z$2,$A$2)","v":0},{"$f":"[1]!PowerMod($A107,AA$2,$A$2)","v":0},{"$f":"[1]!PowerMod($A107,AB$2,$A$2)","v":0},{"$f":"[1]!PowerMod($A107,AC$2,$A$2)","v":0},{"$f":"[1]!PowerMod($A107,AD$2,$A$2)","v":0},{"$f":"[1]!PowerMod($A107,AE$2,$A$2)","v":0},{"$f":"[1]!PowerMod($A107,AF$2,$A$2)","v":0},{"$f":"[1]!PowerMod($A107,AG$2,$A$2)","v":0},{"$f":"[1]!PowerMod($A107,AH$2,$A$2)","v":0},{"$f":"[1]!PowerMod($A107,AI$2,$A$2)","v":0},{"$f":"[1]!PowerMod($A107,AJ$2,$A$2)","v":0},{"$f":"[1]!PowerMod($A107,AK$2,$A$2)","v":0},{"$f":"[1]!PowerMod($A107,AL$2,$A$2)","v":0},{"$f":"[1]!PowerMod($A107,AM$2,$A$2)","v":0},{"$f":"[1]!PowerMod($A107,AN$2,$A$2)","v":0},{"$f":"[1]!PowerMod($A107,AO$2,$A$2)","v":0},{"$f":"[1]!PowerMod($A107,AP$2,$A$2)","v":0},{"$f":"[1]!PowerMod($A107,AQ$2,$A$2)","v":0},{"$f":"[1]!PowerMod($A107,AR$2,$A$2)","v":0},{"$f":"[1]!PowerMod($A107,AS$2,$A$2)","v":0},{"$f":"[1]!PowerMod($A107,AT$2,$A$2)","v":0},{"$f":"[1]!PowerMod($A107,AU$2,$A$2)","v":0},{"$f":"[1]!PowerMod($A107,AV$2,$A$2)","v":0},{"$f":"[1]!PowerMod($A107,AW$2,$A$2)","v":0},{"$f":"[1]!PowerMod($A107,AX$2,$A$2)","v":0},{"$f":"[1]!PowerMod($A107,AY$2,$A$2)","v":0},{"$f":"[1]!PowerMod($A107,AZ$2,$A$2)","v":0},{"$f":"[1]!PowerMod($A107,BA$2,$A$2)","v":0},{"$f":"[1]!PowerMod($A107,BB$2,$A$2)","v":0},{"$f":"[1]!PowerMod($A107,BC$2,$A$2)","v":0},{"$f":"[1]!PowerMod($A107,BD$2,$A$2)","v":0},{"$f":"[1]!PowerMod($A107,BE$2,$A$2)","v":0},{"$f":"[1]!PowerMod($A107,BF$2,$A$2)","v":0},{"$f":"[1]!PowerMod($A107,BG$2,$A$2)","v":0},{"$f":"[1]!PowerMod($A107,BH$2,$A$2)","v":0},{"$f":"[1]!PowerMod($A107,BI$2,$A$2)","v":0},{"$f":"[1]!PowerMod($A107,BJ$2,$A$2)","v":0},{"$f":"[1]!PowerMod($A107,BK$2,$A$2)","v":0},{"$f":"[1]!PowerMod($A107,BL$2,$A$2)","v":0},{"$f":"[1]!PowerMod($A107,BM$2,$A$2)","v":0},{"$f":"[1]!PowerMod($A107,BN$2,$A$2)","v":0},{"$f":"[1]!PowerMod($A107,BO$2,$A$2)","v":0},{"$f":"[1]!PowerMod($A107,BP$2,$A$2)","v":0},{"$f":"[1]!PowerMod($A107,BQ$2,$A$2)","v":0},{"$f":"[1]!PowerMod($A107,BR$2,$A$2)","v":0},{"$f":"[1]!PowerMod($A107,BS$2,$A$2)","v":0},{"$f":"[1]!PowerMod($A107,BT$2,$A$2)","v":0}]
[106,{"$f":"[1]!PowerMod($A108,B$2,$A$2)","v":25},{"$f":"[1]!PowerMod($A108,C$2,$A$2)","v":4},{"$f":"[1]!PowerMod($A108,D$2,$A$2)","v":19},{"$f":"[1]!PowerMod($A108,E$2,$A$2)","v":16},{"$f":"[1]!PowerMod($A108,F$2,$A$2)","v":22},{"$f":"[1]!PowerMod($A108,G$2,$A$2)","v":10},{"$f":"[1]!PowerMod($A108,H$2,$A$2)","v":7},{"$f":"[1]!PowerMod($A108,I$2,$A$2)","v":13},{"$f":"[1]!PowerMod($A108,J$2,$A$2)","v":1},{"$f":"[1]!PowerMod($A108,K$2,$A$2)","v":25},{"$f":"[1]!PowerMod($A108,L$2,$A$2)","v":4},{"$f":"[1]!PowerMod($A108,M$2,$A$2)","v":19},{"$f":"[1]!PowerMod($A108,N$2,$A$2)","v":16},{"$f":"[1]!PowerMod($A108,O$2,$A$2)","v":22},{"$f":"[1]!PowerMod($A108,P$2,$A$2)","v":10},{"$f":"[1]!PowerMod($A108,Q$2,$A$2)","v":7},{"$f":"[1]!PowerMod($A108,R$2,$A$2)","v":13},{"$f":"[1]!PowerMod($A108,S$2,$A$2)","v":1},{"$f":"[1]!PowerMod($A108,T$2,$A$2)","v":25},{"$f":"[1]!PowerMod($A108,U$2,$A$2)","v":4},{"$f":"[1]!PowerMod($A108,V$2,$A$2)","v":19},{"$f":"[1]!PowerMod($A108,W$2,$A$2)","v":16},{"$f":"[1]!PowerMod($A108,X$2,$A$2)","v":22},{"$f":"[1]!PowerMod($A108,Y$2,$A$2)","v":10},{"$f":"[1]!PowerMod($A108,Z$2,$A$2)","v":7},{"$f":"[1]!PowerMod($A108,AA$2,$A$2)","v":13},{"$f":"[1]!PowerMod($A108,AB$2,$A$2)","v":1},{"$f":"[1]!PowerMod($A108,AC$2,$A$2)","v":25},{"$f":"[1]!PowerMod($A108,AD$2,$A$2)","v":4},{"$f":"[1]!PowerMod($A108,AE$2,$A$2)","v":19},{"$f":"[1]!PowerMod($A108,AF$2,$A$2)","v":16},{"$f":"[1]!PowerMod($A108,AG$2,$A$2)","v":22},{"$f":"[1]!PowerMod($A108,AH$2,$A$2)","v":10},{"$f":"[1]!PowerMod($A108,AI$2,$A$2)","v":7},{"$f":"[1]!PowerMod($A108,AJ$2,$A$2)","v":13},{"$f":"[1]!PowerMod($A108,AK$2,$A$2)","v":1},{"$f":"[1]!PowerMod($A108,AL$2,$A$2)","v":25},{"$f":"[1]!PowerMod($A108,AM$2,$A$2)","v":4},{"$f":"[1]!PowerMod($A108,AN$2,$A$2)","v":19},{"$f":"[1]!PowerMod($A108,AO$2,$A$2)","v":16},{"$f":"[1]!PowerMod($A108,AP$2,$A$2)","v":22},{"$f":"[1]!PowerMod($A108,AQ$2,$A$2)","v":10},{"$f":"[1]!PowerMod($A108,AR$2,$A$2)","v":7},{"$f":"[1]!PowerMod($A108,AS$2,$A$2)","v":13},{"$f":"[1]!PowerMod($A108,AT$2,$A$2)","v":1},{"$f":"[1]!PowerMod($A108,AU$2,$A$2)","v":25},{"$f":"[1]!PowerMod($A108,AV$2,$A$2)","v":4},{"$f":"[1]!PowerMod($A108,AW$2,$A$2)","v":19},{"$f":"[1]!PowerMod($A108,AX$2,$A$2)","v":16},{"$f":"[1]!PowerMod($A108,AY$2,$A$2)","v":22},{"$f":"[1]!PowerMod($A108,AZ$2,$A$2)","v":10},{"$f":"[1]!PowerMod($A108,BA$2,$A$2)","v":7},{"$f":"[1]!PowerMod($A108,BB$2,$A$2)","v":13},{"$f":"[1]!PowerMod($A108,BC$2,$A$2)","v":1},{"$f":"[1]!PowerMod($A108,BD$2,$A$2)","v":25},{"$f":"[1]!PowerMod($A108,BE$2,$A$2)","v":4},{"$f":"[1]!PowerMod($A108,BF$2,$A$2)","v":19},{"$f":"[1]!PowerMod($A108,BG$2,$A$2)","v":16},{"$f":"[1]!PowerMod($A108,BH$2,$A$2)","v":22},{"$f":"[1]!PowerMod($A108,BI$2,$A$2)","v":10},{"$f":"[1]!PowerMod($A108,BJ$2,$A$2)","v":7},{"$f":"[1]!PowerMod($A108,BK$2,$A$2)","v":13},{"$f":"[1]!PowerMod($A108,BL$2,$A$2)","v":1},{"$f":"[1]!PowerMod($A108,BM$2,$A$2)","v":25},{"$f":"[1]!PowerMod($A108,BN$2,$A$2)","v":4},{"$f":"[1]!PowerMod($A108,BO$2,$A$2)","v":19},{"$f":"[1]!PowerMod($A108,BP$2,$A$2)","v":16},{"$f":"[1]!PowerMod($A108,BQ$2,$A$2)","v":22},{"$f":"[1]!PowerMod($A108,BR$2,$A$2)","v":10},{"$f":"[1]!PowerMod($A108,BS$2,$A$2)","v":7},{"$f":"[1]!PowerMod($A108,BT$2,$A$2)","v":13}]
[107,{"$f":"[1]!PowerMod($A109,B$2,$A$2)","v":26},{"$f":"[1]!PowerMod($A109,C$2,$A$2)","v":1},{"$f":"[1]!PowerMod($A109,D$2,$A$2)","v":26},{"$f":"[1]!PowerMod($A109,E$2,$A$2)","v":1},{"$f":"[1]!PowerMod($A109,F$2,$A$2)","v":26},{"$f":"[1]!PowerMod($A109,G$2,$A$2)","v":1},{"$f":"[1]!PowerMod($A109,H$2,$A$2)","v":26},{"$f":"[1]!PowerMod($A109,I$2,$A$2)","v":1},{"$f":"[1]!PowerMod($A109,J$2,$A$2)","v":26},{"$f":"[1]!PowerMod($A109,K$2,$A$2)","v":1},{"$f":"[1]!PowerMod($A109,L$2,$A$2)","v":26},{"$f":"[1]!PowerMod($A109,M$2,$A$2)","v":1},{"$f":"[1]!PowerMod($A109,N$2,$A$2)","v":26},{"$f":"[1]!PowerMod($A109,O$2,$A$2)","v":1},{"$f":"[1]!PowerMod($A109,P$2,$A$2)","v":26},{"$f":"[1]!PowerMod($A109,Q$2,$A$2)","v":1},{"$f":"[1]!PowerMod($A109,R$2,$A$2)","v":26},{"$f":"[1]!PowerMod($A109,S$2,$A$2)","v":1},{"$f":"[1]!PowerMod($A109,T$2,$A$2)","v":26},{"$f":"[1]!PowerMod($A109,U$2,$A$2)","v":1},{"$f":"[1]!PowerMod($A109,V$2,$A$2)","v":26},{"$f":"[1]!PowerMod($A109,W$2,$A$2)","v":1},{"$f":"[1]!PowerMod($A109,X$2,$A$2)","v":26},{"$f":"[1]!PowerMod($A109,Y$2,$A$2)","v":1},{"$f":"[1]!PowerMod($A109,Z$2,$A$2)","v":26},{"$f":"[1]!PowerMod($A109,AA$2,$A$2)","v":1},{"$f":"[1]!PowerMod($A109,AB$2,$A$2)","v":26},{"$f":"[1]!PowerMod($A109,AC$2,$A$2)","v":1},{"$f":"[1]!PowerMod($A109,AD$2,$A$2)","v":26},{"$f":"[1]!PowerMod($A109,AE$2,$A$2)","v":1},{"$f":"[1]!PowerMod($A109,AF$2,$A$2)","v":26},{"$f":"[1]!PowerMod($A109,AG$2,$A$2)","v":1},{"$f":"[1]!PowerMod($A109,AH$2,$A$2)","v":26},{"$f":"[1]!PowerMod($A109,AI$2,$A$2)","v":1},{"$f":"[1]!PowerMod($A109,AJ$2,$A$2)","v":26},{"$f":"[1]!PowerMod($A109,AK$2,$A$2)","v":1},{"$f":"[1]!PowerMod($A109,AL$2,$A$2)","v":26},{"$f":"[1]!PowerMod($A109,AM$2,$A$2)","v":1},{"$f":"[1]!PowerMod($A109,AN$2,$A$2)","v":26},{"$f":"[1]!PowerMod($A109,AO$2,$A$2)","v":1},{"$f":"[1]!PowerMod($A109,AP$2,$A$2)","v":26},{"$f":"[1]!PowerMod($A109,AQ$2,$A$2)","v":1},{"$f":"[1]!PowerMod($A109,AR$2,$A$2)","v":26},{"$f":"[1]!PowerMod($A109,AS$2,$A$2)","v":1},{"$f":"[1]!PowerMod($A109,AT$2,$A$2)","v":26},{"$f":"[1]!PowerMod($A109,AU$2,$A$2)","v":1},{"$f":"[1]!PowerMod($A109,AV$2,$A$2)","v":26},{"$f":"[1]!PowerMod($A109,AW$2,$A$2)","v":1},{"$f":"[1]!PowerMod($A109,AX$2,$A$2)","v":26},{"$f":"[1]!PowerMod($A109,AY$2,$A$2)","v":1},{"$f":"[1]!PowerMod($A109,AZ$2,$A$2)","v":26},{"$f":"[1]!PowerMod($A109,BA$2,$A$2)","v":1},{"$f":"[1]!PowerMod($A109,BB$2,$A$2)","v":26},{"$f":"[1]!PowerMod($A109,BC$2,$A$2)","v":1},{"$f":"[1]!PowerMod($A109,BD$2,$A$2)","v":26},{"$f":"[1]!PowerMod($A109,BE$2,$A$2)","v":1},{"$f":"[1]!PowerMod($A109,BF$2,$A$2)","v":26},{"$f":"[1]!PowerMod($A109,BG$2,$A$2)","v":1},{"$f":"[1]!PowerMod($A109,BH$2,$A$2)","v":26},{"$f":"[1]!PowerMod($A109,BI$2,$A$2)","v":1},{"$f":"[1]!PowerMod($A109,BJ$2,$A$2)","v":26},{"$f":"[1]!PowerMod($A109,BK$2,$A$2)","v":1},{"$f":"[1]!PowerMod($A109,BL$2,$A$2)","v":26},{"$f":"[1]!PowerMod($A109,BM$2,$A$2)","v":1},{"$f":"[1]!PowerMod($A109,BN$2,$A$2)","v":26},{"$f":"[1]!PowerMod($A109,BO$2,$A$2)","v":1},{"$f":"[1]!PowerMod($A109,BP$2,$A$2)","v":26},{"$f":"[1]!PowerMod($A109,BQ$2,$A$2)","v":1},{"$f":"[1]!PowerMod($A109,BR$2,$A$2)","v":26},{"$f":"[1]!PowerMod($A109,BS$2,$A$2)","v":1},{"$f":"[1]!PowerMod($A109,BT$2,$A$2)","v":26}]
[108,{"$f":"[1]!PowerMod($A110,B$2,$A$2)","v":0},{"$f":"[1]!PowerMod($A110,C$2,$A$2)","v":0},{"$f":"[1]!PowerMod($A110,D$2,$A$2)","v":0},{"$f":"[1]!PowerMod($A110,E$2,$A$2)","v":0},{"$f":"[1]!PowerMod($A110,F$2,$A$2)","v":0},{"$f":"[1]!PowerMod($A110,G$2,$A$2)","v":0},{"$f":"[1]!PowerMod($A110,H$2,$A$2)","v":0},{"$f":"[1]!PowerMod($A110,I$2,$A$2)","v":0},{"$f":"[1]!PowerMod($A110,J$2,$A$2)","v":0},{"$f":"[1]!PowerMod($A110,K$2,$A$2)","v":0},{"$f":"[1]!PowerMod($A110,L$2,$A$2)","v":0},{"$f":"[1]!PowerMod($A110,M$2,$A$2)","v":0},{"$f":"[1]!PowerMod($A110,N$2,$A$2)","v":0},{"$f":"[1]!PowerMod($A110,O$2,$A$2)","v":0},{"$f":"[1]!PowerMod($A110,P$2,$A$2)","v":0},{"$f":"[1]!PowerMod($A110,Q$2,$A$2)","v":0},{"$f":"[1]!PowerMod($A110,R$2,$A$2)","v":0},{"$f":"[1]!PowerMod($A110,S$2,$A$2)","v":0},{"$f":"[1]!PowerMod($A110,T$2,$A$2)","v":0},{"$f":"[1]!PowerMod($A110,U$2,$A$2)","v":0},{"$f":"[1]!PowerMod($A110,V$2,$A$2)","v":0},{"$f":"[1]!PowerMod($A110,W$2,$A$2)","v":0},{"$f":"[1]!PowerMod($A110,X$2,$A$2)","v":0},{"$f":"[1]!PowerMod($A110,Y$2,$A$2)","v":0},{"$f":"[1]!PowerMod($A110,Z$2,$A$2)","v":0},{"$f":"[1]!PowerMod($A110,AA$2,$A$2)","v":0},{"$f":"[1]!PowerMod($A110,AB$2,$A$2)","v":0},{"$f":"[1]!PowerMod($A110,AC$2,$A$2)","v":0},{"$f":"[1]!PowerMod($A110,AD$2,$A$2)","v":0},{"$f":"[1]!PowerMod($A110,AE$2,$A$2)","v":0},{"$f":"[1]!PowerMod($A110,AF$2,$A$2)","v":0},{"$f":"[1]!PowerMod($A110,AG$2,$A$2)","v":0},{"$f":"[1]!PowerMod($A110,AH$2,$A$2)","v":0},{"$f":"[1]!PowerMod($A110,AI$2,$A$2)","v":0},{"$f":"[1]!PowerMod($A110,AJ$2,$A$2)","v":0},{"$f":"[1]!PowerMod($A110,AK$2,$A$2)","v":0},{"$f":"[1]!PowerMod($A110,AL$2,$A$2)","v":0},{"$f":"[1]!PowerMod($A110,AM$2,$A$2)","v":0},{"$f":"[1]!PowerMod($A110,AN$2,$A$2)","v":0},{"$f":"[1]!PowerMod($A110,AO$2,$A$2)","v":0},{"$f":"[1]!PowerMod($A110,AP$2,$A$2)","v":0},{"$f":"[1]!PowerMod($A110,AQ$2,$A$2)","v":0},{"$f":"[1]!PowerMod($A110,AR$2,$A$2)","v":0},{"$f":"[1]!PowerMod($A110,AS$2,$A$2)","v":0},{"$f":"[1]!PowerMod($A110,AT$2,$A$2)","v":0},{"$f":"[1]!PowerMod($A110,AU$2,$A$2)","v":0},{"$f":"[1]!PowerMod($A110,AV$2,$A$2)","v":0},{"$f":"[1]!PowerMod($A110,AW$2,$A$2)","v":0},{"$f":"[1]!PowerMod($A110,AX$2,$A$2)","v":0},{"$f":"[1]!PowerMod($A110,AY$2,$A$2)","v":0},{"$f":"[1]!PowerMod($A110,AZ$2,$A$2)","v":0},{"$f":"[1]!PowerMod($A110,BA$2,$A$2)","v":0},{"$f":"[1]!PowerMod($A110,BB$2,$A$2)","v":0},{"$f":"[1]!PowerMod($A110,BC$2,$A$2)","v":0},{"$f":"[1]!PowerMod($A110,BD$2,$A$2)","v":0},{"$f":"[1]!PowerMod($A110,BE$2,$A$2)","v":0},{"$f":"[1]!PowerMod($A110,BF$2,$A$2)","v":0},{"$f":"[1]!PowerMod($A110,BG$2,$A$2)","v":0},{"$f":"[1]!PowerMod($A110,BH$2,$A$2)","v":0},{"$f":"[1]!PowerMod($A110,BI$2,$A$2)","v":0},{"$f":"[1]!PowerMod($A110,BJ$2,$A$2)","v":0},{"$f":"[1]!PowerMod($A110,BK$2,$A$2)","v":0},{"$f":"[1]!PowerMod($A110,BL$2,$A$2)","v":0},{"$f":"[1]!PowerMod($A110,BM$2,$A$2)","v":0},{"$f":"[1]!PowerMod($A110,BN$2,$A$2)","v":0},{"$f":"[1]!PowerMod($A110,BO$2,$A$2)","v":0},{"$f":"[1]!PowerMod($A110,BP$2,$A$2)","v":0},{"$f":"[1]!PowerMod($A110,BQ$2,$A$2)","v":0},{"$f":"[1]!PowerMod($A110,BR$2,$A$2)","v":0},{"$f":"[1]!PowerMod($A110,BS$2,$A$2)","v":0},{"$f":"[1]!PowerMod($A110,BT$2,$A$2)","v":0}]
[109,{"$f":"[1]!PowerMod($A111,B$2,$A$2)","v":1},{"$f":"[1]!PowerMod($A111,C$2,$A$2)","v":1},{"$f":"[1]!PowerMod($A111,D$2,$A$2)","v":1},{"$f":"[1]!PowerMod($A111,E$2,$A$2)","v":1},{"$f":"[1]!PowerMod($A111,F$2,$A$2)","v":1},{"$f":"[1]!PowerMod($A111,G$2,$A$2)","v":1},{"$f":"[1]!PowerMod($A111,H$2,$A$2)","v":1},{"$f":"[1]!PowerMod($A111,I$2,$A$2)","v":1},{"$f":"[1]!PowerMod($A111,J$2,$A$2)","v":1},{"$f":"[1]!PowerMod($A111,K$2,$A$2)","v":1},{"$f":"[1]!PowerMod($A111,L$2,$A$2)","v":1},{"$f":"[1]!PowerMod($A111,M$2,$A$2)","v":1},{"$f":"[1]!PowerMod($A111,N$2,$A$2)","v":1},{"$f":"[1]!PowerMod($A111,O$2,$A$2)","v":1},{"$f":"[1]!PowerMod($A111,P$2,$A$2)","v":1},{"$f":"[1]!PowerMod($A111,Q$2,$A$2)","v":1},{"$f":"[1]!PowerMod($A111,R$2,$A$2)","v":1},{"$f":"[1]!PowerMod($A111,S$2,$A$2)","v":1},{"$f":"[1]!PowerMod($A111,T$2,$A$2)","v":1},{"$f":"[1]!PowerMod($A111,U$2,$A$2)","v":1},{"$f":"[1]!PowerMod($A111,V$2,$A$2)","v":1},{"$f":"[1]!PowerMod($A111,W$2,$A$2)","v":1},{"$f":"[1]!PowerMod($A111,X$2,$A$2)","v":1},{"$f":"[1]!PowerMod($A111,Y$2,$A$2)","v":1},{"$f":"[1]!PowerMod($A111,Z$2,$A$2)","v":1},{"$f":"[1]!PowerMod($A111,AA$2,$A$2)","v":1},{"$f":"[1]!PowerMod($A111,AB$2,$A$2)","v":1},{"$f":"[1]!PowerMod($A111,AC$2,$A$2)","v":1},{"$f":"[1]!PowerMod($A111,AD$2,$A$2)","v":1},{"$f":"[1]!PowerMod($A111,AE$2,$A$2)","v":1},{"$f":"[1]!PowerMod($A111,AF$2,$A$2)","v":1},{"$f":"[1]!PowerMod($A111,AG$2,$A$2)","v":1},{"$f":"[1]!PowerMod($A111,AH$2,$A$2)","v":1},{"$f":"[1]!PowerMod($A111,AI$2,$A$2)","v":1},{"$f":"[1]!PowerMod($A111,AJ$2,$A$2)","v":1},{"$f":"[1]!PowerMod($A111,AK$2,$A$2)","v":1},{"$f":"[1]!PowerMod($A111,AL$2,$A$2)","v":1},{"$f":"[1]!PowerMod($A111,AM$2,$A$2)","v":1},{"$f":"[1]!PowerMod($A111,AN$2,$A$2)","v":1},{"$f":"[1]!PowerMod($A111,AO$2,$A$2)","v":1},{"$f":"[1]!PowerMod($A111,AP$2,$A$2)","v":1},{"$f":"[1]!PowerMod($A111,AQ$2,$A$2)","v":1},{"$f":"[1]!PowerMod($A111,AR$2,$A$2)","v":1},{"$f":"[1]!PowerMod($A111,AS$2,$A$2)","v":1},{"$f":"[1]!PowerMod($A111,AT$2,$A$2)","v":1},{"$f":"[1]!PowerMod($A111,AU$2,$A$2)","v":1},{"$f":"[1]!PowerMod($A111,AV$2,$A$2)","v":1},{"$f":"[1]!PowerMod($A111,AW$2,$A$2)","v":1},{"$f":"[1]!PowerMod($A111,AX$2,$A$2)","v":1},{"$f":"[1]!PowerMod($A111,AY$2,$A$2)","v":1},{"$f":"[1]!PowerMod($A111,AZ$2,$A$2)","v":1},{"$f":"[1]!PowerMod($A111,BA$2,$A$2)","v":1},{"$f":"[1]!PowerMod($A111,BB$2,$A$2)","v":1},{"$f":"[1]!PowerMod($A111,BC$2,$A$2)","v":1},{"$f":"[1]!PowerMod($A111,BD$2,$A$2)","v":1},{"$f":"[1]!PowerMod($A111,BE$2,$A$2)","v":1},{"$f":"[1]!PowerMod($A111,BF$2,$A$2)","v":1},{"$f":"[1]!PowerMod($A111,BG$2,$A$2)","v":1},{"$f":"[1]!PowerMod($A111,BH$2,$A$2)","v":1},{"$f":"[1]!PowerMod($A111,BI$2,$A$2)","v":1},{"$f":"[1]!PowerMod($A111,BJ$2,$A$2)","v":1},{"$f":"[1]!PowerMod($A111,BK$2,$A$2)","v":1},{"$f":"[1]!PowerMod($A111,BL$2,$A$2)","v":1},{"$f":"[1]!PowerMod($A111,BM$2,$A$2)","v":1},{"$f":"[1]!PowerMod($A111,BN$2,$A$2)","v":1},{"$f":"[1]!PowerMod($A111,BO$2,$A$2)","v":1},{"$f":"[1]!PowerMod($A111,BP$2,$A$2)","v":1},{"$f":"[1]!PowerMod($A111,BQ$2,$A$2)","v":1},{"$f":"[1]!PowerMod($A111,BR$2,$A$2)","v":1},{"$f":"[1]!PowerMod($A111,BS$2,$A$2)","v":1},{"$f":"[1]!PowerMod($A111,BT$2,$A$2)","v":1}]
[110,{"$f":"[1]!PowerMod($A112,B$2,$A$2)","v":2},{"$f":"[1]!PowerMod($A112,C$2,$A$2)","v":4},{"$f":"[1]!PowerMod($A112,D$2,$A$2)","v":8},{"$f":"[1]!PowerMod($A112,E$2,$A$2)","v":16},{"$f":"[1]!PowerMod($A112,F$2,$A$2)","v":5},{"$f":"[1]!PowerMod($A112,G$2,$A$2)","v":10},{"$f":"[1]!PowerMod($A112,H$2,$A$2)","v":20},{"$f":"[1]!PowerMod($A112,I$2,$A$2)","v":13},{"$f":"[1]!PowerMod($A112,J$2,$A$2)","v":26},{"$f":"[1]!PowerMod($A112,K$2,$A$2)","v":25},{"$f":"[1]!PowerMod($A112,L$2,$A$2)","v":23},{"$f":"[1]!PowerMod($A112,M$2,$A$2)","v":19},{"$f":"[1]!PowerMod($A112,N$2,$A$2)","v":11},{"$f":"[1]!PowerMod($A112,O$2,$A$2)","v":22},{"$f":"[1]!PowerMod($A112,P$2,$A$2)","v":17},{"$f":"[1]!PowerMod($A112,Q$2,$A$2)","v":7},{"$f":"[1]!PowerMod($A112,R$2,$A$2)","v":14},{"$f":"[1]!PowerMod($A112,S$2,$A$2)","v":1},{"$f":"[1]!PowerMod($A112,T$2,$A$2)","v":2},{"$f":"[1]!PowerMod($A112,U$2,$A$2)","v":4},{"$f":"[1]!PowerMod($A112,V$2,$A$2)","v":8},{"$f":"[1]!PowerMod($A112,W$2,$A$2)","v":16},{"$f":"[1]!PowerMod($A112,X$2,$A$2)","v":5},{"$f":"[1]!PowerMod($A112,Y$2,$A$2)","v":10},{"$f":"[1]!PowerMod($A112,Z$2,$A$2)","v":20},{"$f":"[1]!PowerMod($A112,AA$2,$A$2)","v":13},{"$f":"[1]!PowerMod($A112,AB$2,$A$2)","v":26},{"$f":"[1]!PowerMod($A112,AC$2,$A$2)","v":25},{"$f":"[1]!PowerMod($A112,AD$2,$A$2)","v":23},{"$f":"[1]!PowerMod($A112,AE$2,$A$2)","v":19},{"$f":"[1]!PowerMod($A112,AF$2,$A$2)","v":11},{"$f":"[1]!PowerMod($A112,AG$2,$A$2)","v":22},{"$f":"[1]!PowerMod($A112,AH$2,$A$2)","v":17},{"$f":"[1]!PowerMod($A112,AI$2,$A$2)","v":7},{"$f":"[1]!PowerMod($A112,AJ$2,$A$2)","v":14},{"$f":"[1]!PowerMod($A112,AK$2,$A$2)","v":1},{"$f":"[1]!PowerMod($A112,AL$2,$A$2)","v":2},{"$f":"[1]!PowerMod($A112,AM$2,$A$2)","v":4},{"$f":"[1]!PowerMod($A112,AN$2,$A$2)","v":8},{"$f":"[1]!PowerMod($A112,AO$2,$A$2)","v":16},{"$f":"[1]!PowerMod($A112,AP$2,$A$2)","v":5},{"$f":"[1]!PowerMod($A112,AQ$2,$A$2)","v":10},{"$f":"[1]!PowerMod($A112,AR$2,$A$2)","v":20},{"$f":"[1]!PowerMod($A112,AS$2,$A$2)","v":13},{"$f":"[1]!PowerMod($A112,AT$2,$A$2)","v":26},{"$f":"[1]!PowerMod($A112,AU$2,$A$2)","v":25},{"$f":"[1]!PowerMod($A112,AV$2,$A$2)","v":23},{"$f":"[1]!PowerMod($A112,AW$2,$A$2)","v":19},{"$f":"[1]!PowerMod($A112,AX$2,$A$2)","v":11},{"$f":"[1]!PowerMod($A112,AY$2,$A$2)","v":22},{"$f":"[1]!PowerMod($A112,AZ$2,$A$2)","v":17},{"$f":"[1]!PowerMod($A112,BA$2,$A$2)","v":7},{"$f":"[1]!PowerMod($A112,BB$2,$A$2)","v":14},{"$f":"[1]!PowerMod($A112,BC$2,$A$2)","v":1},{"$f":"[1]!PowerMod($A112,BD$2,$A$2)","v":2},{"$f":"[1]!PowerMod($A112,BE$2,$A$2)","v":4},{"$f":"[1]!PowerMod($A112,BF$2,$A$2)","v":8},{"$f":"[1]!PowerMod($A112,BG$2,$A$2)","v":16},{"$f":"[1]!PowerMod($A112,BH$2,$A$2)","v":5},{"$f":"[1]!PowerMod($A112,BI$2,$A$2)","v":10},{"$f":"[1]!PowerMod($A112,BJ$2,$A$2)","v":20},{"$f":"[1]!PowerMod($A112,BK$2,$A$2)","v":13},{"$f":"[1]!PowerMod($A112,BL$2,$A$2)","v":26},{"$f":"[1]!PowerMod($A112,BM$2,$A$2)","v":25},{"$f":"[1]!PowerMod($A112,BN$2,$A$2)","v":23},{"$f":"[1]!PowerMod($A112,BO$2,$A$2)","v":19},{"$f":"[1]!PowerMod($A112,BP$2,$A$2)","v":11},{"$f":"[1]!PowerMod($A112,BQ$2,$A$2)","v":22},{"$f":"[1]!PowerMod($A112,BR$2,$A$2)","v":17},{"$f":"[1]!PowerMod($A112,BS$2,$A$2)","v":7},{"$f":"[1]!PowerMod($A112,BT$2,$A$2)","v":14}]
[111,{"$f":"[1]!PowerMod($A113,B$2,$A$2)","v":3},{"$f":"[1]!PowerMod($A113,C$2,$A$2)","v":9},{"$f":"[1]!PowerMod($A113,D$2,$A$2)","v":0},{"$f":"[1]!PowerMod($A113,E$2,$A$2)","v":0},{"$f":"[1]!PowerMod($A113,F$2,$A$2)","v":0},{"$f":"[1]!PowerMod($A113,G$2,$A$2)","v":0},{"$f":"[1]!PowerMod($A113,H$2,$A$2)","v":0},{"$f":"[1]!PowerMod($A113,I$2,$A$2)","v":0},{"$f":"[1]!PowerMod($A113,J$2,$A$2)","v":0},{"$f":"[1]!PowerMod($A113,K$2,$A$2)","v":0},{"$f":"[1]!PowerMod($A113,L$2,$A$2)","v":0},{"$f":"[1]!PowerMod($A113,M$2,$A$2)","v":0},{"$f":"[1]!PowerMod($A113,N$2,$A$2)","v":0},{"$f":"[1]!PowerMod($A113,O$2,$A$2)","v":0},{"$f":"[1]!PowerMod($A113,P$2,$A$2)","v":0},{"$f":"[1]!PowerMod($A113,Q$2,$A$2)","v":0},{"$f":"[1]!PowerMod($A113,R$2,$A$2)","v":0},{"$f":"[1]!PowerMod($A113,S$2,$A$2)","v":0},{"$f":"[1]!PowerMod($A113,T$2,$A$2)","v":0},{"$f":"[1]!PowerMod($A113,U$2,$A$2)","v":0},{"$f":"[1]!PowerMod($A113,V$2,$A$2)","v":0},{"$f":"[1]!PowerMod($A113,W$2,$A$2)","v":0},{"$f":"[1]!PowerMod($A113,X$2,$A$2)","v":0},{"$f":"[1]!PowerMod($A113,Y$2,$A$2)","v":0},{"$f":"[1]!PowerMod($A113,Z$2,$A$2)","v":0},{"$f":"[1]!PowerMod($A113,AA$2,$A$2)","v":0},{"$f":"[1]!PowerMod($A113,AB$2,$A$2)","v":0},{"$f":"[1]!PowerMod($A113,AC$2,$A$2)","v":0},{"$f":"[1]!PowerMod($A113,AD$2,$A$2)","v":0},{"$f":"[1]!PowerMod($A113,AE$2,$A$2)","v":0},{"$f":"[1]!PowerMod($A113,AF$2,$A$2)","v":0},{"$f":"[1]!PowerMod($A113,AG$2,$A$2)","v":0},{"$f":"[1]!PowerMod($A113,AH$2,$A$2)","v":0},{"$f":"[1]!PowerMod($A113,AI$2,$A$2)","v":0},{"$f":"[1]!PowerMod($A113,AJ$2,$A$2)","v":0},{"$f":"[1]!PowerMod($A113,AK$2,$A$2)","v":0},{"$f":"[1]!PowerMod($A113,AL$2,$A$2)","v":0},{"$f":"[1]!PowerMod($A113,AM$2,$A$2)","v":0},{"$f":"[1]!PowerMod($A113,AN$2,$A$2)","v":0},{"$f":"[1]!PowerMod($A113,AO$2,$A$2)","v":0},{"$f":"[1]!PowerMod($A113,AP$2,$A$2)","v":0},{"$f":"[1]!PowerMod($A113,AQ$2,$A$2)","v":0},{"$f":"[1]!PowerMod($A113,AR$2,$A$2)","v":0},{"$f":"[1]!PowerMod($A113,AS$2,$A$2)","v":0},{"$f":"[1]!PowerMod($A113,AT$2,$A$2)","v":0},{"$f":"[1]!PowerMod($A113,AU$2,$A$2)","v":0},{"$f":"[1]!PowerMod($A113,AV$2,$A$2)","v":0},{"$f":"[1]!PowerMod($A113,AW$2,$A$2)","v":0},{"$f":"[1]!PowerMod($A113,AX$2,$A$2)","v":0},{"$f":"[1]!PowerMod($A113,AY$2,$A$2)","v":0},{"$f":"[1]!PowerMod($A113,AZ$2,$A$2)","v":0},{"$f":"[1]!PowerMod($A113,BA$2,$A$2)","v":0},{"$f":"[1]!PowerMod($A113,BB$2,$A$2)","v":0},{"$f":"[1]!PowerMod($A113,BC$2,$A$2)","v":0},{"$f":"[1]!PowerMod($A113,BD$2,$A$2)","v":0},{"$f":"[1]!PowerMod($A113,BE$2,$A$2)","v":0},{"$f":"[1]!PowerMod($A113,BF$2,$A$2)","v":0},{"$f":"[1]!PowerMod($A113,BG$2,$A$2)","v":0},{"$f":"[1]!PowerMod($A113,BH$2,$A$2)","v":0},{"$f":"[1]!PowerMod($A113,BI$2,$A$2)","v":0},{"$f":"[1]!PowerMod($A113,BJ$2,$A$2)","v":0},{"$f":"[1]!PowerMod($A113,BK$2,$A$2)","v":0},{"$f":"[1]!PowerMod($A113,BL$2,$A$2)","v":0},{"$f":"[1]!PowerMod($A113,BM$2,$A$2)","v":0},{"$f":"[1]!PowerMod($A113,BN$2,$A$2)","v":0},{"$f":"[1]!PowerMod($A113,BO$2,$A$2)","v":0},{"$f":"[1]!PowerMod($A113,BP$2,$A$2)","v":0},{"$f":"[1]!PowerMod($A113,BQ$2,$A$2)","v":0},{"$f":"[1]!PowerMod($A113,BR$2,$A$2)","v":0},{"$f":"[1]!PowerMod($A113,BS$2,$A$2)","v":0},{"$f":"[1]!PowerMod($A113,BT$2,$A$2)","v":0}]
[112,{"$f":"[1]!PowerMod($A114,B$2,$A$2)","v":4},{"$f":"[1]!PowerMod($A114,C$2,$A$2)","v":16},{"$f":"[1]!PowerMod($A114,D$2,$A$2)","v":10},{"$f":"[1]!PowerMod($A114,E$2,$A$2)","v":13},{"$f":"[1]!PowerMod($A114,F$2,$A$2)","v":25},{"$f":"[1]!PowerMod($A114,G$2,$A$2)","v":19},{"$f":"[1]!PowerMod($A114,H$2,$A$2)","v":22},{"$f":"[1]!PowerMod($A114,I$2,$A$2)","v":7},{"$f":"[1]!PowerMod($A114,J$2,$A$2)","v":1},{"$f":"[1]!PowerMod($A114,K$2,$A$2)","v":4},{"$f":"[1]!PowerMod($A114,L$2,$A$2)","v":16},{"$f":"[1]!PowerMod($A114,M$2,$A$2)","v":10},{"$f":"[1]!PowerMod($A114,N$2,$A$2)","v":13},{"$f":"[1]!PowerMod($A114,O$2,$A$2)","v":25},{"$f":"[1]!PowerMod($A114,P$2,$A$2)","v":19},{"$f":"[1]!PowerMod($A114,Q$2,$A$2)","v":22},{"$f":"[1]!PowerMod($A114,R$2,$A$2)","v":7},{"$f":"[1]!PowerMod($A114,S$2,$A$2)","v":1},{"$f":"[1]!PowerMod($A114,T$2,$A$2)","v":4},{"$f":"[1]!PowerMod($A114,U$2,$A$2)","v":16},{"$f":"[1]!PowerMod($A114,V$2,$A$2)","v":10},{"$f":"[1]!PowerMod($A114,W$2,$A$2)","v":13},{"$f":"[1]!PowerMod($A114,X$2,$A$2)","v":25},{"$f":"[1]!PowerMod($A114,Y$2,$A$2)","v":19},{"$f":"[1]!PowerMod($A114,Z$2,$A$2)","v":22},{"$f":"[1]!PowerMod($A114,AA$2,$A$2)","v":7},{"$f":"[1]!PowerMod($A114,AB$2,$A$2)","v":1},{"$f":"[1]!PowerMod($A114,AC$2,$A$2)","v":4},{"$f":"[1]!PowerMod($A114,AD$2,$A$2)","v":16},{"$f":"[1]!PowerMod($A114,AE$2,$A$2)","v":10},{"$f":"[1]!PowerMod($A114,AF$2,$A$2)","v":13},{"$f":"[1]!PowerMod($A114,AG$2,$A$2)","v":25},{"$f":"[1]!PowerMod($A114,AH$2,$A$2)","v":19},{"$f":"[1]!PowerMod($A114,AI$2,$A$2)","v":22},{"$f":"[1]!PowerMod($A114,AJ$2,$A$2)","v":7},{"$f":"[1]!PowerMod($A114,AK$2,$A$2)","v":1},{"$f":"[1]!PowerMod($A114,AL$2,$A$2)","v":4},{"$f":"[1]!PowerMod($A114,AM$2,$A$2)","v":16},{"$f":"[1]!PowerMod($A114,AN$2,$A$2)","v":10},{"$f":"[1]!PowerMod($A114,AO$2,$A$2)","v":13},{"$f":"[1]!PowerMod($A114,AP$2,$A$2)","v":25},{"$f":"[1]!PowerMod($A114,AQ$2,$A$2)","v":19},{"$f":"[1]!PowerMod($A114,AR$2,$A$2)","v":22},{"$f":"[1]!PowerMod($A114,AS$2,$A$2)","v":7},{"$f":"[1]!PowerMod($A114,AT$2,$A$2)","v":1},{"$f":"[1]!PowerMod($A114,AU$2,$A$2)","v":4},{"$f":"[1]!PowerMod($A114,AV$2,$A$2)","v":16},{"$f":"[1]!PowerMod($A114,AW$2,$A$2)","v":10},{"$f":"[1]!PowerMod($A114,AX$2,$A$2)","v":13},{"$f":"[1]!PowerMod($A114,AY$2,$A$2)","v":25},{"$f":"[1]!PowerMod($A114,AZ$2,$A$2)","v":19},{"$f":"[1]!PowerMod($A114,BA$2,$A$2)","v":22},{"$f":"[1]!PowerMod($A114,BB$2,$A$2)","v":7},{"$f":"[1]!PowerMod($A114,BC$2,$A$2)","v":1},{"$f":"[1]!PowerMod($A114,BD$2,$A$2)","v":4},{"$f":"[1]!PowerMod($A114,BE$2,$A$2)","v":16},{"$f":"[1]!PowerMod($A114,BF$2,$A$2)","v":10},{"$f":"[1]!PowerMod($A114,BG$2,$A$2)","v":13},{"$f":"[1]!PowerMod($A114,BH$2,$A$2)","v":25},{"$f":"[1]!PowerMod($A114,BI$2,$A$2)","v":19},{"$f":"[1]!PowerMod($A114,BJ$2,$A$2)","v":22},{"$f":"[1]!PowerMod($A114,BK$2,$A$2)","v":7},{"$f":"[1]!PowerMod($A114,BL$2,$A$2)","v":1},{"$f":"[1]!PowerMod($A114,BM$2,$A$2)","v":4},{"$f":"[1]!PowerMod($A114,BN$2,$A$2)","v":16},{"$f":"[1]!PowerMod($A114,BO$2,$A$2)","v":10},{"$f":"[1]!PowerMod($A114,BP$2,$A$2)","v":13},{"$f":"[1]!PowerMod($A114,BQ$2,$A$2)","v":25},{"$f":"[1]!PowerMod($A114,BR$2,$A$2)","v":19},{"$f":"[1]!PowerMod($A114,BS$2,$A$2)","v":22},{"$f":"[1]!PowerMod($A114,BT$2,$A$2)","v":7}]
[113,{"$f":"[1]!PowerMod($A115,B$2,$A$2)","v":5},{"$f":"[1]!PowerMod($A115,C$2,$A$2)","v":25},{"$f":"[1]!PowerMod($A115,D$2,$A$2)","v":17},{"$f":"[1]!PowerMod($A115,E$2,$A$2)","v":4},{"$f":"[1]!PowerMod($A115,F$2,$A$2)","v":20},{"$f":"[1]!PowerMod($A115,G$2,$A$2)","v":19},{"$f":"[1]!PowerMod($A115,H$2,$A$2)","v":14},{"$f":"[1]!PowerMod($A115,I$2,$A$2)","v":16},{"$f":"[1]!PowerMod($A115,J$2,$A$2)","v":26},{"$f":"[1]!PowerMod($A115,K$2,$A$2)","v":22},{"$f":"[1]!PowerMod($A115,L$2,$A$2)","v":2},{"$f":"[1]!PowerMod($A115,M$2,$A$2)","v":10},{"$f":"[1]!PowerMod($A115,N$2,$A$2)","v":23},{"$f":"[1]!PowerMod($A115,O$2,$A$2)","v":7},{"$f":"[1]!PowerMod($A115,P$2,$A$2)","v":8},{"$f":"[1]!PowerMod($A115,Q$2,$A$2)","v":13},{"$f":"[1]!PowerMod($A115,R$2,$A$2)","v":11},{"$f":"[1]!PowerMod($A115,S$2,$A$2)","v":1},{"$f":"[1]!PowerMod($A115,T$2,$A$2)","v":5},{"$f":"[1]!PowerMod($A115,U$2,$A$2)","v":25},{"$f":"[1]!PowerMod($A115,V$2,$A$2)","v":17},{"$f":"[1]!PowerMod($A115,W$2,$A$2)","v":4},{"$f":"[1]!PowerMod($A115,X$2,$A$2)","v":20},{"$f":"[1]!PowerMod($A115,Y$2,$A$2)","v":19},{"$f":"[1]!PowerMod($A115,Z$2,$A$2)","v":14},{"$f":"[1]!PowerMod($A115,AA$2,$A$2)","v":16},{"$f":"[1]!PowerMod($A115,AB$2,$A$2)","v":26},{"$f":"[1]!PowerMod($A115,AC$2,$A$2)","v":22},{"$f":"[1]!PowerMod($A115,AD$2,$A$2)","v":2},{"$f":"[1]!PowerMod($A115,AE$2,$A$2)","v":10},{"$f":"[1]!PowerMod($A115,AF$2,$A$2)","v":23},{"$f":"[1]!PowerMod($A115,AG$2,$A$2)","v":7},{"$f":"[1]!PowerMod($A115,AH$2,$A$2)","v":8},{"$f":"[1]!PowerMod($A115,AI$2,$A$2)","v":13},{"$f":"[1]!PowerMod($A115,AJ$2,$A$2)","v":11},{"$f":"[1]!PowerMod($A115,AK$2,$A$2)","v":1},{"$f":"[1]!PowerMod($A115,AL$2,$A$2)","v":5},{"$f":"[1]!PowerMod($A115,AM$2,$A$2)","v":25},{"$f":"[1]!PowerMod($A115,AN$2,$A$2)","v":17},{"$f":"[1]!PowerMod($A115,AO$2,$A$2)","v":4},{"$f":"[1]!PowerMod($A115,AP$2,$A$2)","v":20},{"$f":"[1]!PowerMod($A115,AQ$2,$A$2)","v":19},{"$f":"[1]!PowerMod($A115,AR$2,$A$2)","v":14},{"$f":"[1]!PowerMod($A115,AS$2,$A$2)","v":16},{"$f":"[1]!PowerMod($A115,AT$2,$A$2)","v":26},{"$f":"[1]!PowerMod($A115,AU$2,$A$2)","v":22},{"$f":"[1]!PowerMod($A115,AV$2,$A$2)","v":2},{"$f":"[1]!PowerMod($A115,AW$2,$A$2)","v":10},{"$f":"[1]!PowerMod($A115,AX$2,$A$2)","v":23},{"$f":"[1]!PowerMod($A115,AY$2,$A$2)","v":7},{"$f":"[1]!PowerMod($A115,AZ$2,$A$2)","v":8},{"$f":"[1]!PowerMod($A115,BA$2,$A$2)","v":13},{"$f":"[1]!PowerMod($A115,BB$2,$A$2)","v":11},{"$f":"[1]!PowerMod($A115,BC$2,$A$2)","v":1},{"$f":"[1]!PowerMod($A115,BD$2,$A$2)","v":5},{"$f":"[1]!PowerMod($A115,BE$2,$A$2)","v":25},{"$f":"[1]!PowerMod($A115,BF$2,$A$2)","v":17},{"$f":"[1]!PowerMod($A115,BG$2,$A$2)","v":4},{"$f":"[1]!PowerMod($A115,BH$2,$A$2)","v":20},{"$f":"[1]!PowerMod($A115,BI$2,$A$2)","v":19},{"$f":"[1]!PowerMod($A115,BJ$2,$A$2)","v":14},{"$f":"[1]!PowerMod($A115,BK$2,$A$2)","v":16},{"$f":"[1]!PowerMod($A115,BL$2,$A$2)","v":26},{"$f":"[1]!PowerMod($A115,BM$2,$A$2)","v":22},{"$f":"[1]!PowerMod($A115,BN$2,$A$2)","v":2},{"$f":"[1]!PowerMod($A115,BO$2,$A$2)","v":10},{"$f":"[1]!PowerMod($A115,BP$2,$A$2)","v":23},{"$f":"[1]!PowerMod($A115,BQ$2,$A$2)","v":7},{"$f":"[1]!PowerMod($A115,BR$2,$A$2)","v":8},{"$f":"[1]!PowerMod($A115,BS$2,$A$2)","v":13},{"$f":"[1]!PowerMod($A115,BT$2,$A$2)","v":11}]
[114,{"$f":"[1]!PowerMod($A116,B$2,$A$2)","v":6},{"$f":"[1]!PowerMod($A116,C$2,$A$2)","v":9},{"$f":"[1]!PowerMod($A116,D$2,$A$2)","v":0},{"$f":"[1]!PowerMod($A116,E$2,$A$2)","v":0},{"$f":"[1]!PowerMod($A116,F$2,$A$2)","v":0},{"$f":"[1]!PowerMod($A116,G$2,$A$2)","v":0},{"$f":"[1]!PowerMod($A116,H$2,$A$2)","v":0},{"$f":"[1]!PowerMod($A116,I$2,$A$2)","v":0},{"$f":"[1]!PowerMod($A116,J$2,$A$2)","v":0},{"$f":"[1]!PowerMod($A116,K$2,$A$2)","v":0},{"$f":"[1]!PowerMod($A116,L$2,$A$2)","v":0},{"$f":"[1]!PowerMod($A116,M$2,$A$2)","v":0},{"$f":"[1]!PowerMod($A116,N$2,$A$2)","v":0},{"$f":"[1]!PowerMod($A116,O$2,$A$2)","v":0},{"$f":"[1]!PowerMod($A116,P$2,$A$2)","v":0},{"$f":"[1]!PowerMod($A116,Q$2,$A$2)","v":0},{"$f":"[1]!PowerMod($A116,R$2,$A$2)","v":0},{"$f":"[1]!PowerMod($A116,S$2,$A$2)","v":0},{"$f":"[1]!PowerMod($A116,T$2,$A$2)","v":0},{"$f":"[1]!PowerMod($A116,U$2,$A$2)","v":0},{"$f":"[1]!PowerMod($A116,V$2,$A$2)","v":0},{"$f":"[1]!PowerMod($A116,W$2,$A$2)","v":0},{"$f":"[1]!PowerMod($A116,X$2,$A$2)","v":0},{"$f":"[1]!PowerMod($A116,Y$2,$A$2)","v":0},{"$f":"[1]!PowerMod($A116,Z$2,$A$2)","v":0},{"$f":"[1]!PowerMod($A116,AA$2,$A$2)","v":0},{"$f":"[1]!PowerMod($A116,AB$2,$A$2)","v":0},{"$f":"[1]!PowerMod($A116,AC$2,$A$2)","v":0},{"$f":"[1]!PowerMod($A116,AD$2,$A$2)","v":0},{"$f":"[1]!PowerMod($A116,AE$2,$A$2)","v":0},{"$f":"[1]!PowerMod($A116,AF$2,$A$2)","v":0},{"$f":"[1]!PowerMod($A116,AG$2,$A$2)","v":0},{"$f":"[1]!PowerMod($A116,AH$2,$A$2)","v":0},{"$f":"[1]!PowerMod($A116,AI$2,$A$2)","v":0},{"$f":"[1]!PowerMod($A116,AJ$2,$A$2)","v":0},{"$f":"[1]!PowerMod($A116,AK$2,$A$2)","v":0},{"$f":"[1]!PowerMod($A116,AL$2,$A$2)","v":0},{"$f":"[1]!PowerMod($A116,AM$2,$A$2)","v":0},{"$f":"[1]!PowerMod($A116,AN$2,$A$2)","v":0},{"$f":"[1]!PowerMod($A116,AO$2,$A$2)","v":0},{"$f":"[1]!PowerMod($A116,AP$2,$A$2)","v":0},{"$f":"[1]!PowerMod($A116,AQ$2,$A$2)","v":0},{"$f":"[1]!PowerMod($A116,AR$2,$A$2)","v":0},{"$f":"[1]!PowerMod($A116,AS$2,$A$2)","v":0},{"$f":"[1]!PowerMod($A116,AT$2,$A$2)","v":0},{"$f":"[1]!PowerMod($A116,AU$2,$A$2)","v":0},{"$f":"[1]!PowerMod($A116,AV$2,$A$2)","v":0},{"$f":"[1]!PowerMod($A116,AW$2,$A$2)","v":0},{"$f":"[1]!PowerMod($A116,AX$2,$A$2)","v":0},{"$f":"[1]!PowerMod($A116,AY$2,$A$2)","v":0},{"$f":"[1]!PowerMod($A116,AZ$2,$A$2)","v":0},{"$f":"[1]!PowerMod($A116,BA$2,$A$2)","v":0},{"$f":"[1]!PowerMod($A116,BB$2,$A$2)","v":0},{"$f":"[1]!PowerMod($A116,BC$2,$A$2)","v":0},{"$f":"[1]!PowerMod($A116,BD$2,$A$2)","v":0},{"$f":"[1]!PowerMod($A116,BE$2,$A$2)","v":0},{"$f":"[1]!PowerMod($A116,BF$2,$A$2)","v":0},{"$f":"[1]!PowerMod($A116,BG$2,$A$2)","v":0},{"$f":"[1]!PowerMod($A116,BH$2,$A$2)","v":0},{"$f":"[1]!PowerMod($A116,BI$2,$A$2)","v":0},{"$f":"[1]!PowerMod($A116,BJ$2,$A$2)","v":0},{"$f":"[1]!PowerMod($A116,BK$2,$A$2)","v":0},{"$f":"[1]!PowerMod($A116,BL$2,$A$2)","v":0},{"$f":"[1]!PowerMod($A116,BM$2,$A$2)","v":0},{"$f":"[1]!PowerMod($A116,BN$2,$A$2)","v":0},{"$f":"[1]!PowerMod($A116,BO$2,$A$2)","v":0},{"$f":"[1]!PowerMod($A116,BP$2,$A$2)","v":0},{"$f":"[1]!PowerMod($A116,BQ$2,$A$2)","v":0},{"$f":"[1]!PowerMod($A116,BR$2,$A$2)","v":0},{"$f":"[1]!PowerMod($A116,BS$2,$A$2)","v":0},{"$f":"[1]!PowerMod($A116,BT$2,$A$2)","v":0}]
[115,{"$f":"[1]!PowerMod($A117,B$2,$A$2)","v":7},{"$f":"[1]!PowerMod($A117,C$2,$A$2)","v":22},{"$f":"[1]!PowerMod($A117,D$2,$A$2)","v":19},{"$f":"[1]!PowerMod($A117,E$2,$A$2)","v":25},{"$f":"[1]!PowerMod($A117,F$2,$A$2)","v":13},{"$f":"[1]!PowerMod($A117,G$2,$A$2)","v":10},{"$f":"[1]!PowerMod($A117,H$2,$A$2)","v":16},{"$f":"[1]!PowerMod($A117,I$2,$A$2)","v":4},{"$f":"[1]!PowerMod($A117,J$2,$A$2)","v":1},{"$f":"[1]!PowerMod($A117,K$2,$A$2)","v":7},{"$f":"[1]!PowerMod($A117,L$2,$A$2)","v":22},{"$f":"[1]!PowerMod($A117,M$2,$A$2)","v":19},{"$f":"[1]!PowerMod($A117,N$2,$A$2)","v":25},{"$f":"[1]!PowerMod($A117,O$2,$A$2)","v":13},{"$f":"[1]!PowerMod($A117,P$2,$A$2)","v":10},{"$f":"[1]!PowerMod($A117,Q$2,$A$2)","v":16},{"$f":"[1]!PowerMod($A117,R$2,$A$2)","v":4},{"$f":"[1]!PowerMod($A117,S$2,$A$2)","v":1},{"$f":"[1]!PowerMod($A117,T$2,$A$2)","v":7},{"$f":"[1]!PowerMod($A117,U$2,$A$2)","v":22},{"$f":"[1]!PowerMod($A117,V$2,$A$2)","v":19},{"$f":"[1]!PowerMod($A117,W$2,$A$2)","v":25},{"$f":"[1]!PowerMod($A117,X$2,$A$2)","v":13},{"$f":"[1]!PowerMod($A117,Y$2,$A$2)","v":10},{"$f":"[1]!PowerMod($A117,Z$2,$A$2)","v":16},{"$f":"[1]!PowerMod($A117,AA$2,$A$2)","v":4},{"$f":"[1]!PowerMod($A117,AB$2,$A$2)","v":1},{"$f":"[1]!PowerMod($A117,AC$2,$A$2)","v":7},{"$f":"[1]!PowerMod($A117,AD$2,$A$2)","v":22},{"$f":"[1]!PowerMod($A117,AE$2,$A$2)","v":19},{"$f":"[1]!PowerMod($A117,AF$2,$A$2)","v":25},{"$f":"[1]!PowerMod($A117,AG$2,$A$2)","v":13},{"$f":"[1]!PowerMod($A117,AH$2,$A$2)","v":10},{"$f":"[1]!PowerMod($A117,AI$2,$A$2)","v":16},{"$f":"[1]!PowerMod($A117,AJ$2,$A$2)","v":4},{"$f":"[1]!PowerMod($A117,AK$2,$A$2)","v":1},{"$f":"[1]!PowerMod($A117,AL$2,$A$2)","v":7},{"$f":"[1]!PowerMod($A117,AM$2,$A$2)","v":22},{"$f":"[1]!PowerMod($A117,AN$2,$A$2)","v":19},{"$f":"[1]!PowerMod($A117,AO$2,$A$2)","v":25},{"$f":"[1]!PowerMod($A117,AP$2,$A$2)","v":13},{"$f":"[1]!PowerMod($A117,AQ$2,$A$2)","v":10},{"$f":"[1]!PowerMod($A117,AR$2,$A$2)","v":16},{"$f":"[1]!PowerMod($A117,AS$2,$A$2)","v":4},{"$f":"[1]!PowerMod($A117,AT$2,$A$2)","v":1},{"$f":"[1]!PowerMod($A117,AU$2,$A$2)","v":7},{"$f":"[1]!PowerMod($A117,AV$2,$A$2)","v":22},{"$f":"[1]!PowerMod($A117,AW$2,$A$2)","v":19},{"$f":"[1]!PowerMod($A117,AX$2,$A$2)","v":25},{"$f":"[1]!PowerMod($A117,AY$2,$A$2)","v":13},{"$f":"[1]!PowerMod($A117,AZ$2,$A$2)","v":10},{"$f":"[1]!PowerMod($A117,BA$2,$A$2)","v":16},{"$f":"[1]!PowerMod($A117,BB$2,$A$2)","v":4},{"$f":"[1]!PowerMod($A117,BC$2,$A$2)","v":1},{"$f":"[1]!PowerMod($A117,BD$2,$A$2)","v":7},{"$f":"[1]!PowerMod($A117,BE$2,$A$2)","v":22},{"$f":"[1]!PowerMod($A117,BF$2,$A$2)","v":19},{"$f":"[1]!PowerMod($A117,BG$2,$A$2)","v":25},{"$f":"[1]!PowerMod($A117,BH$2,$A$2)","v":13},{"$f":"[1]!PowerMod($A117,BI$2,$A$2)","v":10},{"$f":"[1]!PowerMod($A117,BJ$2,$A$2)","v":16},{"$f":"[1]!PowerMod($A117,BK$2,$A$2)","v":4},{"$f":"[1]!PowerMod($A117,BL$2,$A$2)","v":1},{"$f":"[1]!PowerMod($A117,BM$2,$A$2)","v":7},{"$f":"[1]!PowerMod($A117,BN$2,$A$2)","v":22},{"$f":"[1]!PowerMod($A117,BO$2,$A$2)","v":19},{"$f":"[1]!PowerMod($A117,BP$2,$A$2)","v":25},{"$f":"[1]!PowerMod($A117,BQ$2,$A$2)","v":13},{"$f":"[1]!PowerMod($A117,BR$2,$A$2)","v":10},{"$f":"[1]!PowerMod($A117,BS$2,$A$2)","v":16},{"$f":"[1]!PowerMod($A117,BT$2,$A$2)","v":4}]
[116,{"$f":"[1]!PowerMod($A118,B$2,$A$2)","v":8},{"$f":"[1]!PowerMod($A118,C$2,$A$2)","v":10},{"$f":"[1]!PowerMod($A118,D$2,$A$2)","v":26},{"$f":"[1]!PowerMod($A118,E$2,$A$2)","v":19},{"$f":"[1]!PowerMod($A118,F$2,$A$2)","v":17},{"$f":"[1]!PowerMod($A118,G$2,$A$2)","v":1},{"$f":"[1]!PowerMod($A118,H$2,$A$2)","v":8},{"$f":"[1]!PowerMod($A118,I$2,$A$2)","v":10},{"$f":"[1]!PowerMod($A118,J$2,$A$2)","v":26},{"$f":"[1]!PowerMod($A118,K$2,$A$2)","v":19},{"$f":"[1]!PowerMod($A118,L$2,$A$2)","v":17},{"$f":"[1]!PowerMod($A118,M$2,$A$2)","v":1},{"$f":"[1]!PowerMod($A118,N$2,$A$2)","v":8},{"$f":"[1]!PowerMod($A118,O$2,$A$2)","v":10},{"$f":"[1]!PowerMod($A118,P$2,$A$2)","v":26},{"$f":"[1]!PowerMod($A118,Q$2,$A$2)","v":19},{"$f":"[1]!PowerMod($A118,R$2,$A$2)","v":17},{"$f":"[1]!PowerMod($A118,S$2,$A$2)","v":1},{"$f":"[1]!PowerMod($A118,T$2,$A$2)","v":8},{"$f":"[1]!PowerMod($A118,U$2,$A$2)","v":10},{"$f":"[1]!PowerMod($A118,V$2,$A$2)","v":26},{"$f":"[1]!PowerMod($A118,W$2,$A$2)","v":19},{"$f":"[1]!PowerMod($A118,X$2,$A$2)","v":17},{"$f":"[1]!PowerMod($A118,Y$2,$A$2)","v":1},{"$f":"[1]!PowerMod($A118,Z$2,$A$2)","v":8},{"$f":"[1]!PowerMod($A118,AA$2,$A$2)","v":10},{"$f":"[1]!PowerMod($A118,AB$2,$A$2)","v":26},{"$f":"[1]!PowerMod($A118,AC$2,$A$2)","v":19},{"$f":"[1]!PowerMod($A118,AD$2,$A$2)","v":17},{"$f":"[1]!PowerMod($A118,AE$2,$A$2)","v":1},{"$f":"[1]!PowerMod($A118,AF$2,$A$2)","v":8},{"$f":"[1]!PowerMod($A118,AG$2,$A$2)","v":10},{"$f":"[1]!PowerMod($A118,AH$2,$A$2)","v":26},{"$f":"[1]!PowerMod($A118,AI$2,$A$2)","v":19},{"$f":"[1]!PowerMod($A118,AJ$2,$A$2)","v":17},{"$f":"[1]!PowerMod($A118,AK$2,$A$2)","v":1},{"$f":"[1]!PowerMod($A118,AL$2,$A$2)","v":8},{"$f":"[1]!PowerMod($A118,AM$2,$A$2)","v":10},{"$f":"[1]!PowerMod($A118,AN$2,$A$2)","v":26},{"$f":"[1]!PowerMod($A118,AO$2,$A$2)","v":19},{"$f":"[1]!PowerMod($A118,AP$2,$A$2)","v":17},{"$f":"[1]!PowerMod($A118,AQ$2,$A$2)","v":1},{"$f":"[1]!PowerMod($A118,AR$2,$A$2)","v":8},{"$f":"[1]!PowerMod($A118,AS$2,$A$2)","v":10},{"$f":"[1]!PowerMod($A118,AT$2,$A$2)","v":26},{"$f":"[1]!PowerMod($A118,AU$2,$A$2)","v":19},{"$f":"[1]!PowerMod($A118,AV$2,$A$2)","v":17},{"$f":"[1]!PowerMod($A118,AW$2,$A$2)","v":1},{"$f":"[1]!PowerMod($A118,AX$2,$A$2)","v":8},{"$f":"[1]!PowerMod($A118,AY$2,$A$2)","v":10},{"$f":"[1]!PowerMod($A118,AZ$2,$A$2)","v":26},{"$f":"[1]!PowerMod($A118,BA$2,$A$2)","v":19},{"$f":"[1]!PowerMod($A118,BB$2,$A$2)","v":17},{"$f":"[1]!PowerMod($A118,BC$2,$A$2)","v":1},{"$f":"[1]!PowerMod($A118,BD$2,$A$2)","v":8},{"$f":"[1]!PowerMod($A118,BE$2,$A$2)","v":10},{"$f":"[1]!PowerMod($A118,BF$2,$A$2)","v":26},{"$f":"[1]!PowerMod($A118,BG$2,$A$2)","v":19},{"$f":"[1]!PowerMod($A118,BH$2,$A$2)","v":17},{"$f":"[1]!PowerMod($A118,BI$2,$A$2)","v":1},{"$f":"[1]!PowerMod($A118,BJ$2,$A$2)","v":8},{"$f":"[1]!PowerMod($A118,BK$2,$A$2)","v":10},{"$f":"[1]!PowerMod($A118,BL$2,$A$2)","v":26},{"$f":"[1]!PowerMod($A118,BM$2,$A$2)","v":19},{"$f":"[1]!PowerMod($A118,BN$2,$A$2)","v":17},{"$f":"[1]!PowerMod($A118,BO$2,$A$2)","v":1},{"$f":"[1]!PowerMod($A118,BP$2,$A$2)","v":8},{"$f":"[1]!PowerMod($A118,BQ$2,$A$2)","v":10},{"$f":"[1]!PowerMod($A118,BR$2,$A$2)","v":26},{"$f":"[1]!PowerMod($A118,BS$2,$A$2)","v":19},{"$f":"[1]!PowerMod($A118,BT$2,$A$2)","v":17}]
[117,{"$f":"[1]!PowerMod($A119,B$2,$A$2)","v":9},{"$f":"[1]!PowerMod($A119,C$2,$A$2)","v":0},{"$f":"[1]!PowerMod($A119,D$2,$A$2)","v":0},{"$f":"[1]!PowerMod($A119,E$2,$A$2)","v":0},{"$f":"[1]!PowerMod($A119,F$2,$A$2)","v":0},{"$f":"[1]!PowerMod($A119,G$2,$A$2)","v":0},{"$f":"[1]!PowerMod($A119,H$2,$A$2)","v":0},{"$f":"[1]!PowerMod($A119,I$2,$A$2)","v":0},{"$f":"[1]!PowerMod($A119,J$2,$A$2)","v":0},{"$f":"[1]!PowerMod($A119,K$2,$A$2)","v":0},{"$f":"[1]!PowerMod($A119,L$2,$A$2)","v":0},{"$f":"[1]!PowerMod($A119,M$2,$A$2)","v":0},{"$f":"[1]!PowerMod($A119,N$2,$A$2)","v":0},{"$f":"[1]!PowerMod($A119,O$2,$A$2)","v":0},{"$f":"[1]!PowerMod($A119,P$2,$A$2)","v":0},{"$f":"[1]!PowerMod($A119,Q$2,$A$2)","v":0},{"$f":"[1]!PowerMod($A119,R$2,$A$2)","v":0},{"$f":"[1]!PowerMod($A119,S$2,$A$2)","v":0},{"$f":"[1]!PowerMod($A119,T$2,$A$2)","v":0},{"$f":"[1]!PowerMod($A119,U$2,$A$2)","v":0},{"$f":"[1]!PowerMod($A119,V$2,$A$2)","v":0},{"$f":"[1]!PowerMod($A119,W$2,$A$2)","v":0},{"$f":"[1]!PowerMod($A119,X$2,$A$2)","v":0},{"$f":"[1]!PowerMod($A119,Y$2,$A$2)","v":0},{"$f":"[1]!PowerMod($A119,Z$2,$A$2)","v":0},{"$f":"[1]!PowerMod($A119,AA$2,$A$2)","v":0},{"$f":"[1]!PowerMod($A119,AB$2,$A$2)","v":0},{"$f":"[1]!PowerMod($A119,AC$2,$A$2)","v":0},{"$f":"[1]!PowerMod($A119,AD$2,$A$2)","v":0},{"$f":"[1]!PowerMod($A119,AE$2,$A$2)","v":0},{"$f":"[1]!PowerMod($A119,AF$2,$A$2)","v":0},{"$f":"[1]!PowerMod($A119,AG$2,$A$2)","v":0},{"$f":"[1]!PowerMod($A119,AH$2,$A$2)","v":0},{"$f":"[1]!PowerMod($A119,AI$2,$A$2)","v":0},{"$f":"[1]!PowerMod($A119,AJ$2,$A$2)","v":0},{"$f":"[1]!PowerMod($A119,AK$2,$A$2)","v":0},{"$f":"[1]!PowerMod($A119,AL$2,$A$2)","v":0},{"$f":"[1]!PowerMod($A119,AM$2,$A$2)","v":0},{"$f":"[1]!PowerMod($A119,AN$2,$A$2)","v":0},{"$f":"[1]!PowerMod($A119,AO$2,$A$2)","v":0},{"$f":"[1]!PowerMod($A119,AP$2,$A$2)","v":0},{"$f":"[1]!PowerMod($A119,AQ$2,$A$2)","v":0},{"$f":"[1]!PowerMod($A119,AR$2,$A$2)","v":0},{"$f":"[1]!PowerMod($A119,AS$2,$A$2)","v":0},{"$f":"[1]!PowerMod($A119,AT$2,$A$2)","v":0},{"$f":"[1]!PowerMod($A119,AU$2,$A$2)","v":0},{"$f":"[1]!PowerMod($A119,AV$2,$A$2)","v":0},{"$f":"[1]!PowerMod($A119,AW$2,$A$2)","v":0},{"$f":"[1]!PowerMod($A119,AX$2,$A$2)","v":0},{"$f":"[1]!PowerMod($A119,AY$2,$A$2)","v":0},{"$f":"[1]!PowerMod($A119,AZ$2,$A$2)","v":0},{"$f":"[1]!PowerMod($A119,BA$2,$A$2)","v":0},{"$f":"[1]!PowerMod($A119,BB$2,$A$2)","v":0},{"$f":"[1]!PowerMod($A119,BC$2,$A$2)","v":0},{"$f":"[1]!PowerMod($A119,BD$2,$A$2)","v":0},{"$f":"[1]!PowerMod($A119,BE$2,$A$2)","v":0},{"$f":"[1]!PowerMod($A119,BF$2,$A$2)","v":0},{"$f":"[1]!PowerMod($A119,BG$2,$A$2)","v":0},{"$f":"[1]!PowerMod($A119,BH$2,$A$2)","v":0},{"$f":"[1]!PowerMod($A119,BI$2,$A$2)","v":0},{"$f":"[1]!PowerMod($A119,BJ$2,$A$2)","v":0},{"$f":"[1]!PowerMod($A119,BK$2,$A$2)","v":0},{"$f":"[1]!PowerMod($A119,BL$2,$A$2)","v":0},{"$f":"[1]!PowerMod($A119,BM$2,$A$2)","v":0},{"$f":"[1]!PowerMod($A119,BN$2,$A$2)","v":0},{"$f":"[1]!PowerMod($A119,BO$2,$A$2)","v":0},{"$f":"[1]!PowerMod($A119,BP$2,$A$2)","v":0},{"$f":"[1]!PowerMod($A119,BQ$2,$A$2)","v":0},{"$f":"[1]!PowerMod($A119,BR$2,$A$2)","v":0},{"$f":"[1]!PowerMod($A119,BS$2,$A$2)","v":0},{"$f":"[1]!PowerMod($A119,BT$2,$A$2)","v":0}]
[118,{"$f":"[1]!PowerMod($A120,B$2,$A$2)","v":10},{"$f":"[1]!PowerMod($A120,C$2,$A$2)","v":19},{"$f":"[1]!PowerMod($A120,D$2,$A$2)","v":1},{"$f":"[1]!PowerMod($A120,E$2,$A$2)","v":10},{"$f":"[1]!PowerMod($A120,F$2,$A$2)","v":19},{"$f":"[1]!PowerMod($A120,G$2,$A$2)","v":1},{"$f":"[1]!PowerMod($A120,H$2,$A$2)","v":10},{"$f":"[1]!PowerMod($A120,I$2,$A$2)","v":19},{"$f":"[1]!PowerMod($A120,J$2,$A$2)","v":1},{"$f":"[1]!PowerMod($A120,K$2,$A$2)","v":10},{"$f":"[1]!PowerMod($A120,L$2,$A$2)","v":19},{"$f":"[1]!PowerMod($A120,M$2,$A$2)","v":1},{"$f":"[1]!PowerMod($A120,N$2,$A$2)","v":10},{"$f":"[1]!PowerMod($A120,O$2,$A$2)","v":19},{"$f":"[1]!PowerMod($A120,P$2,$A$2)","v":1},{"$f":"[1]!PowerMod($A120,Q$2,$A$2)","v":10},{"$f":"[1]!PowerMod($A120,R$2,$A$2)","v":19},{"$f":"[1]!PowerMod($A120,S$2,$A$2)","v":1},{"$f":"[1]!PowerMod($A120,T$2,$A$2)","v":10},{"$f":"[1]!PowerMod($A120,U$2,$A$2)","v":19},{"$f":"[1]!PowerMod($A120,V$2,$A$2)","v":1},{"$f":"[1]!PowerMod($A120,W$2,$A$2)","v":10},{"$f":"[1]!PowerMod($A120,X$2,$A$2)","v":19},{"$f":"[1]!PowerMod($A120,Y$2,$A$2)","v":1},{"$f":"[1]!PowerMod($A120,Z$2,$A$2)","v":10},{"$f":"[1]!PowerMod($A120,AA$2,$A$2)","v":19},{"$f":"[1]!PowerMod($A120,AB$2,$A$2)","v":1},{"$f":"[1]!PowerMod($A120,AC$2,$A$2)","v":10},{"$f":"[1]!PowerMod($A120,AD$2,$A$2)","v":19},{"$f":"[1]!PowerMod($A120,AE$2,$A$2)","v":1},{"$f":"[1]!PowerMod($A120,AF$2,$A$2)","v":10},{"$f":"[1]!PowerMod($A120,AG$2,$A$2)","v":19},{"$f":"[1]!PowerMod($A120,AH$2,$A$2)","v":1},{"$f":"[1]!PowerMod($A120,AI$2,$A$2)","v":10},{"$f":"[1]!PowerMod($A120,AJ$2,$A$2)","v":19},{"$f":"[1]!PowerMod($A120,AK$2,$A$2)","v":1},{"$f":"[1]!PowerMod($A120,AL$2,$A$2)","v":10},{"$f":"[1]!PowerMod($A120,AM$2,$A$2)","v":19},{"$f":"[1]!PowerMod($A120,AN$2,$A$2)","v":1},{"$f":"[1]!PowerMod($A120,AO$2,$A$2)","v":10},{"$f":"[1]!PowerMod($A120,AP$2,$A$2)","v":19},{"$f":"[1]!PowerMod($A120,AQ$2,$A$2)","v":1},{"$f":"[1]!PowerMod($A120,AR$2,$A$2)","v":10},{"$f":"[1]!PowerMod($A120,AS$2,$A$2)","v":19},{"$f":"[1]!PowerMod($A120,AT$2,$A$2)","v":1},{"$f":"[1]!PowerMod($A120,AU$2,$A$2)","v":10},{"$f":"[1]!PowerMod($A120,AV$2,$A$2)","v":19},{"$f":"[1]!PowerMod($A120,AW$2,$A$2)","v":1},{"$f":"[1]!PowerMod($A120,AX$2,$A$2)","v":10},{"$f":"[1]!PowerMod($A120,AY$2,$A$2)","v":19},{"$f":"[1]!PowerMod($A120,AZ$2,$A$2)","v":1},{"$f":"[1]!PowerMod($A120,BA$2,$A$2)","v":10},{"$f":"[1]!PowerMod($A120,BB$2,$A$2)","v":19},{"$f":"[1]!PowerMod($A120,BC$2,$A$2)","v":1},{"$f":"[1]!PowerMod($A120,BD$2,$A$2)","v":10},{"$f":"[1]!PowerMod($A120,BE$2,$A$2)","v":19},{"$f":"[1]!PowerMod($A120,BF$2,$A$2)","v":1},{"$f":"[1]!PowerMod($A120,BG$2,$A$2)","v":10},{"$f":"[1]!PowerMod($A120,BH$2,$A$2)","v":19},{"$f":"[1]!PowerMod($A120,BI$2,$A$2)","v":1},{"$f":"[1]!PowerMod($A120,BJ$2,$A$2)","v":10},{"$f":"[1]!PowerMod($A120,BK$2,$A$2)","v":19},{"$f":"[1]!PowerMod($A120,BL$2,$A$2)","v":1},{"$f":"[1]!PowerMod($A120,BM$2,$A$2)","v":10},{"$f":"[1]!PowerMod($A120,BN$2,$A$2)","v":19},{"$f":"[1]!PowerMod($A120,BO$2,$A$2)","v":1},{"$f":"[1]!PowerMod($A120,BP$2,$A$2)","v":10},{"$f":"[1]!PowerMod($A120,BQ$2,$A$2)","v":19},{"$f":"[1]!PowerMod($A120,BR$2,$A$2)","v":1},{"$f":"[1]!PowerMod($A120,BS$2,$A$2)","v":10},{"$f":"[1]!PowerMod($A120,BT$2,$A$2)","v":19}]
[119,{"$f":"[1]!PowerMod($A121,B$2,$A$2)","v":11},{"$f":"[1]!PowerMod($A121,C$2,$A$2)","v":13},{"$f":"[1]!PowerMod($A121,D$2,$A$2)","v":8},{"$f":"[1]!PowerMod($A121,E$2,$A$2)","v":7},{"$f":"[1]!PowerMod($A121,F$2,$A$2)","v":23},{"$f":"[1]!PowerMod($A121,G$2,$A$2)","v":10},{"$f":"[1]!PowerMod($A121,H$2,$A$2)","v":2},{"$f":"[1]!PowerMod($A121,I$2,$A$2)","v":22},{"$f":"[1]!PowerMod($A121,J$2,$A$2)","v":26},{"$f":"[1]!PowerMod($A121,K$2,$A$2)","v":16},{"$f":"[1]!PowerMod($A121,L$2,$A$2)","v":14},{"$f":"[1]!PowerMod($A121,M$2,$A$2)","v":19},{"$f":"[1]!PowerMod($A121,N$2,$A$2)","v":20},{"$f":"[1]!PowerMod($A121,O$2,$A$2)","v":4},{"$f":"[1]!PowerMod($A121,P$2,$A$2)","v":17},{"$f":"[1]!PowerMod($A121,Q$2,$A$2)","v":25},{"$f":"[1]!PowerMod($A121,R$2,$A$2)","v":5},{"$f":"[1]!PowerMod($A121,S$2,$A$2)","v":1},{"$f":"[1]!PowerMod($A121,T$2,$A$2)","v":11},{"$f":"[1]!PowerMod($A121,U$2,$A$2)","v":13},{"$f":"[1]!PowerMod($A121,V$2,$A$2)","v":8},{"$f":"[1]!PowerMod($A121,W$2,$A$2)","v":7},{"$f":"[1]!PowerMod($A121,X$2,$A$2)","v":23},{"$f":"[1]!PowerMod($A121,Y$2,$A$2)","v":10},{"$f":"[1]!PowerMod($A121,Z$2,$A$2)","v":2},{"$f":"[1]!PowerMod($A121,AA$2,$A$2)","v":22},{"$f":"[1]!PowerMod($A121,AB$2,$A$2)","v":26},{"$f":"[1]!PowerMod($A121,AC$2,$A$2)","v":16},{"$f":"[1]!PowerMod($A121,AD$2,$A$2)","v":14},{"$f":"[1]!PowerMod($A121,AE$2,$A$2)","v":19},{"$f":"[1]!PowerMod($A121,AF$2,$A$2)","v":20},{"$f":"[1]!PowerMod($A121,AG$2,$A$2)","v":4},{"$f":"[1]!PowerMod($A121,AH$2,$A$2)","v":17},{"$f":"[1]!PowerMod($A121,AI$2,$A$2)","v":25},{"$f":"[1]!PowerMod($A121,AJ$2,$A$2)","v":5},{"$f":"[1]!PowerMod($A121,AK$2,$A$2)","v":1},{"$f":"[1]!PowerMod($A121,AL$2,$A$2)","v":11},{"$f":"[1]!PowerMod($A121,AM$2,$A$2)","v":13},{"$f":"[1]!PowerMod($A121,AN$2,$A$2)","v":8},{"$f":"[1]!PowerMod($A121,AO$2,$A$2)","v":7},{"$f":"[1]!PowerMod($A121,AP$2,$A$2)","v":23},{"$f":"[1]!PowerMod($A121,AQ$2,$A$2)","v":10},{"$f":"[1]!PowerMod($A121,AR$2,$A$2)","v":2},{"$f":"[1]!PowerMod($A121,AS$2,$A$2)","v":22},{"$f":"[1]!PowerMod($A121,AT$2,$A$2)","v":26},{"$f":"[1]!PowerMod($A121,AU$2,$A$2)","v":16},{"$f":"[1]!PowerMod($A121,AV$2,$A$2)","v":14},{"$f":"[1]!PowerMod($A121,AW$2,$A$2)","v":19},{"$f":"[1]!PowerMod($A121,AX$2,$A$2)","v":20},{"$f":"[1]!PowerMod($A121,AY$2,$A$2)","v":4},{"$f":"[1]!PowerMod($A121,AZ$2,$A$2)","v":17},{"$f":"[1]!PowerMod($A121,BA$2,$A$2)","v":25},{"$f":"[1]!PowerMod($A121,BB$2,$A$2)","v":5},{"$f":"[1]!PowerMod($A121,BC$2,$A$2)","v":1},{"$f":"[1]!PowerMod($A121,BD$2,$A$2)","v":11},{"$f":"[1]!PowerMod($A121,BE$2,$A$2)","v":13},{"$f":"[1]!PowerMod($A121,BF$2,$A$2)","v":8},{"$f":"[1]!PowerMod($A121,BG$2,$A$2)","v":7},{"$f":"[1]!PowerMod($A121,BH$2,$A$2)","v":23},{"$f":"[1]!PowerMod($A121,BI$2,$A$2)","v":10},{"$f":"[1]!PowerMod($A121,BJ$2,$A$2)","v":2},{"$f":"[1]!PowerMod($A121,BK$2,$A$2)","v":22},{"$f":"[1]!PowerMod($A121,BL$2,$A$2)","v":26},{"$f":"[1]!PowerMod($A121,BM$2,$A$2)","v":16},{"$f":"[1]!PowerMod($A121,BN$2,$A$2)","v":14},{"$f":"[1]!PowerMod($A121,BO$2,$A$2)","v":19},{"$f":"[1]!PowerMod($A121,BP$2,$A$2)","v":20},{"$f":"[1]!PowerMod($A121,BQ$2,$A$2)","v":4},{"$f":"[1]!PowerMod($A121,BR$2,$A$2)","v":17},{"$f":"[1]!PowerMod($A121,BS$2,$A$2)","v":25},{"$f":"[1]!PowerMod($A121,BT$2,$A$2)","v":5}]
[120,{"$f":"[1]!PowerMod($A122,B$2,$A$2)","v":12},{"$f":"[1]!PowerMod($A122,C$2,$A$2)","v":9},{"$f":"[1]!PowerMod($A122,D$2,$A$2)","v":0},{"$f":"[1]!PowerMod($A122,E$2,$A$2)","v":0},{"$f":"[1]!PowerMod($A122,F$2,$A$2)","v":0},{"$f":"[1]!PowerMod($A122,G$2,$A$2)","v":0},{"$f":"[1]!PowerMod($A122,H$2,$A$2)","v":0},{"$f":"[1]!PowerMod($A122,I$2,$A$2)","v":0},{"$f":"[1]!PowerMod($A122,J$2,$A$2)","v":0},{"$f":"[1]!PowerMod($A122,K$2,$A$2)","v":0},{"$f":"[1]!PowerMod($A122,L$2,$A$2)","v":0},{"$f":"[1]!PowerMod($A122,M$2,$A$2)","v":0},{"$f":"[1]!PowerMod($A122,N$2,$A$2)","v":0},{"$f":"[1]!PowerMod($A122,O$2,$A$2)","v":0},{"$f":"[1]!PowerMod($A122,P$2,$A$2)","v":0},{"$f":"[1]!PowerMod($A122,Q$2,$A$2)","v":0},{"$f":"[1]!PowerMod($A122,R$2,$A$2)","v":0},{"$f":"[1]!PowerMod($A122,S$2,$A$2)","v":0},{"$f":"[1]!PowerMod($A122,T$2,$A$2)","v":0},{"$f":"[1]!PowerMod($A122,U$2,$A$2)","v":0},{"$f":"[1]!PowerMod($A122,V$2,$A$2)","v":0},{"$f":"[1]!PowerMod($A122,W$2,$A$2)","v":0},{"$f":"[1]!PowerMod($A122,X$2,$A$2)","v":0},{"$f":"[1]!PowerMod($A122,Y$2,$A$2)","v":0},{"$f":"[1]!PowerMod($A122,Z$2,$A$2)","v":0},{"$f":"[1]!PowerMod($A122,AA$2,$A$2)","v":0},{"$f":"[1]!PowerMod($A122,AB$2,$A$2)","v":0},{"$f":"[1]!PowerMod($A122,AC$2,$A$2)","v":0},{"$f":"[1]!PowerMod($A122,AD$2,$A$2)","v":0},{"$f":"[1]!PowerMod($A122,AE$2,$A$2)","v":0},{"$f":"[1]!PowerMod($A122,AF$2,$A$2)","v":0},{"$f":"[1]!PowerMod($A122,AG$2,$A$2)","v":0},{"$f":"[1]!PowerMod($A122,AH$2,$A$2)","v":0},{"$f":"[1]!PowerMod($A122,AI$2,$A$2)","v":0},{"$f":"[1]!PowerMod($A122,AJ$2,$A$2)","v":0},{"$f":"[1]!PowerMod($A122,AK$2,$A$2)","v":0},{"$f":"[1]!PowerMod($A122,AL$2,$A$2)","v":0},{"$f":"[1]!PowerMod($A122,AM$2,$A$2)","v":0},{"$f":"[1]!PowerMod($A122,AN$2,$A$2)","v":0},{"$f":"[1]!PowerMod($A122,AO$2,$A$2)","v":0},{"$f":"[1]!PowerMod($A122,AP$2,$A$2)","v":0},{"$f":"[1]!PowerMod($A122,AQ$2,$A$2)","v":0},{"$f":"[1]!PowerMod($A122,AR$2,$A$2)","v":0},{"$f":"[1]!PowerMod($A122,AS$2,$A$2)","v":0},{"$f":"[1]!PowerMod($A122,AT$2,$A$2)","v":0},{"$f":"[1]!PowerMod($A122,AU$2,$A$2)","v":0},{"$f":"[1]!PowerMod($A122,AV$2,$A$2)","v":0},{"$f":"[1]!PowerMod($A122,AW$2,$A$2)","v":0},{"$f":"[1]!PowerMod($A122,AX$2,$A$2)","v":0},{"$f":"[1]!PowerMod($A122,AY$2,$A$2)","v":0},{"$f":"[1]!PowerMod($A122,AZ$2,$A$2)","v":0},{"$f":"[1]!PowerMod($A122,BA$2,$A$2)","v":0},{"$f":"[1]!PowerMod($A122,BB$2,$A$2)","v":0},{"$f":"[1]!PowerMod($A122,BC$2,$A$2)","v":0},{"$f":"[1]!PowerMod($A122,BD$2,$A$2)","v":0},{"$f":"[1]!PowerMod($A122,BE$2,$A$2)","v":0},{"$f":"[1]!PowerMod($A122,BF$2,$A$2)","v":0},{"$f":"[1]!PowerMod($A122,BG$2,$A$2)","v":0},{"$f":"[1]!PowerMod($A122,BH$2,$A$2)","v":0},{"$f":"[1]!PowerMod($A122,BI$2,$A$2)","v":0},{"$f":"[1]!PowerMod($A122,BJ$2,$A$2)","v":0},{"$f":"[1]!PowerMod($A122,BK$2,$A$2)","v":0},{"$f":"[1]!PowerMod($A122,BL$2,$A$2)","v":0},{"$f":"[1]!PowerMod($A122,BM$2,$A$2)","v":0},{"$f":"[1]!PowerMod($A122,BN$2,$A$2)","v":0},{"$f":"[1]!PowerMod($A122,BO$2,$A$2)","v":0},{"$f":"[1]!PowerMod($A122,BP$2,$A$2)","v":0},{"$f":"[1]!PowerMod($A122,BQ$2,$A$2)","v":0},{"$f":"[1]!PowerMod($A122,BR$2,$A$2)","v":0},{"$f":"[1]!PowerMod($A122,BS$2,$A$2)","v":0},{"$f":"[1]!PowerMod($A122,BT$2,$A$2)","v":0}]
[121,{"$f":"[1]!PowerMod($A123,B$2,$A$2)","v":13},{"$f":"[1]!PowerMod($A123,C$2,$A$2)","v":7},{"$f":"[1]!PowerMod($A123,D$2,$A$2)","v":10},{"$f":"[1]!PowerMod($A123,E$2,$A$2)","v":22},{"$f":"[1]!PowerMod($A123,F$2,$A$2)","v":16},{"$f":"[1]!PowerMod($A123,G$2,$A$2)","v":19},{"$f":"[1]!PowerMod($A123,H$2,$A$2)","v":4},{"$f":"[1]!PowerMod($A123,I$2,$A$2)","v":25},{"$f":"[1]!PowerMod($A123,J$2,$A$2)","v":1},{"$f":"[1]!PowerMod($A123,K$2,$A$2)","v":13},{"$f":"[1]!PowerMod($A123,L$2,$A$2)","v":7},{"$f":"[1]!PowerMod($A123,M$2,$A$2)","v":10},{"$f":"[1]!PowerMod($A123,N$2,$A$2)","v":22},{"$f":"[1]!PowerMod($A123,O$2,$A$2)","v":16},{"$f":"[1]!PowerMod($A123,P$2,$A$2)","v":19},{"$f":"[1]!PowerMod($A123,Q$2,$A$2)","v":4},{"$f":"[1]!PowerMod($A123,R$2,$A$2)","v":25},{"$f":"[1]!PowerMod($A123,S$2,$A$2)","v":1},{"$f":"[1]!PowerMod($A123,T$2,$A$2)","v":13},{"$f":"[1]!PowerMod($A123,U$2,$A$2)","v":7},{"$f":"[1]!PowerMod($A123,V$2,$A$2)","v":10},{"$f":"[1]!PowerMod($A123,W$2,$A$2)","v":22},{"$f":"[1]!PowerMod($A123,X$2,$A$2)","v":16},{"$f":"[1]!PowerMod($A123,Y$2,$A$2)","v":19},{"$f":"[1]!PowerMod($A123,Z$2,$A$2)","v":4},{"$f":"[1]!PowerMod($A123,AA$2,$A$2)","v":25},{"$f":"[1]!PowerMod($A123,AB$2,$A$2)","v":1},{"$f":"[1]!PowerMod($A123,AC$2,$A$2)","v":13},{"$f":"[1]!PowerMod($A123,AD$2,$A$2)","v":7},{"$f":"[1]!PowerMod($A123,AE$2,$A$2)","v":10},{"$f":"[1]!PowerMod($A123,AF$2,$A$2)","v":22},{"$f":"[1]!PowerMod($A123,AG$2,$A$2)","v":16},{"$f":"[1]!PowerMod($A123,AH$2,$A$2)","v":19},{"$f":"[1]!PowerMod($A123,AI$2,$A$2)","v":4},{"$f":"[1]!PowerMod($A123,AJ$2,$A$2)","v":25},{"$f":"[1]!PowerMod($A123,AK$2,$A$2)","v":1},{"$f":"[1]!PowerMod($A123,AL$2,$A$2)","v":13},{"$f":"[1]!PowerMod($A123,AM$2,$A$2)","v":7},{"$f":"[1]!PowerMod($A123,AN$2,$A$2)","v":10},{"$f":"[1]!PowerMod($A123,AO$2,$A$2)","v":22},{"$f":"[1]!PowerMod($A123,AP$2,$A$2)","v":16},{"$f":"[1]!PowerMod($A123,AQ$2,$A$2)","v":19},{"$f":"[1]!PowerMod($A123,AR$2,$A$2)","v":4},{"$f":"[1]!PowerMod($A123,AS$2,$A$2)","v":25},{"$f":"[1]!PowerMod($A123,AT$2,$A$2)","v":1},{"$f":"[1]!PowerMod($A123,AU$2,$A$2)","v":13},{"$f":"[1]!PowerMod($A123,AV$2,$A$2)","v":7},{"$f":"[1]!PowerMod($A123,AW$2,$A$2)","v":10},{"$f":"[1]!PowerMod($A123,AX$2,$A$2)","v":22},{"$f":"[1]!PowerMod($A123,AY$2,$A$2)","v":16},{"$f":"[1]!PowerMod($A123,AZ$2,$A$2)","v":19},{"$f":"[1]!PowerMod($A123,BA$2,$A$2)","v":4},{"$f":"[1]!PowerMod($A123,BB$2,$A$2)","v":25},{"$f":"[1]!PowerMod($A123,BC$2,$A$2)","v":1},{"$f":"[1]!PowerMod($A123,BD$2,$A$2)","v":13},{"$f":"[1]!PowerMod($A123,BE$2,$A$2)","v":7},{"$f":"[1]!PowerMod($A123,BF$2,$A$2)","v":10},{"$f":"[1]!PowerMod($A123,BG$2,$A$2)","v":22},{"$f":"[1]!PowerMod($A123,BH$2,$A$2)","v":16},{"$f":"[1]!PowerMod($A123,BI$2,$A$2)","v":19},{"$f":"[1]!PowerMod($A123,BJ$2,$A$2)","v":4},{"$f":"[1]!PowerMod($A123,BK$2,$A$2)","v":25},{"$f":"[1]!PowerMod($A123,BL$2,$A$2)","v":1},{"$f":"[1]!PowerMod($A123,BM$2,$A$2)","v":13},{"$f":"[1]!PowerMod($A123,BN$2,$A$2)","v":7},{"$f":"[1]!PowerMod($A123,BO$2,$A$2)","v":10},{"$f":"[1]!PowerMod($A123,BP$2,$A$2)","v":22},{"$f":"[1]!PowerMod($A123,BQ$2,$A$2)","v":16},{"$f":"[1]!PowerMod($A123,BR$2,$A$2)","v":19},{"$f":"[1]!PowerMod($A123,BS$2,$A$2)","v":4},{"$f":"[1]!PowerMod($A123,BT$2,$A$2)","v":25}]
[122,{"$f":"[1]!PowerMod($A124,B$2,$A$2)","v":14},{"$f":"[1]!PowerMod($A124,C$2,$A$2)","v":7},{"$f":"[1]!PowerMod($A124,D$2,$A$2)","v":17},{"$f":"[1]!PowerMod($A124,E$2,$A$2)","v":22},{"$f":"[1]!PowerMod($A124,F$2,$A$2)","v":11},{"$f":"[1]!PowerMod($A124,G$2,$A$2)","v":19},{"$f":"[1]!PowerMod($A124,H$2,$A$2)","v":23},{"$f":"[1]!PowerMod($A124,I$2,$A$2)","v":25},{"$f":"[1]!PowerMod($A124,J$2,$A$2)","v":26},{"$f":"[1]!PowerMod($A124,K$2,$A$2)","v":13},{"$f":"[1]!PowerMod($A124,L$2,$A$2)","v":20},{"$f":"[1]!PowerMod($A124,M$2,$A$2)","v":10},{"$f":"[1]!PowerMod($A124,N$2,$A$2)","v":5},{"$f":"[1]!PowerMod($A124,O$2,$A$2)","v":16},{"$f":"[1]!PowerMod($A124,P$2,$A$2)","v":8},{"$f":"[1]!PowerMod($A124,Q$2,$A$2)","v":4},{"$f":"[1]!PowerMod($A124,R$2,$A$2)","v":2},{"$f":"[1]!PowerMod($A124,S$2,$A$2)","v":1},{"$f":"[1]!PowerMod($A124,T$2,$A$2)","v":14},{"$f":"[1]!PowerMod($A124,U$2,$A$2)","v":7},{"$f":"[1]!PowerMod($A124,V$2,$A$2)","v":17},{"$f":"[1]!PowerMod($A124,W$2,$A$2)","v":22},{"$f":"[1]!PowerMod($A124,X$2,$A$2)","v":11},{"$f":"[1]!PowerMod($A124,Y$2,$A$2)","v":19},{"$f":"[1]!PowerMod($A124,Z$2,$A$2)","v":23},{"$f":"[1]!PowerMod($A124,AA$2,$A$2)","v":25},{"$f":"[1]!PowerMod($A124,AB$2,$A$2)","v":26},{"$f":"[1]!PowerMod($A124,AC$2,$A$2)","v":13},{"$f":"[1]!PowerMod($A124,AD$2,$A$2)","v":20},{"$f":"[1]!PowerMod($A124,AE$2,$A$2)","v":10},{"$f":"[1]!PowerMod($A124,AF$2,$A$2)","v":5},{"$f":"[1]!PowerMod($A124,AG$2,$A$2)","v":16},{"$f":"[1]!PowerMod($A124,AH$2,$A$2)","v":8},{"$f":"[1]!PowerMod($A124,AI$2,$A$2)","v":4},{"$f":"[1]!PowerMod($A124,AJ$2,$A$2)","v":2},{"$f":"[1]!PowerMod($A124,AK$2,$A$2)","v":1},{"$f":"[1]!PowerMod($A124,AL$2,$A$2)","v":14},{"$f":"[1]!PowerMod($A124,AM$2,$A$2)","v":7},{"$f":"[1]!PowerMod($A124,AN$2,$A$2)","v":17},{"$f":"[1]!PowerMod($A124,AO$2,$A$2)","v":22},{"$f":"[1]!PowerMod($A124,AP$2,$A$2)","v":11},{"$f":"[1]!PowerMod($A124,AQ$2,$A$2)","v":19},{"$f":"[1]!PowerMod($A124,AR$2,$A$2)","v":23},{"$f":"[1]!PowerMod($A124,AS$2,$A$2)","v":25},{"$f":"[1]!PowerMod($A124,AT$2,$A$2)","v":26},{"$f":"[1]!PowerMod($A124,AU$2,$A$2)","v":13},{"$f":"[1]!PowerMod($A124,AV$2,$A$2)","v":20},{"$f":"[1]!PowerMod($A124,AW$2,$A$2)","v":10},{"$f":"[1]!PowerMod($A124,AX$2,$A$2)","v":5},{"$f":"[1]!PowerMod($A124,AY$2,$A$2)","v":16},{"$f":"[1]!PowerMod($A124,AZ$2,$A$2)","v":8},{"$f":"[1]!PowerMod($A124,BA$2,$A$2)","v":4},{"$f":"[1]!PowerMod($A124,BB$2,$A$2)","v":2},{"$f":"[1]!PowerMod($A124,BC$2,$A$2)","v":1},{"$f":"[1]!PowerMod($A124,BD$2,$A$2)","v":14},{"$f":"[1]!PowerMod($A124,BE$2,$A$2)","v":7},{"$f":"[1]!PowerMod($A124,BF$2,$A$2)","v":17},{"$f":"[1]!PowerMod($A124,BG$2,$A$2)","v":22},{"$f":"[1]!PowerMod($A124,BH$2,$A$2)","v":11},{"$f":"[1]!PowerMod($A124,BI$2,$A$2)","v":19},{"$f":"[1]!PowerMod($A124,BJ$2,$A$2)","v":23},{"$f":"[1]!PowerMod($A124,BK$2,$A$2)","v":25},{"$f":"[1]!PowerMod($A124,BL$2,$A$2)","v":26},{"$f":"[1]!PowerMod($A124,BM$2,$A$2)","v":13},{"$f":"[1]!PowerMod($A124,BN$2,$A$2)","v":20},{"$f":"[1]!PowerMod($A124,BO$2,$A$2)","v":10},{"$f":"[1]!PowerMod($A124,BP$2,$A$2)","v":5},{"$f":"[1]!PowerMod($A124,BQ$2,$A$2)","v":16},{"$f":"[1]!PowerMod($A124,BR$2,$A$2)","v":8},{"$f":"[1]!PowerMod($A124,BS$2,$A$2)","v":4},{"$f":"[1]!PowerMod($A124,BT$2,$A$2)","v":2}]
[123,{"$f":"[1]!PowerMod($A125,B$2,$A$2)","v":15},{"$f":"[1]!PowerMod($A125,C$2,$A$2)","v":9},{"$f":"[1]!PowerMod($A125,D$2,$A$2)","v":0},{"$f":"[1]!PowerMod($A125,E$2,$A$2)","v":0},{"$f":"[1]!PowerMod($A125,F$2,$A$2)","v":0},{"$f":"[1]!PowerMod($A125,G$2,$A$2)","v":0},{"$f":"[1]!PowerMod($A125,H$2,$A$2)","v":0},{"$f":"[1]!PowerMod($A125,I$2,$A$2)","v":0},{"$f":"[1]!PowerMod($A125,J$2,$A$2)","v":0},{"$f":"[1]!PowerMod($A125,K$2,$A$2)","v":0},{"$f":"[1]!PowerMod($A125,L$2,$A$2)","v":0},{"$f":"[1]!PowerMod($A125,M$2,$A$2)","v":0},{"$f":"[1]!PowerMod($A125,N$2,$A$2)","v":0},{"$f":"[1]!PowerMod($A125,O$2,$A$2)","v":0},{"$f":"[1]!PowerMod($A125,P$2,$A$2)","v":0},{"$f":"[1]!PowerMod($A125,Q$2,$A$2)","v":0},{"$f":"[1]!PowerMod($A125,R$2,$A$2)","v":0},{"$f":"[1]!PowerMod($A125,S$2,$A$2)","v":0},{"$f":"[1]!PowerMod($A125,T$2,$A$2)","v":0},{"$f":"[1]!PowerMod($A125,U$2,$A$2)","v":0},{"$f":"[1]!PowerMod($A125,V$2,$A$2)","v":0},{"$f":"[1]!PowerMod($A125,W$2,$A$2)","v":0},{"$f":"[1]!PowerMod($A125,X$2,$A$2)","v":0},{"$f":"[1]!PowerMod($A125,Y$2,$A$2)","v":0},{"$f":"[1]!PowerMod($A125,Z$2,$A$2)","v":0},{"$f":"[1]!PowerMod($A125,AA$2,$A$2)","v":0},{"$f":"[1]!PowerMod($A125,AB$2,$A$2)","v":0},{"$f":"[1]!PowerMod($A125,AC$2,$A$2)","v":0},{"$f":"[1]!PowerMod($A125,AD$2,$A$2)","v":0},{"$f":"[1]!PowerMod($A125,AE$2,$A$2)","v":0},{"$f":"[1]!PowerMod($A125,AF$2,$A$2)","v":0},{"$f":"[1]!PowerMod($A125,AG$2,$A$2)","v":0},{"$f":"[1]!PowerMod($A125,AH$2,$A$2)","v":0},{"$f":"[1]!PowerMod($A125,AI$2,$A$2)","v":0},{"$f":"[1]!PowerMod($A125,AJ$2,$A$2)","v":0},{"$f":"[1]!PowerMod($A125,AK$2,$A$2)","v":0},{"$f":"[1]!PowerMod($A125,AL$2,$A$2)","v":0},{"$f":"[1]!PowerMod($A125,AM$2,$A$2)","v":0},{"$f":"[1]!PowerMod($A125,AN$2,$A$2)","v":0},{"$f":"[1]!PowerMod($A125,AO$2,$A$2)","v":0},{"$f":"[1]!PowerMod($A125,AP$2,$A$2)","v":0},{"$f":"[1]!PowerMod($A125,AQ$2,$A$2)","v":0},{"$f":"[1]!PowerMod($A125,AR$2,$A$2)","v":0},{"$f":"[1]!PowerMod($A125,AS$2,$A$2)","v":0},{"$f":"[1]!PowerMod($A125,AT$2,$A$2)","v":0},{"$f":"[1]!PowerMod($A125,AU$2,$A$2)","v":0},{"$f":"[1]!PowerMod($A125,AV$2,$A$2)","v":0},{"$f":"[1]!PowerMod($A125,AW$2,$A$2)","v":0},{"$f":"[1]!PowerMod($A125,AX$2,$A$2)","v":0},{"$f":"[1]!PowerMod($A125,AY$2,$A$2)","v":0},{"$f":"[1]!PowerMod($A125,AZ$2,$A$2)","v":0},{"$f":"[1]!PowerMod($A125,BA$2,$A$2)","v":0},{"$f":"[1]!PowerMod($A125,BB$2,$A$2)","v":0},{"$f":"[1]!PowerMod($A125,BC$2,$A$2)","v":0},{"$f":"[1]!PowerMod($A125,BD$2,$A$2)","v":0},{"$f":"[1]!PowerMod($A125,BE$2,$A$2)","v":0},{"$f":"[1]!PowerMod($A125,BF$2,$A$2)","v":0},{"$f":"[1]!PowerMod($A125,BG$2,$A$2)","v":0},{"$f":"[1]!PowerMod($A125,BH$2,$A$2)","v":0},{"$f":"[1]!PowerMod($A125,BI$2,$A$2)","v":0},{"$f":"[1]!PowerMod($A125,BJ$2,$A$2)","v":0},{"$f":"[1]!PowerMod($A125,BK$2,$A$2)","v":0},{"$f":"[1]!PowerMod($A125,BL$2,$A$2)","v":0},{"$f":"[1]!PowerMod($A125,BM$2,$A$2)","v":0},{"$f":"[1]!PowerMod($A125,BN$2,$A$2)","v":0},{"$f":"[1]!PowerMod($A125,BO$2,$A$2)","v":0},{"$f":"[1]!PowerMod($A125,BP$2,$A$2)","v":0},{"$f":"[1]!PowerMod($A125,BQ$2,$A$2)","v":0},{"$f":"[1]!PowerMod($A125,BR$2,$A$2)","v":0},{"$f":"[1]!PowerMod($A125,BS$2,$A$2)","v":0},{"$f":"[1]!PowerMod($A125,BT$2,$A$2)","v":0}]
[124,{"$f":"[1]!PowerMod($A126,B$2,$A$2)","v":16},{"$f":"[1]!PowerMod($A126,C$2,$A$2)","v":13},{"$f":"[1]!PowerMod($A126,D$2,$A$2)","v":19},{"$f":"[1]!PowerMod($A126,E$2,$A$2)","v":7},{"$f":"[1]!PowerMod($A126,F$2,$A$2)","v":4},{"$f":"[1]!PowerMod($A126,G$2,$A$2)","v":10},{"$f":"[1]!PowerMod($A126,H$2,$A$2)","v":25},{"$f":"[1]!PowerMod($A126,I$2,$A$2)","v":22},{"$f":"[1]!PowerMod($A126,J$2,$A$2)","v":1},{"$f":"[1]!PowerMod($A126,K$2,$A$2)","v":16},{"$f":"[1]!PowerMod($A126,L$2,$A$2)","v":13},{"$f":"[1]!PowerMod($A126,M$2,$A$2)","v":19},{"$f":"[1]!PowerMod($A126,N$2,$A$2)","v":7},{"$f":"[1]!PowerMod($A126,O$2,$A$2)","v":4},{"$f":"[1]!PowerMod($A126,P$2,$A$2)","v":10},{"$f":"[1]!PowerMod($A126,Q$2,$A$2)","v":25},{"$f":"[1]!PowerMod($A126,R$2,$A$2)","v":22},{"$f":"[1]!PowerMod($A126,S$2,$A$2)","v":1},{"$f":"[1]!PowerMod($A126,T$2,$A$2)","v":16},{"$f":"[1]!PowerMod($A126,U$2,$A$2)","v":13},{"$f":"[1]!PowerMod($A126,V$2,$A$2)","v":19},{"$f":"[1]!PowerMod($A126,W$2,$A$2)","v":7},{"$f":"[1]!PowerMod($A126,X$2,$A$2)","v":4},{"$f":"[1]!PowerMod($A126,Y$2,$A$2)","v":10},{"$f":"[1]!PowerMod($A126,Z$2,$A$2)","v":25},{"$f":"[1]!PowerMod($A126,AA$2,$A$2)","v":22},{"$f":"[1]!PowerMod($A126,AB$2,$A$2)","v":1},{"$f":"[1]!PowerMod($A126,AC$2,$A$2)","v":16},{"$f":"[1]!PowerMod($A126,AD$2,$A$2)","v":13},{"$f":"[1]!PowerMod($A126,AE$2,$A$2)","v":19},{"$f":"[1]!PowerMod($A126,AF$2,$A$2)","v":7},{"$f":"[1]!PowerMod($A126,AG$2,$A$2)","v":4},{"$f":"[1]!PowerMod($A126,AH$2,$A$2)","v":10},{"$f":"[1]!PowerMod($A126,AI$2,$A$2)","v":25},{"$f":"[1]!PowerMod($A126,AJ$2,$A$2)","v":22},{"$f":"[1]!PowerMod($A126,AK$2,$A$2)","v":1},{"$f":"[1]!PowerMod($A126,AL$2,$A$2)","v":16},{"$f":"[1]!PowerMod($A126,AM$2,$A$2)","v":13},{"$f":"[1]!PowerMod($A126,AN$2,$A$2)","v":19},{"$f":"[1]!PowerMod($A126,AO$2,$A$2)","v":7},{"$f":"[1]!PowerMod($A126,AP$2,$A$2)","v":4},{"$f":"[1]!PowerMod($A126,AQ$2,$A$2)","v":10},{"$f":"[1]!PowerMod($A126,AR$2,$A$2)","v":25},{"$f":"[1]!PowerMod($A126,AS$2,$A$2)","v":22},{"$f":"[1]!PowerMod($A126,AT$2,$A$2)","v":1},{"$f":"[1]!PowerMod($A126,AU$2,$A$2)","v":16},{"$f":"[1]!PowerMod($A126,AV$2,$A$2)","v":13},{"$f":"[1]!PowerMod($A126,AW$2,$A$2)","v":19},{"$f":"[1]!PowerMod($A126,AX$2,$A$2)","v":7},{"$f":"[1]!PowerMod($A126,AY$2,$A$2)","v":4},{"$f":"[1]!PowerMod($A126,AZ$2,$A$2)","v":10},{"$f":"[1]!PowerMod($A126,BA$2,$A$2)","v":25},{"$f":"[1]!PowerMod($A126,BB$2,$A$2)","v":22},{"$f":"[1]!PowerMod($A126,BC$2,$A$2)","v":1},{"$f":"[1]!PowerMod($A126,BD$2,$A$2)","v":16},{"$f":"[1]!PowerMod($A126,BE$2,$A$2)","v":13},{"$f":"[1]!PowerMod($A126,BF$2,$A$2)","v":19},{"$f":"[1]!PowerMod($A126,BG$2,$A$2)","v":7},{"$f":"[1]!PowerMod($A126,BH$2,$A$2)","v":4},{"$f":"[1]!PowerMod($A126,BI$2,$A$2)","v":10},{"$f":"[1]!PowerMod($A126,BJ$2,$A$2)","v":25},{"$f":"[1]!PowerMod($A126,BK$2,$A$2)","v":22},{"$f":"[1]!PowerMod($A126,BL$2,$A$2)","v":1},{"$f":"[1]!PowerMod($A126,BM$2,$A$2)","v":16},{"$f":"[1]!PowerMod($A126,BN$2,$A$2)","v":13},{"$f":"[1]!PowerMod($A126,BO$2,$A$2)","v":19},{"$f":"[1]!PowerMod($A126,BP$2,$A$2)","v":7},{"$f":"[1]!PowerMod($A126,BQ$2,$A$2)","v":4},{"$f":"[1]!PowerMod($A126,BR$2,$A$2)","v":10},{"$f":"[1]!PowerMod($A126,BS$2,$A$2)","v":25},{"$f":"[1]!PowerMod($A126,BT$2,$A$2)","v":22}]
[125,{"$f":"[1]!PowerMod($A127,B$2,$A$2)","v":17},{"$f":"[1]!PowerMod($A127,C$2,$A$2)","v":19},{"$f":"[1]!PowerMod($A127,D$2,$A$2)","v":26},{"$f":"[1]!PowerMod($A127,E$2,$A$2)","v":10},{"$f":"[1]!PowerMod($A127,F$2,$A$2)","v":8},{"$f":"[1]!PowerMod($A127,G$2,$A$2)","v":1},{"$f":"[1]!PowerMod($A127,H$2,$A$2)","v":17},{"$f":"[1]!PowerMod($A127,I$2,$A$2)","v":19},{"$f":"[1]!PowerMod($A127,J$2,$A$2)","v":26},{"$f":"[1]!PowerMod($A127,K$2,$A$2)","v":10},{"$f":"[1]!PowerMod($A127,L$2,$A$2)","v":8},{"$f":"[1]!PowerMod($A127,M$2,$A$2)","v":1},{"$f":"[1]!PowerMod($A127,N$2,$A$2)","v":17},{"$f":"[1]!PowerMod($A127,O$2,$A$2)","v":19},{"$f":"[1]!PowerMod($A127,P$2,$A$2)","v":26},{"$f":"[1]!PowerMod($A127,Q$2,$A$2)","v":10},{"$f":"[1]!PowerMod($A127,R$2,$A$2)","v":8},{"$f":"[1]!PowerMod($A127,S$2,$A$2)","v":1},{"$f":"[1]!PowerMod($A127,T$2,$A$2)","v":17},{"$f":"[1]!PowerMod($A127,U$2,$A$2)","v":19},{"$f":"[1]!PowerMod($A127,V$2,$A$2)","v":26},{"$f":"[1]!PowerMod($A127,W$2,$A$2)","v":10},{"$f":"[1]!PowerMod($A127,X$2,$A$2)","v":8},{"$f":"[1]!PowerMod($A127,Y$2,$A$2)","v":1},{"$f":"[1]!PowerMod($A127,Z$2,$A$2)","v":17},{"$f":"[1]!PowerMod($A127,AA$2,$A$2)","v":19},{"$f":"[1]!PowerMod($A127,AB$2,$A$2)","v":26},{"$f":"[1]!PowerMod($A127,AC$2,$A$2)","v":10},{"$f":"[1]!PowerMod($A127,AD$2,$A$2)","v":8},{"$f":"[1]!PowerMod($A127,AE$2,$A$2)","v":1},{"$f":"[1]!PowerMod($A127,AF$2,$A$2)","v":17},{"$f":"[1]!PowerMod($A127,AG$2,$A$2)","v":19},{"$f":"[1]!PowerMod($A127,AH$2,$A$2)","v":26},{"$f":"[1]!PowerMod($A127,AI$2,$A$2)","v":10},{"$f":"[1]!PowerMod($A127,AJ$2,$A$2)","v":8},{"$f":"[1]!PowerMod($A127,AK$2,$A$2)","v":1},{"$f":"[1]!PowerMod($A127,AL$2,$A$2)","v":17},{"$f":"[1]!PowerMod($A127,AM$2,$A$2)","v":19},{"$f":"[1]!PowerMod($A127,AN$2,$A$2)","v":26},{"$f":"[1]!PowerMod($A127,AO$2,$A$2)","v":10},{"$f":"[1]!PowerMod($A127,AP$2,$A$2)","v":8},{"$f":"[1]!PowerMod($A127,AQ$2,$A$2)","v":1},{"$f":"[1]!PowerMod($A127,AR$2,$A$2)","v":17},{"$f":"[1]!PowerMod($A127,AS$2,$A$2)","v":19},{"$f":"[1]!PowerMod($A127,AT$2,$A$2)","v":26},{"$f":"[1]!PowerMod($A127,AU$2,$A$2)","v":10},{"$f":"[1]!PowerMod($A127,AV$2,$A$2)","v":8},{"$f":"[1]!PowerMod($A127,AW$2,$A$2)","v":1},{"$f":"[1]!PowerMod($A127,AX$2,$A$2)","v":17},{"$f":"[1]!PowerMod($A127,AY$2,$A$2)","v":19},{"$f":"[1]!PowerMod($A127,AZ$2,$A$2)","v":26},{"$f":"[1]!PowerMod($A127,BA$2,$A$2)","v":10},{"$f":"[1]!PowerMod($A127,BB$2,$A$2)","v":8},{"$f":"[1]!PowerMod($A127,BC$2,$A$2)","v":1},{"$f":"[1]!PowerMod($A127,BD$2,$A$2)","v":17},{"$f":"[1]!PowerMod($A127,BE$2,$A$2)","v":19},{"$f":"[1]!PowerMod($A127,BF$2,$A$2)","v":26},{"$f":"[1]!PowerMod($A127,BG$2,$A$2)","v":10},{"$f":"[1]!PowerMod($A127,BH$2,$A$2)","v":8},{"$f":"[1]!PowerMod($A127,BI$2,$A$2)","v":1},{"$f":"[1]!PowerMod($A127,BJ$2,$A$2)","v":17},{"$f":"[1]!PowerMod($A127,BK$2,$A$2)","v":19},{"$f":"[1]!PowerMod($A127,BL$2,$A$2)","v":26},{"$f":"[1]!PowerMod($A127,BM$2,$A$2)","v":10},{"$f":"[1]!PowerMod($A127,BN$2,$A$2)","v":8},{"$f":"[1]!PowerMod($A127,BO$2,$A$2)","v":1},{"$f":"[1]!PowerMod($A127,BP$2,$A$2)","v":17},{"$f":"[1]!PowerMod($A127,BQ$2,$A$2)","v":19},{"$f":"[1]!PowerMod($A127,BR$2,$A$2)","v":26},{"$f":"[1]!PowerMod($A127,BS$2,$A$2)","v":10},{"$f":"[1]!PowerMod($A127,BT$2,$A$2)","v":8}]
[126,{"$f":"[1]!PowerMod($A128,B$2,$A$2)","v":18},{"$f":"[1]!PowerMod($A128,C$2,$A$2)","v":0},{"$f":"[1]!PowerMod($A128,D$2,$A$2)","v":0},{"$f":"[1]!PowerMod($A128,E$2,$A$2)","v":0},{"$f":"[1]!PowerMod($A128,F$2,$A$2)","v":0},{"$f":"[1]!PowerMod($A128,G$2,$A$2)","v":0},{"$f":"[1]!PowerMod($A128,H$2,$A$2)","v":0},{"$f":"[1]!PowerMod($A128,I$2,$A$2)","v":0},{"$f":"[1]!PowerMod($A128,J$2,$A$2)","v":0},{"$f":"[1]!PowerMod($A128,K$2,$A$2)","v":0},{"$f":"[1]!PowerMod($A128,L$2,$A$2)","v":0},{"$f":"[1]!PowerMod($A128,M$2,$A$2)","v":0},{"$f":"[1]!PowerMod($A128,N$2,$A$2)","v":0},{"$f":"[1]!PowerMod($A128,O$2,$A$2)","v":0},{"$f":"[1]!PowerMod($A128,P$2,$A$2)","v":0},{"$f":"[1]!PowerMod($A128,Q$2,$A$2)","v":0},{"$f":"[1]!PowerMod($A128,R$2,$A$2)","v":0},{"$f":"[1]!PowerMod($A128,S$2,$A$2)","v":0},{"$f":"[1]!PowerMod($A128,T$2,$A$2)","v":0},{"$f":"[1]!PowerMod($A128,U$2,$A$2)","v":0},{"$f":"[1]!PowerMod($A128,V$2,$A$2)","v":0},{"$f":"[1]!PowerMod($A128,W$2,$A$2)","v":0},{"$f":"[1]!PowerMod($A128,X$2,$A$2)","v":0},{"$f":"[1]!PowerMod($A128,Y$2,$A$2)","v":0},{"$f":"[1]!PowerMod($A128,Z$2,$A$2)","v":0},{"$f":"[1]!PowerMod($A128,AA$2,$A$2)","v":0},{"$f":"[1]!PowerMod($A128,AB$2,$A$2)","v":0},{"$f":"[1]!PowerMod($A128,AC$2,$A$2)","v":0},{"$f":"[1]!PowerMod($A128,AD$2,$A$2)","v":0},{"$f":"[1]!PowerMod($A128,AE$2,$A$2)","v":0},{"$f":"[1]!PowerMod($A128,AF$2,$A$2)","v":0},{"$f":"[1]!PowerMod($A128,AG$2,$A$2)","v":0},{"$f":"[1]!PowerMod($A128,AH$2,$A$2)","v":0},{"$f":"[1]!PowerMod($A128,AI$2,$A$2)","v":0},{"$f":"[1]!PowerMod($A128,AJ$2,$A$2)","v":0},{"$f":"[1]!PowerMod($A128,AK$2,$A$2)","v":0},{"$f":"[1]!PowerMod($A128,AL$2,$A$2)","v":0},{"$f":"[1]!PowerMod($A128,AM$2,$A$2)","v":0},{"$f":"[1]!PowerMod($A128,AN$2,$A$2)","v":0},{"$f":"[1]!PowerMod($A128,AO$2,$A$2)","v":0},{"$f":"[1]!PowerMod($A128,AP$2,$A$2)","v":0},{"$f":"[1]!PowerMod($A128,AQ$2,$A$2)","v":0},{"$f":"[1]!PowerMod($A128,AR$2,$A$2)","v":0},{"$f":"[1]!PowerMod($A128,AS$2,$A$2)","v":0},{"$f":"[1]!PowerMod($A128,AT$2,$A$2)","v":0},{"$f":"[1]!PowerMod($A128,AU$2,$A$2)","v":0},{"$f":"[1]!PowerMod($A128,AV$2,$A$2)","v":0},{"$f":"[1]!PowerMod($A128,AW$2,$A$2)","v":0},{"$f":"[1]!PowerMod($A128,AX$2,$A$2)","v":0},{"$f":"[1]!PowerMod($A128,AY$2,$A$2)","v":0},{"$f":"[1]!PowerMod($A128,AZ$2,$A$2)","v":0},{"$f":"[1]!PowerMod($A128,BA$2,$A$2)","v":0},{"$f":"[1]!PowerMod($A128,BB$2,$A$2)","v":0},{"$f":"[1]!PowerMod($A128,BC$2,$A$2)","v":0},{"$f":"[1]!PowerMod($A128,BD$2,$A$2)","v":0},{"$f":"[1]!PowerMod($A128,BE$2,$A$2)","v":0},{"$f":"[1]!PowerMod($A128,BF$2,$A$2)","v":0},{"$f":"[1]!PowerMod($A128,BG$2,$A$2)","v":0},{"$f":"[1]!PowerMod($A128,BH$2,$A$2)","v":0},{"$f":"[1]!PowerMod($A128,BI$2,$A$2)","v":0},{"$f":"[1]!PowerMod($A128,BJ$2,$A$2)","v":0},{"$f":"[1]!PowerMod($A128,BK$2,$A$2)","v":0},{"$f":"[1]!PowerMod($A128,BL$2,$A$2)","v":0},{"$f":"[1]!PowerMod($A128,BM$2,$A$2)","v":0},{"$f":"[1]!PowerMod($A128,BN$2,$A$2)","v":0},{"$f":"[1]!PowerMod($A128,BO$2,$A$2)","v":0},{"$f":"[1]!PowerMod($A128,BP$2,$A$2)","v":0},{"$f":"[1]!PowerMod($A128,BQ$2,$A$2)","v":0},{"$f":"[1]!PowerMod($A128,BR$2,$A$2)","v":0},{"$f":"[1]!PowerMod($A128,BS$2,$A$2)","v":0},{"$f":"[1]!PowerMod($A128,BT$2,$A$2)","v":0}]
[127,{"$f":"[1]!PowerMod($A129,B$2,$A$2)","v":19},{"$f":"[1]!PowerMod($A129,C$2,$A$2)","v":10},{"$f":"[1]!PowerMod($A129,D$2,$A$2)","v":1},{"$f":"[1]!PowerMod($A129,E$2,$A$2)","v":19},{"$f":"[1]!PowerMod($A129,F$2,$A$2)","v":10},{"$f":"[1]!PowerMod($A129,G$2,$A$2)","v":1},{"$f":"[1]!PowerMod($A129,H$2,$A$2)","v":19},{"$f":"[1]!PowerMod($A129,I$2,$A$2)","v":10},{"$f":"[1]!PowerMod($A129,J$2,$A$2)","v":1},{"$f":"[1]!PowerMod($A129,K$2,$A$2)","v":19},{"$f":"[1]!PowerMod($A129,L$2,$A$2)","v":10},{"$f":"[1]!PowerMod($A129,M$2,$A$2)","v":1},{"$f":"[1]!PowerMod($A129,N$2,$A$2)","v":19},{"$f":"[1]!PowerMod($A129,O$2,$A$2)","v":10},{"$f":"[1]!PowerMod($A129,P$2,$A$2)","v":1},{"$f":"[1]!PowerMod($A129,Q$2,$A$2)","v":19},{"$f":"[1]!PowerMod($A129,R$2,$A$2)","v":10},{"$f":"[1]!PowerMod($A129,S$2,$A$2)","v":1},{"$f":"[1]!PowerMod($A129,T$2,$A$2)","v":19},{"$f":"[1]!PowerMod($A129,U$2,$A$2)","v":10},{"$f":"[1]!PowerMod($A129,V$2,$A$2)","v":1},{"$f":"[1]!PowerMod($A129,W$2,$A$2)","v":19},{"$f":"[1]!PowerMod($A129,X$2,$A$2)","v":10},{"$f":"[1]!PowerMod($A129,Y$2,$A$2)","v":1},{"$f":"[1]!PowerMod($A129,Z$2,$A$2)","v":19},{"$f":"[1]!PowerMod($A129,AA$2,$A$2)","v":10},{"$f":"[1]!PowerMod($A129,AB$2,$A$2)","v":1},{"$f":"[1]!PowerMod($A129,AC$2,$A$2)","v":19},{"$f":"[1]!PowerMod($A129,AD$2,$A$2)","v":10},{"$f":"[1]!PowerMod($A129,AE$2,$A$2)","v":1},{"$f":"[1]!PowerMod($A129,AF$2,$A$2)","v":19},{"$f":"[1]!PowerMod($A129,AG$2,$A$2)","v":10},{"$f":"[1]!PowerMod($A129,AH$2,$A$2)","v":1},{"$f":"[1]!PowerMod($A129,AI$2,$A$2)","v":19},{"$f":"[1]!PowerMod($A129,AJ$2,$A$2)","v":10},{"$f":"[1]!PowerMod($A129,AK$2,$A$2)","v":1},{"$f":"[1]!PowerMod($A129,AL$2,$A$2)","v":19},{"$f":"[1]!PowerMod($A129,AM$2,$A$2)","v":10},{"$f":"[1]!PowerMod($A129,AN$2,$A$2)","v":1},{"$f":"[1]!PowerMod($A129,AO$2,$A$2)","v":19},{"$f":"[1]!PowerMod($A129,AP$2,$A$2)","v":10},{"$f":"[1]!PowerMod($A129,AQ$2,$A$2)","v":1},{"$f":"[1]!PowerMod($A129,AR$2,$A$2)","v":19},{"$f":"[1]!PowerMod($A129,AS$2,$A$2)","v":10},{"$f":"[1]!PowerMod($A129,AT$2,$A$2)","v":1},{"$f":"[1]!PowerMod($A129,AU$2,$A$2)","v":19},{"$f":"[1]!PowerMod($A129,AV$2,$A$2)","v":10},{"$f":"[1]!PowerMod($A129,AW$2,$A$2)","v":1},{"$f":"[1]!PowerMod($A129,AX$2,$A$2)","v":19},{"$f":"[1]!PowerMod($A129,AY$2,$A$2)","v":10},{"$f":"[1]!PowerMod($A129,AZ$2,$A$2)","v":1},{"$f":"[1]!PowerMod($A129,BA$2,$A$2)","v":19},{"$f":"[1]!PowerMod($A129,BB$2,$A$2)","v":10},{"$f":"[1]!PowerMod($A129,BC$2,$A$2)","v":1},{"$f":"[1]!PowerMod($A129,BD$2,$A$2)","v":19},{"$f":"[1]!PowerMod($A129,BE$2,$A$2)","v":10},{"$f":"[1]!PowerMod($A129,BF$2,$A$2)","v":1},{"$f":"[1]!PowerMod($A129,BG$2,$A$2)","v":19},{"$f":"[1]!PowerMod($A129,BH$2,$A$2)","v":10},{"$f":"[1]!PowerMod($A129,BI$2,$A$2)","v":1},{"$f":"[1]!PowerMod($A129,BJ$2,$A$2)","v":19},{"$f":"[1]!PowerMod($A129,BK$2,$A$2)","v":10},{"$f":"[1]!PowerMod($A129,BL$2,$A$2)","v":1},{"$f":"[1]!PowerMod($A129,BM$2,$A$2)","v":19},{"$f":"[1]!PowerMod($A129,BN$2,$A$2)","v":10},{"$f":"[1]!PowerMod($A129,BO$2,$A$2)","v":1},{"$f":"[1]!PowerMod($A129,BP$2,$A$2)","v":19},{"$f":"[1]!PowerMod($A129,BQ$2,$A$2)","v":10},{"$f":"[1]!PowerMod($A129,BR$2,$A$2)","v":1},{"$f":"[1]!PowerMod($A129,BS$2,$A$2)","v":19},{"$f":"[1]!PowerMod($A129,BT$2,$A$2)","v":10}]
[128,{"$f":"[1]!PowerMod($A130,B$2,$A$2)","v":20},{"$f":"[1]!PowerMod($A130,C$2,$A$2)","v":22},{"$f":"[1]!PowerMod($A130,D$2,$A$2)","v":8},{"$f":"[1]!PowerMod($A130,E$2,$A$2)","v":25},{"$f":"[1]!PowerMod($A130,F$2,$A$2)","v":14},{"$f":"[1]!PowerMod($A130,G$2,$A$2)","v":10},{"$f":"[1]!PowerMod($A130,H$2,$A$2)","v":11},{"$f":"[1]!PowerMod($A130,I$2,$A$2)","v":4},{"$f":"[1]!PowerMod($A130,J$2,$A$2)","v":26},{"$f":"[1]!PowerMod($A130,K$2,$A$2)","v":7},{"$f":"[1]!PowerMod($A130,L$2,$A$2)","v":5},{"$f":"[1]!PowerMod($A130,M$2,$A$2)","v":19},{"$f":"[1]!PowerMod($A130,N$2,$A$2)","v":2},{"$f":"[1]!PowerMod($A130,O$2,$A$2)","v":13},{"$f":"[1]!PowerMod($A130,P$2,$A$2)","v":17},{"$f":"[1]!PowerMod($A130,Q$2,$A$2)","v":16},{"$f":"[1]!PowerMod($A130,R$2,$A$2)","v":23},{"$f":"[1]!PowerMod($A130,S$2,$A$2)","v":1},{"$f":"[1]!PowerMod($A130,T$2,$A$2)","v":20},{"$f":"[1]!PowerMod($A130,U$2,$A$2)","v":22},{"$f":"[1]!PowerMod($A130,V$2,$A$2)","v":8},{"$f":"[1]!PowerMod($A130,W$2,$A$2)","v":25},{"$f":"[1]!PowerMod($A130,X$2,$A$2)","v":14},{"$f":"[1]!PowerMod($A130,Y$2,$A$2)","v":10},{"$f":"[1]!PowerMod($A130,Z$2,$A$2)","v":11},{"$f":"[1]!PowerMod($A130,AA$2,$A$2)","v":4},{"$f":"[1]!PowerMod($A130,AB$2,$A$2)","v":26},{"$f":"[1]!PowerMod($A130,AC$2,$A$2)","v":7},{"$f":"[1]!PowerMod($A130,AD$2,$A$2)","v":5},{"$f":"[1]!PowerMod($A130,AE$2,$A$2)","v":19},{"$f":"[1]!PowerMod($A130,AF$2,$A$2)","v":2},{"$f":"[1]!PowerMod($A130,AG$2,$A$2)","v":13},{"$f":"[1]!PowerMod($A130,AH$2,$A$2)","v":17},{"$f":"[1]!PowerMod($A130,AI$2,$A$2)","v":16},{"$f":"[1]!PowerMod($A130,AJ$2,$A$2)","v":23},{"$f":"[1]!PowerMod($A130,AK$2,$A$2)","v":1},{"$f":"[1]!PowerMod($A130,AL$2,$A$2)","v":20},{"$f":"[1]!PowerMod($A130,AM$2,$A$2)","v":22},{"$f":"[1]!PowerMod($A130,AN$2,$A$2)","v":8},{"$f":"[1]!PowerMod($A130,AO$2,$A$2)","v":25},{"$f":"[1]!PowerMod($A130,AP$2,$A$2)","v":14},{"$f":"[1]!PowerMod($A130,AQ$2,$A$2)","v":10},{"$f":"[1]!PowerMod($A130,AR$2,$A$2)","v":11},{"$f":"[1]!PowerMod($A130,AS$2,$A$2)","v":4},{"$f":"[1]!PowerMod($A130,AT$2,$A$2)","v":26},{"$f":"[1]!PowerMod($A130,AU$2,$A$2)","v":7},{"$f":"[1]!PowerMod($A130,AV$2,$A$2)","v":5},{"$f":"[1]!PowerMod($A130,AW$2,$A$2)","v":19},{"$f":"[1]!PowerMod($A130,AX$2,$A$2)","v":2},{"$f":"[1]!PowerMod($A130,AY$2,$A$2)","v":13},{"$f":"[1]!PowerMod($A130,AZ$2,$A$2)","v":17},{"$f":"[1]!PowerMod($A130,BA$2,$A$2)","v":16},{"$f":"[1]!PowerMod($A130,BB$2,$A$2)","v":23},{"$f":"[1]!PowerMod($A130,BC$2,$A$2)","v":1},{"$f":"[1]!PowerMod($A130,BD$2,$A$2)","v":20},{"$f":"[1]!PowerMod($A130,BE$2,$A$2)","v":22},{"$f":"[1]!PowerMod($A130,BF$2,$A$2)","v":8},{"$f":"[1]!PowerMod($A130,BG$2,$A$2)","v":25},{"$f":"[1]!PowerMod($A130,BH$2,$A$2)","v":14},{"$f":"[1]!PowerMod($A130,BI$2,$A$2)","v":10},{"$f":"[1]!PowerMod($A130,BJ$2,$A$2)","v":11},{"$f":"[1]!PowerMod($A130,BK$2,$A$2)","v":4},{"$f":"[1]!PowerMod($A130,BL$2,$A$2)","v":26},{"$f":"[1]!PowerMod($A130,BM$2,$A$2)","v":7},{"$f":"[1]!PowerMod($A130,BN$2,$A$2)","v":5},{"$f":"[1]!PowerMod($A130,BO$2,$A$2)","v":19},{"$f":"[1]!PowerMod($A130,BP$2,$A$2)","v":2},{"$f":"[1]!PowerMod($A130,BQ$2,$A$2)","v":13},{"$f":"[1]!PowerMod($A130,BR$2,$A$2)","v":17},{"$f":"[1]!PowerMod($A130,BS$2,$A$2)","v":16},{"$f":"[1]!PowerMod($A130,BT$2,$A$2)","v":23}]
[129,{"$f":"[1]!PowerMod($A131,B$2,$A$2)","v":21},{"$f":"[1]!PowerMod($A131,C$2,$A$2)","v":9},{"$f":"[1]!PowerMod($A131,D$2,$A$2)","v":0},{"$f":"[1]!PowerMod($A131,E$2,$A$2)","v":0},{"$f":"[1]!PowerMod($A131,F$2,$A$2)","v":0},{"$f":"[1]!PowerMod($A131,G$2,$A$2)","v":0},{"$f":"[1]!PowerMod($A131,H$2,$A$2)","v":0},{"$f":"[1]!PowerMod($A131,I$2,$A$2)","v":0},{"$f":"[1]!PowerMod($A131,J$2,$A$2)","v":0},{"$f":"[1]!PowerMod($A131,K$2,$A$2)","v":0},{"$f":"[1]!PowerMod($A131,L$2,$A$2)","v":0},{"$f":"[1]!PowerMod($A131,M$2,$A$2)","v":0},{"$f":"[1]!PowerMod($A131,N$2,$A$2)","v":0},{"$f":"[1]!PowerMod($A131,O$2,$A$2)","v":0},{"$f":"[1]!PowerMod($A131,P$2,$A$2)","v":0},{"$f":"[1]!PowerMod($A131,Q$2,$A$2)","v":0},{"$f":"[1]!PowerMod($A131,R$2,$A$2)","v":0},{"$f":"[1]!PowerMod($A131,S$2,$A$2)","v":0},{"$f":"[1]!PowerMod($A131,T$2,$A$2)","v":0},{"$f":"[1]!PowerMod($A131,U$2,$A$2)","v":0},{"$f":"[1]!PowerMod($A131,V$2,$A$2)","v":0},{"$f":"[1]!PowerMod($A131,W$2,$A$2)","v":0},{"$f":"[1]!PowerMod($A131,X$2,$A$2)","v":0},{"$f":"[1]!PowerMod($A131,Y$2,$A$2)","v":0},{"$f":"[1]!PowerMod($A131,Z$2,$A$2)","v":0},{"$f":"[1]!PowerMod($A131,AA$2,$A$2)","v":0},{"$f":"[1]!PowerMod($A131,AB$2,$A$2)","v":0},{"$f":"[1]!PowerMod($A131,AC$2,$A$2)","v":0},{"$f":"[1]!PowerMod($A131,AD$2,$A$2)","v":0},{"$f":"[1]!PowerMod($A131,AE$2,$A$2)","v":0},{"$f":"[1]!PowerMod($A131,AF$2,$A$2)","v":0},{"$f":"[1]!PowerMod($A131,AG$2,$A$2)","v":0},{"$f":"[1]!PowerMod($A131,AH$2,$A$2)","v":0},{"$f":"[1]!PowerMod($A131,AI$2,$A$2)","v":0},{"$f":"[1]!PowerMod($A131,AJ$2,$A$2)","v":0},{"$f":"[1]!PowerMod($A131,AK$2,$A$2)","v":0},{"$f":"[1]!PowerMod($A131,AL$2,$A$2)","v":0},{"$f":"[1]!PowerMod($A131,AM$2,$A$2)","v":0},{"$f":"[1]!PowerMod($A131,AN$2,$A$2)","v":0},{"$f":"[1]!PowerMod($A131,AO$2,$A$2)","v":0},{"$f":"[1]!PowerMod($A131,AP$2,$A$2)","v":0},{"$f":"[1]!PowerMod($A131,AQ$2,$A$2)","v":0},{"$f":"[1]!PowerMod($A131,AR$2,$A$2)","v":0},{"$f":"[1]!PowerMod($A131,AS$2,$A$2)","v":0},{"$f":"[1]!PowerMod($A131,AT$2,$A$2)","v":0},{"$f":"[1]!PowerMod($A131,AU$2,$A$2)","v":0},{"$f":"[1]!PowerMod($A131,AV$2,$A$2)","v":0},{"$f":"[1]!PowerMod($A131,AW$2,$A$2)","v":0},{"$f":"[1]!PowerMod($A131,AX$2,$A$2)","v":0},{"$f":"[1]!PowerMod($A131,AY$2,$A$2)","v":0},{"$f":"[1]!PowerMod($A131,AZ$2,$A$2)","v":0},{"$f":"[1]!PowerMod($A131,BA$2,$A$2)","v":0},{"$f":"[1]!PowerMod($A131,BB$2,$A$2)","v":0},{"$f":"[1]!PowerMod($A131,BC$2,$A$2)","v":0},{"$f":"[1]!PowerMod($A131,BD$2,$A$2)","v":0},{"$f":"[1]!PowerMod($A131,BE$2,$A$2)","v":0},{"$f":"[1]!PowerMod($A131,BF$2,$A$2)","v":0},{"$f":"[1]!PowerMod($A131,BG$2,$A$2)","v":0},{"$f":"[1]!PowerMod($A131,BH$2,$A$2)","v":0},{"$f":"[1]!PowerMod($A131,BI$2,$A$2)","v":0},{"$f":"[1]!PowerMod($A131,BJ$2,$A$2)","v":0},{"$f":"[1]!PowerMod($A131,BK$2,$A$2)","v":0},{"$f":"[1]!PowerMod($A131,BL$2,$A$2)","v":0},{"$f":"[1]!PowerMod($A131,BM$2,$A$2)","v":0},{"$f":"[1]!PowerMod($A131,BN$2,$A$2)","v":0},{"$f":"[1]!PowerMod($A131,BO$2,$A$2)","v":0},{"$f":"[1]!PowerMod($A131,BP$2,$A$2)","v":0},{"$f":"[1]!PowerMod($A131,BQ$2,$A$2)","v":0},{"$f":"[1]!PowerMod($A131,BR$2,$A$2)","v":0},{"$f":"[1]!PowerMod($A131,BS$2,$A$2)","v":0},{"$f":"[1]!PowerMod($A131,BT$2,$A$2)","v":0}]
[130,{"$f":"[1]!PowerMod($A132,B$2,$A$2)","v":22},{"$f":"[1]!PowerMod($A132,C$2,$A$2)","v":25},{"$f":"[1]!PowerMod($A132,D$2,$A$2)","v":10},{"$f":"[1]!PowerMod($A132,E$2,$A$2)","v":4},{"$f":"[1]!PowerMod($A132,F$2,$A$2)","v":7},{"$f":"[1]!PowerMod($A132,G$2,$A$2)","v":19},{"$f":"[1]!PowerMod($A132,H$2,$A$2)","v":13},{"$f":"[1]!PowerMod($A132,I$2,$A$2)","v":16},{"$f":"[1]!PowerMod($A132,J$2,$A$2)","v":1},{"$f":"[1]!PowerMod($A132,K$2,$A$2)","v":22},{"$f":"[1]!PowerMod($A132,L$2,$A$2)","v":25},{"$f":"[1]!PowerMod($A132,M$2,$A$2)","v":10},{"$f":"[1]!PowerMod($A132,N$2,$A$2)","v":4},{"$f":"[1]!PowerMod($A132,O$2,$A$2)","v":7},{"$f":"[1]!PowerMod($A132,P$2,$A$2)","v":19},{"$f":"[1]!PowerMod($A132,Q$2,$A$2)","v":13},{"$f":"[1]!PowerMod($A132,R$2,$A$2)","v":16},{"$f":"[1]!PowerMod($A132,S$2,$A$2)","v":1},{"$f":"[1]!PowerMod($A132,T$2,$A$2)","v":22},{"$f":"[1]!PowerMod($A132,U$2,$A$2)","v":25},{"$f":"[1]!PowerMod($A132,V$2,$A$2)","v":10},{"$f":"[1]!PowerMod($A132,W$2,$A$2)","v":4},{"$f":"[1]!PowerMod($A132,X$2,$A$2)","v":7},{"$f":"[1]!PowerMod($A132,Y$2,$A$2)","v":19},{"$f":"[1]!PowerMod($A132,Z$2,$A$2)","v":13},{"$f":"[1]!PowerMod($A132,AA$2,$A$2)","v":16},{"$f":"[1]!PowerMod($A132,AB$2,$A$2)","v":1},{"$f":"[1]!PowerMod($A132,AC$2,$A$2)","v":22},{"$f":"[1]!PowerMod($A132,AD$2,$A$2)","v":25},{"$f":"[1]!PowerMod($A132,AE$2,$A$2)","v":10},{"$f":"[1]!PowerMod($A132,AF$2,$A$2)","v":4},{"$f":"[1]!PowerMod($A132,AG$2,$A$2)","v":7},{"$f":"[1]!PowerMod($A132,AH$2,$A$2)","v":19},{"$f":"[1]!PowerMod($A132,AI$2,$A$2)","v":13},{"$f":"[1]!PowerMod($A132,AJ$2,$A$2)","v":16},{"$f":"[1]!PowerMod($A132,AK$2,$A$2)","v":1},{"$f":"[1]!PowerMod($A132,AL$2,$A$2)","v":22},{"$f":"[1]!PowerMod($A132,AM$2,$A$2)","v":25},{"$f":"[1]!PowerMod($A132,AN$2,$A$2)","v":10},{"$f":"[1]!PowerMod($A132,AO$2,$A$2)","v":4},{"$f":"[1]!PowerMod($A132,AP$2,$A$2)","v":7},{"$f":"[1]!PowerMod($A132,AQ$2,$A$2)","v":19},{"$f":"[1]!PowerMod($A132,AR$2,$A$2)","v":13},{"$f":"[1]!PowerMod($A132,AS$2,$A$2)","v":16},{"$f":"[1]!PowerMod($A132,AT$2,$A$2)","v":1},{"$f":"[1]!PowerMod($A132,AU$2,$A$2)","v":22},{"$f":"[1]!PowerMod($A132,AV$2,$A$2)","v":25},{"$f":"[1]!PowerMod($A132,AW$2,$A$2)","v":10},{"$f":"[1]!PowerMod($A132,AX$2,$A$2)","v":4},{"$f":"[1]!PowerMod($A132,AY$2,$A$2)","v":7},{"$f":"[1]!PowerMod($A132,AZ$2,$A$2)","v":19},{"$f":"[1]!PowerMod($A132,BA$2,$A$2)","v":13},{"$f":"[1]!PowerMod($A132,BB$2,$A$2)","v":16},{"$f":"[1]!PowerMod($A132,BC$2,$A$2)","v":1},{"$f":"[1]!PowerMod($A132,BD$2,$A$2)","v":22},{"$f":"[1]!PowerMod($A132,BE$2,$A$2)","v":25},{"$f":"[1]!PowerMod($A132,BF$2,$A$2)","v":10},{"$f":"[1]!PowerMod($A132,BG$2,$A$2)","v":4},{"$f":"[1]!PowerMod($A132,BH$2,$A$2)","v":7},{"$f":"[1]!PowerMod($A132,BI$2,$A$2)","v":19},{"$f":"[1]!PowerMod($A132,BJ$2,$A$2)","v":13},{"$f":"[1]!PowerMod($A132,BK$2,$A$2)","v":16},{"$f":"[1]!PowerMod($A132,BL$2,$A$2)","v":1},{"$f":"[1]!PowerMod($A132,BM$2,$A$2)","v":22},{"$f":"[1]!PowerMod($A132,BN$2,$A$2)","v":25},{"$f":"[1]!PowerMod($A132,BO$2,$A$2)","v":10},{"$f":"[1]!PowerMod($A132,BP$2,$A$2)","v":4},{"$f":"[1]!PowerMod($A132,BQ$2,$A$2)","v":7},{"$f":"[1]!PowerMod($A132,BR$2,$A$2)","v":19},{"$f":"[1]!PowerMod($A132,BS$2,$A$2)","v":13},{"$f":"[1]!PowerMod($A132,BT$2,$A$2)","v":16}]
[131,{"$f":"[1]!PowerMod($A133,B$2,$A$2)","v":23},{"$f":"[1]!PowerMod($A133,C$2,$A$2)","v":16},{"$f":"[1]!PowerMod($A133,D$2,$A$2)","v":17},{"$f":"[1]!PowerMod($A133,E$2,$A$2)","v":13},{"$f":"[1]!PowerMod($A133,F$2,$A$2)","v":2},{"$f":"[1]!PowerMod($A133,G$2,$A$2)","v":19},{"$f":"[1]!PowerMod($A133,H$2,$A$2)","v":5},{"$f":"[1]!PowerMod($A133,I$2,$A$2)","v":7},{"$f":"[1]!PowerMod($A133,J$2,$A$2)","v":26},{"$f":"[1]!PowerMod($A133,K$2,$A$2)","v":4},{"$f":"[1]!PowerMod($A133,L$2,$A$2)","v":11},{"$f":"[1]!PowerMod($A133,M$2,$A$2)","v":10},{"$f":"[1]!PowerMod($A133,N$2,$A$2)","v":14},{"$f":"[1]!PowerMod($A133,O$2,$A$2)","v":25},{"$f":"[1]!PowerMod($A133,P$2,$A$2)","v":8},{"$f":"[1]!PowerMod($A133,Q$2,$A$2)","v":22},{"$f":"[1]!PowerMod($A133,R$2,$A$2)","v":20},{"$f":"[1]!PowerMod($A133,S$2,$A$2)","v":1},{"$f":"[1]!PowerMod($A133,T$2,$A$2)","v":23},{"$f":"[1]!PowerMod($A133,U$2,$A$2)","v":16},{"$f":"[1]!PowerMod($A133,V$2,$A$2)","v":17},{"$f":"[1]!PowerMod($A133,W$2,$A$2)","v":13},{"$f":"[1]!PowerMod($A133,X$2,$A$2)","v":2},{"$f":"[1]!PowerMod($A133,Y$2,$A$2)","v":19},{"$f":"[1]!PowerMod($A133,Z$2,$A$2)","v":5},{"$f":"[1]!PowerMod($A133,AA$2,$A$2)","v":7},{"$f":"[1]!PowerMod($A133,AB$2,$A$2)","v":26},{"$f":"[1]!PowerMod($A133,AC$2,$A$2)","v":4},{"$f":"[1]!PowerMod($A133,AD$2,$A$2)","v":11},{"$f":"[1]!PowerMod($A133,AE$2,$A$2)","v":10},{"$f":"[1]!PowerMod($A133,AF$2,$A$2)","v":14},{"$f":"[1]!PowerMod($A133,AG$2,$A$2)","v":25},{"$f":"[1]!PowerMod($A133,AH$2,$A$2)","v":8},{"$f":"[1]!PowerMod($A133,AI$2,$A$2)","v":22},{"$f":"[1]!PowerMod($A133,AJ$2,$A$2)","v":20},{"$f":"[1]!PowerMod($A133,AK$2,$A$2)","v":1},{"$f":"[1]!PowerMod($A133,AL$2,$A$2)","v":23},{"$f":"[1]!PowerMod($A133,AM$2,$A$2)","v":16},{"$f":"[1]!PowerMod($A133,AN$2,$A$2)","v":17},{"$f":"[1]!PowerMod($A133,AO$2,$A$2)","v":13},{"$f":"[1]!PowerMod($A133,AP$2,$A$2)","v":2},{"$f":"[1]!PowerMod($A133,AQ$2,$A$2)","v":19},{"$f":"[1]!PowerMod($A133,AR$2,$A$2)","v":5},{"$f":"[1]!PowerMod($A133,AS$2,$A$2)","v":7},{"$f":"[1]!PowerMod($A133,AT$2,$A$2)","v":26},{"$f":"[1]!PowerMod($A133,AU$2,$A$2)","v":4},{"$f":"[1]!PowerMod($A133,AV$2,$A$2)","v":11},{"$f":"[1]!PowerMod($A133,AW$2,$A$2)","v":10},{"$f":"[1]!PowerMod($A133,AX$2,$A$2)","v":14},{"$f":"[1]!PowerMod($A133,AY$2,$A$2)","v":25},{"$f":"[1]!PowerMod($A133,AZ$2,$A$2)","v":8},{"$f":"[1]!PowerMod($A133,BA$2,$A$2)","v":22},{"$f":"[1]!PowerMod($A133,BB$2,$A$2)","v":20},{"$f":"[1]!PowerMod($A133,BC$2,$A$2)","v":1},{"$f":"[1]!PowerMod($A133,BD$2,$A$2)","v":23},{"$f":"[1]!PowerMod($A133,BE$2,$A$2)","v":16},{"$f":"[1]!PowerMod($A133,BF$2,$A$2)","v":17},{"$f":"[1]!PowerMod($A133,BG$2,$A$2)","v":13},{"$f":"[1]!PowerMod($A133,BH$2,$A$2)","v":2},{"$f":"[1]!PowerMod($A133,BI$2,$A$2)","v":19},{"$f":"[1]!PowerMod($A133,BJ$2,$A$2)","v":5},{"$f":"[1]!PowerMod($A133,BK$2,$A$2)","v":7},{"$f":"[1]!PowerMod($A133,BL$2,$A$2)","v":26},{"$f":"[1]!PowerMod($A133,BM$2,$A$2)","v":4},{"$f":"[1]!PowerMod($A133,BN$2,$A$2)","v":11},{"$f":"[1]!PowerMod($A133,BO$2,$A$2)","v":10},{"$f":"[1]!PowerMod($A133,BP$2,$A$2)","v":14},{"$f":"[1]!PowerMod($A133,BQ$2,$A$2)","v":25},{"$f":"[1]!PowerMod($A133,BR$2,$A$2)","v":8},{"$f":"[1]!PowerMod($A133,BS$2,$A$2)","v":22},{"$f":"[1]!PowerMod($A133,BT$2,$A$2)","v":20}]
[132,{"$f":"[1]!PowerMod($A134,B$2,$A$2)","v":24},{"$f":"[1]!PowerMod($A134,C$2,$A$2)","v":9},{"$f":"[1]!PowerMod($A134,D$2,$A$2)","v":0},{"$f":"[1]!PowerMod($A134,E$2,$A$2)","v":0},{"$f":"[1]!PowerMod($A134,F$2,$A$2)","v":0},{"$f":"[1]!PowerMod($A134,G$2,$A$2)","v":0},{"$f":"[1]!PowerMod($A134,H$2,$A$2)","v":0},{"$f":"[1]!PowerMod($A134,I$2,$A$2)","v":0},{"$f":"[1]!PowerMod($A134,J$2,$A$2)","v":0},{"$f":"[1]!PowerMod($A134,K$2,$A$2)","v":0},{"$f":"[1]!PowerMod($A134,L$2,$A$2)","v":0},{"$f":"[1]!PowerMod($A134,M$2,$A$2)","v":0},{"$f":"[1]!PowerMod($A134,N$2,$A$2)","v":0},{"$f":"[1]!PowerMod($A134,O$2,$A$2)","v":0},{"$f":"[1]!PowerMod($A134,P$2,$A$2)","v":0},{"$f":"[1]!PowerMod($A134,Q$2,$A$2)","v":0},{"$f":"[1]!PowerMod($A134,R$2,$A$2)","v":0},{"$f":"[1]!PowerMod($A134,S$2,$A$2)","v":0},{"$f":"[1]!PowerMod($A134,T$2,$A$2)","v":0},{"$f":"[1]!PowerMod($A134,U$2,$A$2)","v":0},{"$f":"[1]!PowerMod($A134,V$2,$A$2)","v":0},{"$f":"[1]!PowerMod($A134,W$2,$A$2)","v":0},{"$f":"[1]!PowerMod($A134,X$2,$A$2)","v":0},{"$f":"[1]!PowerMod($A134,Y$2,$A$2)","v":0},{"$f":"[1]!PowerMod($A134,Z$2,$A$2)","v":0},{"$f":"[1]!PowerMod($A134,AA$2,$A$2)","v":0},{"$f":"[1]!PowerMod($A134,AB$2,$A$2)","v":0},{"$f":"[1]!PowerMod($A134,AC$2,$A$2)","v":0},{"$f":"[1]!PowerMod($A134,AD$2,$A$2)","v":0},{"$f":"[1]!PowerMod($A134,AE$2,$A$2)","v":0},{"$f":"[1]!PowerMod($A134,AF$2,$A$2)","v":0},{"$f":"[1]!PowerMod($A134,AG$2,$A$2)","v":0},{"$f":"[1]!PowerMod($A134,AH$2,$A$2)","v":0},{"$f":"[1]!PowerMod($A134,AI$2,$A$2)","v":0},{"$f":"[1]!PowerMod($A134,AJ$2,$A$2)","v":0},{"$f":"[1]!PowerMod($A134,AK$2,$A$2)","v":0},{"$f":"[1]!PowerMod($A134,AL$2,$A$2)","v":0},{"$f":"[1]!PowerMod($A134,AM$2,$A$2)","v":0},{"$f":"[1]!PowerMod($A134,AN$2,$A$2)","v":0},{"$f":"[1]!PowerMod($A134,AO$2,$A$2)","v":0},{"$f":"[1]!PowerMod($A134,AP$2,$A$2)","v":0},{"$f":"[1]!PowerMod($A134,AQ$2,$A$2)","v":0},{"$f":"[1]!PowerMod($A134,AR$2,$A$2)","v":0},{"$f":"[1]!PowerMod($A134,AS$2,$A$2)","v":0},{"$f":"[1]!PowerMod($A134,AT$2,$A$2)","v":0},{"$f":"[1]!PowerMod($A134,AU$2,$A$2)","v":0},{"$f":"[1]!PowerMod($A134,AV$2,$A$2)","v":0},{"$f":"[1]!PowerMod($A134,AW$2,$A$2)","v":0},{"$f":"[1]!PowerMod($A134,AX$2,$A$2)","v":0},{"$f":"[1]!PowerMod($A134,AY$2,$A$2)","v":0},{"$f":"[1]!PowerMod($A134,AZ$2,$A$2)","v":0},{"$f":"[1]!PowerMod($A134,BA$2,$A$2)","v":0},{"$f":"[1]!PowerMod($A134,BB$2,$A$2)","v":0},{"$f":"[1]!PowerMod($A134,BC$2,$A$2)","v":0},{"$f":"[1]!PowerMod($A134,BD$2,$A$2)","v":0},{"$f":"[1]!PowerMod($A134,BE$2,$A$2)","v":0},{"$f":"[1]!PowerMod($A134,BF$2,$A$2)","v":0},{"$f":"[1]!PowerMod($A134,BG$2,$A$2)","v":0},{"$f":"[1]!PowerMod($A134,BH$2,$A$2)","v":0},{"$f":"[1]!PowerMod($A134,BI$2,$A$2)","v":0},{"$f":"[1]!PowerMod($A134,BJ$2,$A$2)","v":0},{"$f":"[1]!PowerMod($A134,BK$2,$A$2)","v":0},{"$f":"[1]!PowerMod($A134,BL$2,$A$2)","v":0},{"$f":"[1]!PowerMod($A134,BM$2,$A$2)","v":0},{"$f":"[1]!PowerMod($A134,BN$2,$A$2)","v":0},{"$f":"[1]!PowerMod($A134,BO$2,$A$2)","v":0},{"$f":"[1]!PowerMod($A134,BP$2,$A$2)","v":0},{"$f":"[1]!PowerMod($A134,BQ$2,$A$2)","v":0},{"$f":"[1]!PowerMod($A134,BR$2,$A$2)","v":0},{"$f":"[1]!PowerMod($A134,BS$2,$A$2)","v":0},{"$f":"[1]!PowerMod($A134,BT$2,$A$2)","v":0}]
[133,{"$f":"[1]!PowerMod($A135,B$2,$A$2)","v":25},{"$f":"[1]!PowerMod($A135,C$2,$A$2)","v":4},{"$f":"[1]!PowerMod($A135,D$2,$A$2)","v":19},{"$f":"[1]!PowerMod($A135,E$2,$A$2)","v":16},{"$f":"[1]!PowerMod($A135,F$2,$A$2)","v":22},{"$f":"[1]!PowerMod($A135,G$2,$A$2)","v":10},{"$f":"[1]!PowerMod($A135,H$2,$A$2)","v":7},{"$f":"[1]!PowerMod($A135,I$2,$A$2)","v":13},{"$f":"[1]!PowerMod($A135,J$2,$A$2)","v":1},{"$f":"[1]!PowerMod($A135,K$2,$A$2)","v":25},{"$f":"[1]!PowerMod($A135,L$2,$A$2)","v":4},{"$f":"[1]!PowerMod($A135,M$2,$A$2)","v":19},{"$f":"[1]!PowerMod($A135,N$2,$A$2)","v":16},{"$f":"[1]!PowerMod($A135,O$2,$A$2)","v":22},{"$f":"[1]!PowerMod($A135,P$2,$A$2)","v":10},{"$f":"[1]!PowerMod($A135,Q$2,$A$2)","v":7},{"$f":"[1]!PowerMod($A135,R$2,$A$2)","v":13},{"$f":"[1]!PowerMod($A135,S$2,$A$2)","v":1},{"$f":"[1]!PowerMod($A135,T$2,$A$2)","v":25},{"$f":"[1]!PowerMod($A135,U$2,$A$2)","v":4},{"$f":"[1]!PowerMod($A135,V$2,$A$2)","v":19},{"$f":"[1]!PowerMod($A135,W$2,$A$2)","v":16},{"$f":"[1]!PowerMod($A135,X$2,$A$2)","v":22},{"$f":"[1]!PowerMod($A135,Y$2,$A$2)","v":10},{"$f":"[1]!PowerMod($A135,Z$2,$A$2)","v":7},{"$f":"[1]!PowerMod($A135,AA$2,$A$2)","v":13},{"$f":"[1]!PowerMod($A135,AB$2,$A$2)","v":1},{"$f":"[1]!PowerMod($A135,AC$2,$A$2)","v":25},{"$f":"[1]!PowerMod($A135,AD$2,$A$2)","v":4},{"$f":"[1]!PowerMod($A135,AE$2,$A$2)","v":19},{"$f":"[1]!PowerMod($A135,AF$2,$A$2)","v":16},{"$f":"[1]!PowerMod($A135,AG$2,$A$2)","v":22},{"$f":"[1]!PowerMod($A135,AH$2,$A$2)","v":10},{"$f":"[1]!PowerMod($A135,AI$2,$A$2)","v":7},{"$f":"[1]!PowerMod($A135,AJ$2,$A$2)","v":13},{"$f":"[1]!PowerMod($A135,AK$2,$A$2)","v":1},{"$f":"[1]!PowerMod($A135,AL$2,$A$2)","v":25},{"$f":"[1]!PowerMod($A135,AM$2,$A$2)","v":4},{"$f":"[1]!PowerMod($A135,AN$2,$A$2)","v":19},{"$f":"[1]!PowerMod($A135,AO$2,$A$2)","v":16},{"$f":"[1]!PowerMod($A135,AP$2,$A$2)","v":22},{"$f":"[1]!PowerMod($A135,AQ$2,$A$2)","v":10},{"$f":"[1]!PowerMod($A135,AR$2,$A$2)","v":7},{"$f":"[1]!PowerMod($A135,AS$2,$A$2)","v":13},{"$f":"[1]!PowerMod($A135,AT$2,$A$2)","v":1},{"$f":"[1]!PowerMod($A135,AU$2,$A$2)","v":25},{"$f":"[1]!PowerMod($A135,AV$2,$A$2)","v":4},{"$f":"[1]!PowerMod($A135,AW$2,$A$2)","v":19},{"$f":"[1]!PowerMod($A135,AX$2,$A$2)","v":16},{"$f":"[1]!PowerMod($A135,AY$2,$A$2)","v":22},{"$f":"[1]!PowerMod($A135,AZ$2,$A$2)","v":10},{"$f":"[1]!PowerMod($A135,BA$2,$A$2)","v":7},{"$f":"[1]!PowerMod($A135,BB$2,$A$2)","v":13},{"$f":"[1]!PowerMod($A135,BC$2,$A$2)","v":1},{"$f":"[1]!PowerMod($A135,BD$2,$A$2)","v":25},{"$f":"[1]!PowerMod($A135,BE$2,$A$2)","v":4},{"$f":"[1]!PowerMod($A135,BF$2,$A$2)","v":19},{"$f":"[1]!PowerMod($A135,BG$2,$A$2)","v":16},{"$f":"[1]!PowerMod($A135,BH$2,$A$2)","v":22},{"$f":"[1]!PowerMod($A135,BI$2,$A$2)","v":10},{"$f":"[1]!PowerMod($A135,BJ$2,$A$2)","v":7},{"$f":"[1]!PowerMod($A135,BK$2,$A$2)","v":13},{"$f":"[1]!PowerMod($A135,BL$2,$A$2)","v":1},{"$f":"[1]!PowerMod($A135,BM$2,$A$2)","v":25},{"$f":"[1]!PowerMod($A135,BN$2,$A$2)","v":4},{"$f":"[1]!PowerMod($A135,BO$2,$A$2)","v":19},{"$f":"[1]!PowerMod($A135,BP$2,$A$2)","v":16},{"$f":"[1]!PowerMod($A135,BQ$2,$A$2)","v":22},{"$f":"[1]!PowerMod($A135,BR$2,$A$2)","v":10},{"$f":"[1]!PowerMod($A135,BS$2,$A$2)","v":7},{"$f":"[1]!PowerMod($A135,BT$2,$A$2)","v":13}]
[134,{"$f":"[1]!PowerMod($A136,B$2,$A$2)","v":26},{"$f":"[1]!PowerMod($A136,C$2,$A$2)","v":1},{"$f":"[1]!PowerMod($A136,D$2,$A$2)","v":26},{"$f":"[1]!PowerMod($A136,E$2,$A$2)","v":1},{"$f":"[1]!PowerMod($A136,F$2,$A$2)","v":26},{"$f":"[1]!PowerMod($A136,G$2,$A$2)","v":1},{"$f":"[1]!PowerMod($A136,H$2,$A$2)","v":26},{"$f":"[1]!PowerMod($A136,I$2,$A$2)","v":1},{"$f":"[1]!PowerMod($A136,J$2,$A$2)","v":26},{"$f":"[1]!PowerMod($A136,K$2,$A$2)","v":1},{"$f":"[1]!PowerMod($A136,L$2,$A$2)","v":26},{"$f":"[1]!PowerMod($A136,M$2,$A$2)","v":1},{"$f":"[1]!PowerMod($A136,N$2,$A$2)","v":26},{"$f":"[1]!PowerMod($A136,O$2,$A$2)","v":1},{"$f":"[1]!PowerMod($A136,P$2,$A$2)","v":26},{"$f":"[1]!PowerMod($A136,Q$2,$A$2)","v":1},{"$f":"[1]!PowerMod($A136,R$2,$A$2)","v":26},{"$f":"[1]!PowerMod($A136,S$2,$A$2)","v":1},{"$f":"[1]!PowerMod($A136,T$2,$A$2)","v":26},{"$f":"[1]!PowerMod($A136,U$2,$A$2)","v":1},{"$f":"[1]!PowerMod($A136,V$2,$A$2)","v":26},{"$f":"[1]!PowerMod($A136,W$2,$A$2)","v":1},{"$f":"[1]!PowerMod($A136,X$2,$A$2)","v":26},{"$f":"[1]!PowerMod($A136,Y$2,$A$2)","v":1},{"$f":"[1]!PowerMod($A136,Z$2,$A$2)","v":26},{"$f":"[1]!PowerMod($A136,AA$2,$A$2)","v":1},{"$f":"[1]!PowerMod($A136,AB$2,$A$2)","v":26},{"$f":"[1]!PowerMod($A136,AC$2,$A$2)","v":1},{"$f":"[1]!PowerMod($A136,AD$2,$A$2)","v":26},{"$f":"[1]!PowerMod($A136,AE$2,$A$2)","v":1},{"$f":"[1]!PowerMod($A136,AF$2,$A$2)","v":26},{"$f":"[1]!PowerMod($A136,AG$2,$A$2)","v":1},{"$f":"[1]!PowerMod($A136,AH$2,$A$2)","v":26},{"$f":"[1]!PowerMod($A136,AI$2,$A$2)","v":1},{"$f":"[1]!PowerMod($A136,AJ$2,$A$2)","v":26},{"$f":"[1]!PowerMod($A136,AK$2,$A$2)","v":1},{"$f":"[1]!PowerMod($A136,AL$2,$A$2)","v":26},{"$f":"[1]!PowerMod($A136,AM$2,$A$2)","v":1},{"$f":"[1]!PowerMod($A136,AN$2,$A$2)","v":26},{"$f":"[1]!PowerMod($A136,AO$2,$A$2)","v":1},{"$f":"[1]!PowerMod($A136,AP$2,$A$2)","v":26},{"$f":"[1]!PowerMod($A136,AQ$2,$A$2)","v":1},{"$f":"[1]!PowerMod($A136,AR$2,$A$2)","v":26},{"$f":"[1]!PowerMod($A136,AS$2,$A$2)","v":1},{"$f":"[1]!PowerMod($A136,AT$2,$A$2)","v":26},{"$f":"[1]!PowerMod($A136,AU$2,$A$2)","v":1},{"$f":"[1]!PowerMod($A136,AV$2,$A$2)","v":26},{"$f":"[1]!PowerMod($A136,AW$2,$A$2)","v":1},{"$f":"[1]!PowerMod($A136,AX$2,$A$2)","v":26},{"$f":"[1]!PowerMod($A136,AY$2,$A$2)","v":1},{"$f":"[1]!PowerMod($A136,AZ$2,$A$2)","v":26},{"$f":"[1]!PowerMod($A136,BA$2,$A$2)","v":1},{"$f":"[1]!PowerMod($A136,BB$2,$A$2)","v":26},{"$f":"[1]!PowerMod($A136,BC$2,$A$2)","v":1},{"$f":"[1]!PowerMod($A136,BD$2,$A$2)","v":26},{"$f":"[1]!PowerMod($A136,BE$2,$A$2)","v":1},{"$f":"[1]!PowerMod($A136,BF$2,$A$2)","v":26},{"$f":"[1]!PowerMod($A136,BG$2,$A$2)","v":1},{"$f":"[1]!PowerMod($A136,BH$2,$A$2)","v":26},{"$f":"[1]!PowerMod($A136,BI$2,$A$2)","v":1},{"$f":"[1]!PowerMod($A136,BJ$2,$A$2)","v":26},{"$f":"[1]!PowerMod($A136,BK$2,$A$2)","v":1},{"$f":"[1]!PowerMod($A136,BL$2,$A$2)","v":26},{"$f":"[1]!PowerMod($A136,BM$2,$A$2)","v":1},{"$f":"[1]!PowerMod($A136,BN$2,$A$2)","v":26},{"$f":"[1]!PowerMod($A136,BO$2,$A$2)","v":1},{"$f":"[1]!PowerMod($A136,BP$2,$A$2)","v":26},{"$f":"[1]!PowerMod($A136,BQ$2,$A$2)","v":1},{"$f":"[1]!PowerMod($A136,BR$2,$A$2)","v":26},{"$f":"[1]!PowerMod($A136,BS$2,$A$2)","v":1},{"$f":"[1]!PowerMod($A136,BT$2,$A$2)","v":26}]
[135,{"$f":"[1]!PowerMod($A137,B$2,$A$2)","v":0},{"$f":"[1]!PowerMod($A137,C$2,$A$2)","v":0},{"$f":"[1]!PowerMod($A137,D$2,$A$2)","v":0},{"$f":"[1]!PowerMod($A137,E$2,$A$2)","v":0},{"$f":"[1]!PowerMod($A137,F$2,$A$2)","v":0},{"$f":"[1]!PowerMod($A137,G$2,$A$2)","v":0},{"$f":"[1]!PowerMod($A137,H$2,$A$2)","v":0},{"$f":"[1]!PowerMod($A137,I$2,$A$2)","v":0},{"$f":"[1]!PowerMod($A137,J$2,$A$2)","v":0},{"$f":"[1]!PowerMod($A137,K$2,$A$2)","v":0},{"$f":"[1]!PowerMod($A137,L$2,$A$2)","v":0},{"$f":"[1]!PowerMod($A137,M$2,$A$2)","v":0},{"$f":"[1]!PowerMod($A137,N$2,$A$2)","v":0},{"$f":"[1]!PowerMod($A137,O$2,$A$2)","v":0},{"$f":"[1]!PowerMod($A137,P$2,$A$2)","v":0},{"$f":"[1]!PowerMod($A137,Q$2,$A$2)","v":0},{"$f":"[1]!PowerMod($A137,R$2,$A$2)","v":0},{"$f":"[1]!PowerMod($A137,S$2,$A$2)","v":0},{"$f":"[1]!PowerMod($A137,T$2,$A$2)","v":0},{"$f":"[1]!PowerMod($A137,U$2,$A$2)","v":0},{"$f":"[1]!PowerMod($A137,V$2,$A$2)","v":0},{"$f":"[1]!PowerMod($A137,W$2,$A$2)","v":0},{"$f":"[1]!PowerMod($A137,X$2,$A$2)","v":0},{"$f":"[1]!PowerMod($A137,Y$2,$A$2)","v":0},{"$f":"[1]!PowerMod($A137,Z$2,$A$2)","v":0},{"$f":"[1]!PowerMod($A137,AA$2,$A$2)","v":0},{"$f":"[1]!PowerMod($A137,AB$2,$A$2)","v":0},{"$f":"[1]!PowerMod($A137,AC$2,$A$2)","v":0},{"$f":"[1]!PowerMod($A137,AD$2,$A$2)","v":0},{"$f":"[1]!PowerMod($A137,AE$2,$A$2)","v":0},{"$f":"[1]!PowerMod($A137,AF$2,$A$2)","v":0},{"$f":"[1]!PowerMod($A137,AG$2,$A$2)","v":0},{"$f":"[1]!PowerMod($A137,AH$2,$A$2)","v":0},{"$f":"[1]!PowerMod($A137,AI$2,$A$2)","v":0},{"$f":"[1]!PowerMod($A137,AJ$2,$A$2)","v":0},{"$f":"[1]!PowerMod($A137,AK$2,$A$2)","v":0},{"$f":"[1]!PowerMod($A137,AL$2,$A$2)","v":0},{"$f":"[1]!PowerMod($A137,AM$2,$A$2)","v":0},{"$f":"[1]!PowerMod($A137,AN$2,$A$2)","v":0},{"$f":"[1]!PowerMod($A137,AO$2,$A$2)","v":0},{"$f":"[1]!PowerMod($A137,AP$2,$A$2)","v":0},{"$f":"[1]!PowerMod($A137,AQ$2,$A$2)","v":0},{"$f":"[1]!PowerMod($A137,AR$2,$A$2)","v":0},{"$f":"[1]!PowerMod($A137,AS$2,$A$2)","v":0},{"$f":"[1]!PowerMod($A137,AT$2,$A$2)","v":0},{"$f":"[1]!PowerMod($A137,AU$2,$A$2)","v":0},{"$f":"[1]!PowerMod($A137,AV$2,$A$2)","v":0},{"$f":"[1]!PowerMod($A137,AW$2,$A$2)","v":0},{"$f":"[1]!PowerMod($A137,AX$2,$A$2)","v":0},{"$f":"[1]!PowerMod($A137,AY$2,$A$2)","v":0},{"$f":"[1]!PowerMod($A137,AZ$2,$A$2)","v":0},{"$f":"[1]!PowerMod($A137,BA$2,$A$2)","v":0},{"$f":"[1]!PowerMod($A137,BB$2,$A$2)","v":0},{"$f":"[1]!PowerMod($A137,BC$2,$A$2)","v":0},{"$f":"[1]!PowerMod($A137,BD$2,$A$2)","v":0},{"$f":"[1]!PowerMod($A137,BE$2,$A$2)","v":0},{"$f":"[1]!PowerMod($A137,BF$2,$A$2)","v":0},{"$f":"[1]!PowerMod($A137,BG$2,$A$2)","v":0},{"$f":"[1]!PowerMod($A137,BH$2,$A$2)","v":0},{"$f":"[1]!PowerMod($A137,BI$2,$A$2)","v":0},{"$f":"[1]!PowerMod($A137,BJ$2,$A$2)","v":0},{"$f":"[1]!PowerMod($A137,BK$2,$A$2)","v":0},{"$f":"[1]!PowerMod($A137,BL$2,$A$2)","v":0},{"$f":"[1]!PowerMod($A137,BM$2,$A$2)","v":0},{"$f":"[1]!PowerMod($A137,BN$2,$A$2)","v":0},{"$f":"[1]!PowerMod($A137,BO$2,$A$2)","v":0},{"$f":"[1]!PowerMod($A137,BP$2,$A$2)","v":0},{"$f":"[1]!PowerMod($A137,BQ$2,$A$2)","v":0},{"$f":"[1]!PowerMod($A137,BR$2,$A$2)","v":0},{"$f":"[1]!PowerMod($A137,BS$2,$A$2)","v":0},{"$f":"[1]!PowerMod($A137,BT$2,$A$2)","v":0}]
[136,{"$f":"[1]!PowerMod($A138,B$2,$A$2)","v":1},{"$f":"[1]!PowerMod($A138,C$2,$A$2)","v":1},{"$f":"[1]!PowerMod($A138,D$2,$A$2)","v":1},{"$f":"[1]!PowerMod($A138,E$2,$A$2)","v":1},{"$f":"[1]!PowerMod($A138,F$2,$A$2)","v":1},{"$f":"[1]!PowerMod($A138,G$2,$A$2)","v":1},{"$f":"[1]!PowerMod($A138,H$2,$A$2)","v":1},{"$f":"[1]!PowerMod($A138,I$2,$A$2)","v":1},{"$f":"[1]!PowerMod($A138,J$2,$A$2)","v":1},{"$f":"[1]!PowerMod($A138,K$2,$A$2)","v":1},{"$f":"[1]!PowerMod($A138,L$2,$A$2)","v":1},{"$f":"[1]!PowerMod($A138,M$2,$A$2)","v":1},{"$f":"[1]!PowerMod($A138,N$2,$A$2)","v":1},{"$f":"[1]!PowerMod($A138,O$2,$A$2)","v":1},{"$f":"[1]!PowerMod($A138,P$2,$A$2)","v":1},{"$f":"[1]!PowerMod($A138,Q$2,$A$2)","v":1},{"$f":"[1]!PowerMod($A138,R$2,$A$2)","v":1},{"$f":"[1]!PowerMod($A138,S$2,$A$2)","v":1},{"$f":"[1]!PowerMod($A138,T$2,$A$2)","v":1},{"$f":"[1]!PowerMod($A138,U$2,$A$2)","v":1},{"$f":"[1]!PowerMod($A138,V$2,$A$2)","v":1},{"$f":"[1]!PowerMod($A138,W$2,$A$2)","v":1},{"$f":"[1]!PowerMod($A138,X$2,$A$2)","v":1},{"$f":"[1]!PowerMod($A138,Y$2,$A$2)","v":1},{"$f":"[1]!PowerMod($A138,Z$2,$A$2)","v":1},{"$f":"[1]!PowerMod($A138,AA$2,$A$2)","v":1},{"$f":"[1]!PowerMod($A138,AB$2,$A$2)","v":1},{"$f":"[1]!PowerMod($A138,AC$2,$A$2)","v":1},{"$f":"[1]!PowerMod($A138,AD$2,$A$2)","v":1},{"$f":"[1]!PowerMod($A138,AE$2,$A$2)","v":1},{"$f":"[1]!PowerMod($A138,AF$2,$A$2)","v":1},{"$f":"[1]!PowerMod($A138,AG$2,$A$2)","v":1},{"$f":"[1]!PowerMod($A138,AH$2,$A$2)","v":1},{"$f":"[1]!PowerMod($A138,AI$2,$A$2)","v":1},{"$f":"[1]!PowerMod($A138,AJ$2,$A$2)","v":1},{"$f":"[1]!PowerMod($A138,AK$2,$A$2)","v":1},{"$f":"[1]!PowerMod($A138,AL$2,$A$2)","v":1},{"$f":"[1]!PowerMod($A138,AM$2,$A$2)","v":1},{"$f":"[1]!PowerMod($A138,AN$2,$A$2)","v":1},{"$f":"[1]!PowerMod($A138,AO$2,$A$2)","v":1},{"$f":"[1]!PowerMod($A138,AP$2,$A$2)","v":1},{"$f":"[1]!PowerMod($A138,AQ$2,$A$2)","v":1},{"$f":"[1]!PowerMod($A138,AR$2,$A$2)","v":1},{"$f":"[1]!PowerMod($A138,AS$2,$A$2)","v":1},{"$f":"[1]!PowerMod($A138,AT$2,$A$2)","v":1},{"$f":"[1]!PowerMod($A138,AU$2,$A$2)","v":1},{"$f":"[1]!PowerMod($A138,AV$2,$A$2)","v":1},{"$f":"[1]!PowerMod($A138,AW$2,$A$2)","v":1},{"$f":"[1]!PowerMod($A138,AX$2,$A$2)","v":1},{"$f":"[1]!PowerMod($A138,AY$2,$A$2)","v":1},{"$f":"[1]!PowerMod($A138,AZ$2,$A$2)","v":1},{"$f":"[1]!PowerMod($A138,BA$2,$A$2)","v":1},{"$f":"[1]!PowerMod($A138,BB$2,$A$2)","v":1},{"$f":"[1]!PowerMod($A138,BC$2,$A$2)","v":1},{"$f":"[1]!PowerMod($A138,BD$2,$A$2)","v":1},{"$f":"[1]!PowerMod($A138,BE$2,$A$2)","v":1},{"$f":"[1]!PowerMod($A138,BF$2,$A$2)","v":1},{"$f":"[1]!PowerMod($A138,BG$2,$A$2)","v":1},{"$f":"[1]!PowerMod($A138,BH$2,$A$2)","v":1},{"$f":"[1]!PowerMod($A138,BI$2,$A$2)","v":1},{"$f":"[1]!PowerMod($A138,BJ$2,$A$2)","v":1},{"$f":"[1]!PowerMod($A138,BK$2,$A$2)","v":1},{"$f":"[1]!PowerMod($A138,BL$2,$A$2)","v":1},{"$f":"[1]!PowerMod($A138,BM$2,$A$2)","v":1},{"$f":"[1]!PowerMod($A138,BN$2,$A$2)","v":1},{"$f":"[1]!PowerMod($A138,BO$2,$A$2)","v":1},{"$f":"[1]!PowerMod($A138,BP$2,$A$2)","v":1},{"$f":"[1]!PowerMod($A138,BQ$2,$A$2)","v":1},{"$f":"[1]!PowerMod($A138,BR$2,$A$2)","v":1},{"$f":"[1]!PowerMod($A138,BS$2,$A$2)","v":1},{"$f":"[1]!PowerMod($A138,BT$2,$A$2)","v":1}]
[137,{"$f":"[1]!PowerMod($A139,B$2,$A$2)","v":2},{"$f":"[1]!PowerMod($A139,C$2,$A$2)","v":4},{"$f":"[1]!PowerMod($A139,D$2,$A$2)","v":8},{"$f":"[1]!PowerMod($A139,E$2,$A$2)","v":16},{"$f":"[1]!PowerMod($A139,F$2,$A$2)","v":5},{"$f":"[1]!PowerMod($A139,G$2,$A$2)","v":10},{"$f":"[1]!PowerMod($A139,H$2,$A$2)","v":20},{"$f":"[1]!PowerMod($A139,I$2,$A$2)","v":13},{"$f":"[1]!PowerMod($A139,J$2,$A$2)","v":26},{"$f":"[1]!PowerMod($A139,K$2,$A$2)","v":25},{"$f":"[1]!PowerMod($A139,L$2,$A$2)","v":23},{"$f":"[1]!PowerMod($A139,M$2,$A$2)","v":19},{"$f":"[1]!PowerMod($A139,N$2,$A$2)","v":11},{"$f":"[1]!PowerMod($A139,O$2,$A$2)","v":22},{"$f":"[1]!PowerMod($A139,P$2,$A$2)","v":17},{"$f":"[1]!PowerMod($A139,Q$2,$A$2)","v":7},{"$f":"[1]!PowerMod($A139,R$2,$A$2)","v":14},{"$f":"[1]!PowerMod($A139,S$2,$A$2)","v":1},{"$f":"[1]!PowerMod($A139,T$2,$A$2)","v":2},{"$f":"[1]!PowerMod($A139,U$2,$A$2)","v":4},{"$f":"[1]!PowerMod($A139,V$2,$A$2)","v":8},{"$f":"[1]!PowerMod($A139,W$2,$A$2)","v":16},{"$f":"[1]!PowerMod($A139,X$2,$A$2)","v":5},{"$f":"[1]!PowerMod($A139,Y$2,$A$2)","v":10},{"$f":"[1]!PowerMod($A139,Z$2,$A$2)","v":20},{"$f":"[1]!PowerMod($A139,AA$2,$A$2)","v":13},{"$f":"[1]!PowerMod($A139,AB$2,$A$2)","v":26},{"$f":"[1]!PowerMod($A139,AC$2,$A$2)","v":25},{"$f":"[1]!PowerMod($A139,AD$2,$A$2)","v":23},{"$f":"[1]!PowerMod($A139,AE$2,$A$2)","v":19},{"$f":"[1]!PowerMod($A139,AF$2,$A$2)","v":11},{"$f":"[1]!PowerMod($A139,AG$2,$A$2)","v":22},{"$f":"[1]!PowerMod($A139,AH$2,$A$2)","v":17},{"$f":"[1]!PowerMod($A139,AI$2,$A$2)","v":7},{"$f":"[1]!PowerMod($A139,AJ$2,$A$2)","v":14},{"$f":"[1]!PowerMod($A139,AK$2,$A$2)","v":1},{"$f":"[1]!PowerMod($A139,AL$2,$A$2)","v":2},{"$f":"[1]!PowerMod($A139,AM$2,$A$2)","v":4},{"$f":"[1]!PowerMod($A139,AN$2,$A$2)","v":8},{"$f":"[1]!PowerMod($A139,AO$2,$A$2)","v":16},{"$f":"[1]!PowerMod($A139,AP$2,$A$2)","v":5},{"$f":"[1]!PowerMod($A139,AQ$2,$A$2)","v":10},{"$f":"[1]!PowerMod($A139,AR$2,$A$2)","v":20},{"$f":"[1]!PowerMod($A139,AS$2,$A$2)","v":13},{"$f":"[1]!PowerMod($A139,AT$2,$A$2)","v":26},{"$f":"[1]!PowerMod($A139,AU$2,$A$2)","v":25},{"$f":"[1]!PowerMod($A139,AV$2,$A$2)","v":23},{"$f":"[1]!PowerMod($A139,AW$2,$A$2)","v":19},{"$f":"[1]!PowerMod($A139,AX$2,$A$2)","v":11},{"$f":"[1]!PowerMod($A139,AY$2,$A$2)","v":22},{"$f":"[1]!PowerMod($A139,AZ$2,$A$2)","v":17},{"$f":"[1]!PowerMod($A139,BA$2,$A$2)","v":7},{"$f":"[1]!PowerMod($A139,BB$2,$A$2)","v":14},{"$f":"[1]!PowerMod($A139,BC$2,$A$2)","v":1},{"$f":"[1]!PowerMod($A139,BD$2,$A$2)","v":2},{"$f":"[1]!PowerMod($A139,BE$2,$A$2)","v":4},{"$f":"[1]!PowerMod($A139,BF$2,$A$2)","v":8},{"$f":"[1]!PowerMod($A139,BG$2,$A$2)","v":16},{"$f":"[1]!PowerMod($A139,BH$2,$A$2)","v":5},{"$f":"[1]!PowerMod($A139,BI$2,$A$2)","v":10},{"$f":"[1]!PowerMod($A139,BJ$2,$A$2)","v":20},{"$f":"[1]!PowerMod($A139,BK$2,$A$2)","v":13},{"$f":"[1]!PowerMod($A139,BL$2,$A$2)","v":26},{"$f":"[1]!PowerMod($A139,BM$2,$A$2)","v":25},{"$f":"[1]!PowerMod($A139,BN$2,$A$2)","v":23},{"$f":"[1]!PowerMod($A139,BO$2,$A$2)","v":19},{"$f":"[1]!PowerMod($A139,BP$2,$A$2)","v":11},{"$f":"[1]!PowerMod($A139,BQ$2,$A$2)","v":22},{"$f":"[1]!PowerMod($A139,BR$2,$A$2)","v":17},{"$f":"[1]!PowerMod($A139,BS$2,$A$2)","v":7},{"$f":"[1]!PowerMod($A139,BT$2,$A$2)","v":14}]
[138,{"$f":"[1]!PowerMod($A140,B$2,$A$2)","v":3},{"$f":"[1]!PowerMod($A140,C$2,$A$2)","v":9},{"$f":"[1]!PowerMod($A140,D$2,$A$2)","v":0},{"$f":"[1]!PowerMod($A140,E$2,$A$2)","v":0},{"$f":"[1]!PowerMod($A140,F$2,$A$2)","v":0},{"$f":"[1]!PowerMod($A140,G$2,$A$2)","v":0},{"$f":"[1]!PowerMod($A140,H$2,$A$2)","v":0},{"$f":"[1]!PowerMod($A140,I$2,$A$2)","v":0},{"$f":"[1]!PowerMod($A140,J$2,$A$2)","v":0},{"$f":"[1]!PowerMod($A140,K$2,$A$2)","v":0},{"$f":"[1]!PowerMod($A140,L$2,$A$2)","v":0},{"$f":"[1]!PowerMod($A140,M$2,$A$2)","v":0},{"$f":"[1]!PowerMod($A140,N$2,$A$2)","v":0},{"$f":"[1]!PowerMod($A140,O$2,$A$2)","v":0},{"$f":"[1]!PowerMod($A140,P$2,$A$2)","v":0},{"$f":"[1]!PowerMod($A140,Q$2,$A$2)","v":0},{"$f":"[1]!PowerMod($A140,R$2,$A$2)","v":0},{"$f":"[1]!PowerMod($A140,S$2,$A$2)","v":0},{"$f":"[1]!PowerMod($A140,T$2,$A$2)","v":0},{"$f":"[1]!PowerMod($A140,U$2,$A$2)","v":0},{"$f":"[1]!PowerMod($A140,V$2,$A$2)","v":0},{"$f":"[1]!PowerMod($A140,W$2,$A$2)","v":0},{"$f":"[1]!PowerMod($A140,X$2,$A$2)","v":0},{"$f":"[1]!PowerMod($A140,Y$2,$A$2)","v":0},{"$f":"[1]!PowerMod($A140,Z$2,$A$2)","v":0},{"$f":"[1]!PowerMod($A140,AA$2,$A$2)","v":0},{"$f":"[1]!PowerMod($A140,AB$2,$A$2)","v":0},{"$f":"[1]!PowerMod($A140,AC$2,$A$2)","v":0},{"$f":"[1]!PowerMod($A140,AD$2,$A$2)","v":0},{"$f":"[1]!PowerMod($A140,AE$2,$A$2)","v":0},{"$f":"[1]!PowerMod($A140,AF$2,$A$2)","v":0},{"$f":"[1]!PowerMod($A140,AG$2,$A$2)","v":0},{"$f":"[1]!PowerMod($A140,AH$2,$A$2)","v":0},{"$f":"[1]!PowerMod($A140,AI$2,$A$2)","v":0},{"$f":"[1]!PowerMod($A140,AJ$2,$A$2)","v":0},{"$f":"[1]!PowerMod($A140,AK$2,$A$2)","v":0},{"$f":"[1]!PowerMod($A140,AL$2,$A$2)","v":0},{"$f":"[1]!PowerMod($A140,AM$2,$A$2)","v":0},{"$f":"[1]!PowerMod($A140,AN$2,$A$2)","v":0},{"$f":"[1]!PowerMod($A140,AO$2,$A$2)","v":0},{"$f":"[1]!PowerMod($A140,AP$2,$A$2)","v":0},{"$f":"[1]!PowerMod($A140,AQ$2,$A$2)","v":0},{"$f":"[1]!PowerMod($A140,AR$2,$A$2)","v":0},{"$f":"[1]!PowerMod($A140,AS$2,$A$2)","v":0},{"$f":"[1]!PowerMod($A140,AT$2,$A$2)","v":0},{"$f":"[1]!PowerMod($A140,AU$2,$A$2)","v":0},{"$f":"[1]!PowerMod($A140,AV$2,$A$2)","v":0},{"$f":"[1]!PowerMod($A140,AW$2,$A$2)","v":0},{"$f":"[1]!PowerMod($A140,AX$2,$A$2)","v":0},{"$f":"[1]!PowerMod($A140,AY$2,$A$2)","v":0},{"$f":"[1]!PowerMod($A140,AZ$2,$A$2)","v":0},{"$f":"[1]!PowerMod($A140,BA$2,$A$2)","v":0},{"$f":"[1]!PowerMod($A140,BB$2,$A$2)","v":0},{"$f":"[1]!PowerMod($A140,BC$2,$A$2)","v":0},{"$f":"[1]!PowerMod($A140,BD$2,$A$2)","v":0},{"$f":"[1]!PowerMod($A140,BE$2,$A$2)","v":0},{"$f":"[1]!PowerMod($A140,BF$2,$A$2)","v":0},{"$f":"[1]!PowerMod($A140,BG$2,$A$2)","v":0},{"$f":"[1]!PowerMod($A140,BH$2,$A$2)","v":0},{"$f":"[1]!PowerMod($A140,BI$2,$A$2)","v":0},{"$f":"[1]!PowerMod($A140,BJ$2,$A$2)","v":0},{"$f":"[1]!PowerMod($A140,BK$2,$A$2)","v":0},{"$f":"[1]!PowerMod($A140,BL$2,$A$2)","v":0},{"$f":"[1]!PowerMod($A140,BM$2,$A$2)","v":0},{"$f":"[1]!PowerMod($A140,BN$2,$A$2)","v":0},{"$f":"[1]!PowerMod($A140,BO$2,$A$2)","v":0},{"$f":"[1]!PowerMod($A140,BP$2,$A$2)","v":0},{"$f":"[1]!PowerMod($A140,BQ$2,$A$2)","v":0},{"$f":"[1]!PowerMod($A140,BR$2,$A$2)","v":0},{"$f":"[1]!PowerMod($A140,BS$2,$A$2)","v":0},{"$f":"[1]!PowerMod($A140,BT$2,$A$2)","v":0}]
[139,{"$f":"[1]!PowerMod($A141,B$2,$A$2)","v":4},{"$f":"[1]!PowerMod($A141,C$2,$A$2)","v":16},{"$f":"[1]!PowerMod($A141,D$2,$A$2)","v":10},{"$f":"[1]!PowerMod($A141,E$2,$A$2)","v":13},{"$f":"[1]!PowerMod($A141,F$2,$A$2)","v":25},{"$f":"[1]!PowerMod($A141,G$2,$A$2)","v":19},{"$f":"[1]!PowerMod($A141,H$2,$A$2)","v":22},{"$f":"[1]!PowerMod($A141,I$2,$A$2)","v":7},{"$f":"[1]!PowerMod($A141,J$2,$A$2)","v":1},{"$f":"[1]!PowerMod($A141,K$2,$A$2)","v":4},{"$f":"[1]!PowerMod($A141,L$2,$A$2)","v":16},{"$f":"[1]!PowerMod($A141,M$2,$A$2)","v":10},{"$f":"[1]!PowerMod($A141,N$2,$A$2)","v":13},{"$f":"[1]!PowerMod($A141,O$2,$A$2)","v":25},{"$f":"[1]!PowerMod($A141,P$2,$A$2)","v":19},{"$f":"[1]!PowerMod($A141,Q$2,$A$2)","v":22},{"$f":"[1]!PowerMod($A141,R$2,$A$2)","v":7},{"$f":"[1]!PowerMod($A141,S$2,$A$2)","v":1},{"$f":"[1]!PowerMod($A141,T$2,$A$2)","v":4},{"$f":"[1]!PowerMod($A141,U$2,$A$2)","v":16},{"$f":"[1]!PowerMod($A141,V$2,$A$2)","v":10},{"$f":"[1]!PowerMod($A141,W$2,$A$2)","v":13},{"$f":"[1]!PowerMod($A141,X$2,$A$2)","v":25},{"$f":"[1]!PowerMod($A141,Y$2,$A$2)","v":19},{"$f":"[1]!PowerMod($A141,Z$2,$A$2)","v":22},{"$f":"[1]!PowerMod($A141,AA$2,$A$2)","v":7},{"$f":"[1]!PowerMod($A141,AB$2,$A$2)","v":1},{"$f":"[1]!PowerMod($A141,AC$2,$A$2)","v":4},{"$f":"[1]!PowerMod($A141,AD$2,$A$2)","v":16},{"$f":"[1]!PowerMod($A141,AE$2,$A$2)","v":10},{"$f":"[1]!PowerMod($A141,AF$2,$A$2)","v":13},{"$f":"[1]!PowerMod($A141,AG$2,$A$2)","v":25},{"$f":"[1]!PowerMod($A141,AH$2,$A$2)","v":19},{"$f":"[1]!PowerMod($A141,AI$2,$A$2)","v":22},{"$f":"[1]!PowerMod($A141,AJ$2,$A$2)","v":7},{"$f":"[1]!PowerMod($A141,AK$2,$A$2)","v":1},{"$f":"[1]!PowerMod($A141,AL$2,$A$2)","v":4},{"$f":"[1]!PowerMod($A141,AM$2,$A$2)","v":16},{"$f":"[1]!PowerMod($A141,AN$2,$A$2)","v":10},{"$f":"[1]!PowerMod($A141,AO$2,$A$2)","v":13},{"$f":"[1]!PowerMod($A141,AP$2,$A$2)","v":25},{"$f":"[1]!PowerMod($A141,AQ$2,$A$2)","v":19},{"$f":"[1]!PowerMod($A141,AR$2,$A$2)","v":22},{"$f":"[1]!PowerMod($A141,AS$2,$A$2)","v":7},{"$f":"[1]!PowerMod($A141,AT$2,$A$2)","v":1},{"$f":"[1]!PowerMod($A141,AU$2,$A$2)","v":4},{"$f":"[1]!PowerMod($A141,AV$2,$A$2)","v":16},{"$f":"[1]!PowerMod($A141,AW$2,$A$2)","v":10},{"$f":"[1]!PowerMod($A141,AX$2,$A$2)","v":13},{"$f":"[1]!PowerMod($A141,AY$2,$A$2)","v":25},{"$f":"[1]!PowerMod($A141,AZ$2,$A$2)","v":19},{"$f":"[1]!PowerMod($A141,BA$2,$A$2)","v":22},{"$f":"[1]!PowerMod($A141,BB$2,$A$2)","v":7},{"$f":"[1]!PowerMod($A141,BC$2,$A$2)","v":1},{"$f":"[1]!PowerMod($A141,BD$2,$A$2)","v":4},{"$f":"[1]!PowerMod($A141,BE$2,$A$2)","v":16},{"$f":"[1]!PowerMod($A141,BF$2,$A$2)","v":10},{"$f":"[1]!PowerMod($A141,BG$2,$A$2)","v":13},{"$f":"[1]!PowerMod($A141,BH$2,$A$2)","v":25},{"$f":"[1]!PowerMod($A141,BI$2,$A$2)","v":19},{"$f":"[1]!PowerMod($A141,BJ$2,$A$2)","v":22},{"$f":"[1]!PowerMod($A141,BK$2,$A$2)","v":7},{"$f":"[1]!PowerMod($A141,BL$2,$A$2)","v":1},{"$f":"[1]!PowerMod($A141,BM$2,$A$2)","v":4},{"$f":"[1]!PowerMod($A141,BN$2,$A$2)","v":16},{"$f":"[1]!PowerMod($A141,BO$2,$A$2)","v":10},{"$f":"[1]!PowerMod($A141,BP$2,$A$2)","v":13},{"$f":"[1]!PowerMod($A141,BQ$2,$A$2)","v":25},{"$f":"[1]!PowerMod($A141,BR$2,$A$2)","v":19},{"$f":"[1]!PowerMod($A141,BS$2,$A$2)","v":22},{"$f":"[1]!PowerMod($A141,BT$2,$A$2)","v":7}]
[140,{"$f":"[1]!PowerMod($A142,B$2,$A$2)","v":5},{"$f":"[1]!PowerMod($A142,C$2,$A$2)","v":25},{"$f":"[1]!PowerMod($A142,D$2,$A$2)","v":17},{"$f":"[1]!PowerMod($A142,E$2,$A$2)","v":4},{"$f":"[1]!PowerMod($A142,F$2,$A$2)","v":20},{"$f":"[1]!PowerMod($A142,G$2,$A$2)","v":19},{"$f":"[1]!PowerMod($A142,H$2,$A$2)","v":14},{"$f":"[1]!PowerMod($A142,I$2,$A$2)","v":16},{"$f":"[1]!PowerMod($A142,J$2,$A$2)","v":26},{"$f":"[1]!PowerMod($A142,K$2,$A$2)","v":22},{"$f":"[1]!PowerMod($A142,L$2,$A$2)","v":2},{"$f":"[1]!PowerMod($A142,M$2,$A$2)","v":10},{"$f":"[1]!PowerMod($A142,N$2,$A$2)","v":23},{"$f":"[1]!PowerMod($A142,O$2,$A$2)","v":7},{"$f":"[1]!PowerMod($A142,P$2,$A$2)","v":8},{"$f":"[1]!PowerMod($A142,Q$2,$A$2)","v":13},{"$f":"[1]!PowerMod($A142,R$2,$A$2)","v":11},{"$f":"[1]!PowerMod($A142,S$2,$A$2)","v":1},{"$f":"[1]!PowerMod($A142,T$2,$A$2)","v":5},{"$f":"[1]!PowerMod($A142,U$2,$A$2)","v":25},{"$f":"[1]!PowerMod($A142,V$2,$A$2)","v":17},{"$f":"[1]!PowerMod($A142,W$2,$A$2)","v":4},{"$f":"[1]!PowerMod($A142,X$2,$A$2)","v":20},{"$f":"[1]!PowerMod($A142,Y$2,$A$2)","v":19},{"$f":"[1]!PowerMod($A142,Z$2,$A$2)","v":14},{"$f":"[1]!PowerMod($A142,AA$2,$A$2)","v":16},{"$f":"[1]!PowerMod($A142,AB$2,$A$2)","v":26},{"$f":"[1]!PowerMod($A142,AC$2,$A$2)","v":22},{"$f":"[1]!PowerMod($A142,AD$2,$A$2)","v":2},{"$f":"[1]!PowerMod($A142,AE$2,$A$2)","v":10},{"$f":"[1]!PowerMod($A142,AF$2,$A$2)","v":23},{"$f":"[1]!PowerMod($A142,AG$2,$A$2)","v":7},{"$f":"[1]!PowerMod($A142,AH$2,$A$2)","v":8},{"$f":"[1]!PowerMod($A142,AI$2,$A$2)","v":13},{"$f":"[1]!PowerMod($A142,AJ$2,$A$2)","v":11},{"$f":"[1]!PowerMod($A142,AK$2,$A$2)","v":1},{"$f":"[1]!PowerMod($A142,AL$2,$A$2)","v":5},{"$f":"[1]!PowerMod($A142,AM$2,$A$2)","v":25},{"$f":"[1]!PowerMod($A142,AN$2,$A$2)","v":17},{"$f":"[1]!PowerMod($A142,AO$2,$A$2)","v":4},{"$f":"[1]!PowerMod($A142,AP$2,$A$2)","v":20},{"$f":"[1]!PowerMod($A142,AQ$2,$A$2)","v":19},{"$f":"[1]!PowerMod($A142,AR$2,$A$2)","v":14},{"$f":"[1]!PowerMod($A142,AS$2,$A$2)","v":16},{"$f":"[1]!PowerMod($A142,AT$2,$A$2)","v":26},{"$f":"[1]!PowerMod($A142,AU$2,$A$2)","v":22},{"$f":"[1]!PowerMod($A142,AV$2,$A$2)","v":2},{"$f":"[1]!PowerMod($A142,AW$2,$A$2)","v":10},{"$f":"[1]!PowerMod($A142,AX$2,$A$2)","v":23},{"$f":"[1]!PowerMod($A142,AY$2,$A$2)","v":7},{"$f":"[1]!PowerMod($A142,AZ$2,$A$2)","v":8},{"$f":"[1]!PowerMod($A142,BA$2,$A$2)","v":13},{"$f":"[1]!PowerMod($A142,BB$2,$A$2)","v":11},{"$f":"[1]!PowerMod($A142,BC$2,$A$2)","v":1},{"$f":"[1]!PowerMod($A142,BD$2,$A$2)","v":5},{"$f":"[1]!PowerMod($A142,BE$2,$A$2)","v":25},{"$f":"[1]!PowerMod($A142,BF$2,$A$2)","v":17},{"$f":"[1]!PowerMod($A142,BG$2,$A$2)","v":4},{"$f":"[1]!PowerMod($A142,BH$2,$A$2)","v":20},{"$f":"[1]!PowerMod($A142,BI$2,$A$2)","v":19},{"$f":"[1]!PowerMod($A142,BJ$2,$A$2)","v":14},{"$f":"[1]!PowerMod($A142,BK$2,$A$2)","v":16},{"$f":"[1]!PowerMod($A142,BL$2,$A$2)","v":26},{"$f":"[1]!PowerMod($A142,BM$2,$A$2)","v":22},{"$f":"[1]!PowerMod($A142,BN$2,$A$2)","v":2},{"$f":"[1]!PowerMod($A142,BO$2,$A$2)","v":10},{"$f":"[1]!PowerMod($A142,BP$2,$A$2)","v":23},{"$f":"[1]!PowerMod($A142,BQ$2,$A$2)","v":7},{"$f":"[1]!PowerMod($A142,BR$2,$A$2)","v":8},{"$f":"[1]!PowerMod($A142,BS$2,$A$2)","v":13},{"$f":"[1]!PowerMod($A142,BT$2,$A$2)","v":11}]
[141,{"$f":"[1]!PowerMod($A143,B$2,$A$2)","v":6},{"$f":"[1]!PowerMod($A143,C$2,$A$2)","v":9},{"$f":"[1]!PowerMod($A143,D$2,$A$2)","v":0},{"$f":"[1]!PowerMod($A143,E$2,$A$2)","v":0},{"$f":"[1]!PowerMod($A143,F$2,$A$2)","v":0},{"$f":"[1]!PowerMod($A143,G$2,$A$2)","v":0},{"$f":"[1]!PowerMod($A143,H$2,$A$2)","v":0},{"$f":"[1]!PowerMod($A143,I$2,$A$2)","v":0},{"$f":"[1]!PowerMod($A143,J$2,$A$2)","v":0},{"$f":"[1]!PowerMod($A143,K$2,$A$2)","v":0},{"$f":"[1]!PowerMod($A143,L$2,$A$2)","v":0},{"$f":"[1]!PowerMod($A143,M$2,$A$2)","v":0},{"$f":"[1]!PowerMod($A143,N$2,$A$2)","v":0},{"$f":"[1]!PowerMod($A143,O$2,$A$2)","v":0},{"$f":"[1]!PowerMod($A143,P$2,$A$2)","v":0},{"$f":"[1]!PowerMod($A143,Q$2,$A$2)","v":0},{"$f":"[1]!PowerMod($A143,R$2,$A$2)","v":0},{"$f":"[1]!PowerMod($A143,S$2,$A$2)","v":0},{"$f":"[1]!PowerMod($A143,T$2,$A$2)","v":0},{"$f":"[1]!PowerMod($A143,U$2,$A$2)","v":0},{"$f":"[1]!PowerMod($A143,V$2,$A$2)","v":0},{"$f":"[1]!PowerMod($A143,W$2,$A$2)","v":0},{"$f":"[1]!PowerMod($A143,X$2,$A$2)","v":0},{"$f":"[1]!PowerMod($A143,Y$2,$A$2)","v":0},{"$f":"[1]!PowerMod($A143,Z$2,$A$2)","v":0},{"$f":"[1]!PowerMod($A143,AA$2,$A$2)","v":0},{"$f":"[1]!PowerMod($A143,AB$2,$A$2)","v":0},{"$f":"[1]!PowerMod($A143,AC$2,$A$2)","v":0},{"$f":"[1]!PowerMod($A143,AD$2,$A$2)","v":0},{"$f":"[1]!PowerMod($A143,AE$2,$A$2)","v":0},{"$f":"[1]!PowerMod($A143,AF$2,$A$2)","v":0},{"$f":"[1]!PowerMod($A143,AG$2,$A$2)","v":0},{"$f":"[1]!PowerMod($A143,AH$2,$A$2)","v":0},{"$f":"[1]!PowerMod($A143,AI$2,$A$2)","v":0},{"$f":"[1]!PowerMod($A143,AJ$2,$A$2)","v":0},{"$f":"[1]!PowerMod($A143,AK$2,$A$2)","v":0},{"$f":"[1]!PowerMod($A143,AL$2,$A$2)","v":0},{"$f":"[1]!PowerMod($A143,AM$2,$A$2)","v":0},{"$f":"[1]!PowerMod($A143,AN$2,$A$2)","v":0},{"$f":"[1]!PowerMod($A143,AO$2,$A$2)","v":0},{"$f":"[1]!PowerMod($A143,AP$2,$A$2)","v":0},{"$f":"[1]!PowerMod($A143,AQ$2,$A$2)","v":0},{"$f":"[1]!PowerMod($A143,AR$2,$A$2)","v":0},{"$f":"[1]!PowerMod($A143,AS$2,$A$2)","v":0},{"$f":"[1]!PowerMod($A143,AT$2,$A$2)","v":0},{"$f":"[1]!PowerMod($A143,AU$2,$A$2)","v":0},{"$f":"[1]!PowerMod($A143,AV$2,$A$2)","v":0},{"$f":"[1]!PowerMod($A143,AW$2,$A$2)","v":0},{"$f":"[1]!PowerMod($A143,AX$2,$A$2)","v":0},{"$f":"[1]!PowerMod($A143,AY$2,$A$2)","v":0},{"$f":"[1]!PowerMod($A143,AZ$2,$A$2)","v":0},{"$f":"[1]!PowerMod($A143,BA$2,$A$2)","v":0},{"$f":"[1]!PowerMod($A143,BB$2,$A$2)","v":0},{"$f":"[1]!PowerMod($A143,BC$2,$A$2)","v":0},{"$f":"[1]!PowerMod($A143,BD$2,$A$2)","v":0},{"$f":"[1]!PowerMod($A143,BE$2,$A$2)","v":0},{"$f":"[1]!PowerMod($A143,BF$2,$A$2)","v":0},{"$f":"[1]!PowerMod($A143,BG$2,$A$2)","v":0},{"$f":"[1]!PowerMod($A143,BH$2,$A$2)","v":0},{"$f":"[1]!PowerMod($A143,BI$2,$A$2)","v":0},{"$f":"[1]!PowerMod($A143,BJ$2,$A$2)","v":0},{"$f":"[1]!PowerMod($A143,BK$2,$A$2)","v":0},{"$f":"[1]!PowerMod($A143,BL$2,$A$2)","v":0},{"$f":"[1]!PowerMod($A143,BM$2,$A$2)","v":0},{"$f":"[1]!PowerMod($A143,BN$2,$A$2)","v":0},{"$f":"[1]!PowerMod($A143,BO$2,$A$2)","v":0},{"$f":"[1]!PowerMod($A143,BP$2,$A$2)","v":0},{"$f":"[1]!PowerMod($A143,BQ$2,$A$2)","v":0},{"$f":"[1]!PowerMod($A143,BR$2,$A$2)","v":0},{"$f":"[1]!PowerMod($A143,BS$2,$A$2)","v":0},{"$f":"[1]!PowerMod($A143,BT$2,$A$2)","v":0}]
[142,{"$f":"[1]!PowerMod($A144,B$2,$A$2)","v":7},{"$f":"[1]!PowerMod($A144,C$2,$A$2)","v":22},{"$f":"[1]!PowerMod($A144,D$2,$A$2)","v":19},{"$f":"[1]!PowerMod($A144,E$2,$A$2)","v":25},{"$f":"[1]!PowerMod($A144,F$2,$A$2)","v":13},{"$f":"[1]!PowerMod($A144,G$2,$A$2)","v":10},{"$f":"[1]!PowerMod($A144,H$2,$A$2)","v":16},{"$f":"[1]!PowerMod($A144,I$2,$A$2)","v":4},{"$f":"[1]!PowerMod($A144,J$2,$A$2)","v":1},{"$f":"[1]!PowerMod($A144,K$2,$A$2)","v":7},{"$f":"[1]!PowerMod($A144,L$2,$A$2)","v":22},{"$f":"[1]!PowerMod($A144,M$2,$A$2)","v":19},{"$f":"[1]!PowerMod($A144,N$2,$A$2)","v":25},{"$f":"[1]!PowerMod($A144,O$2,$A$2)","v":13},{"$f":"[1]!PowerMod($A144,P$2,$A$2)","v":10},{"$f":"[1]!PowerMod($A144,Q$2,$A$2)","v":16},{"$f":"[1]!PowerMod($A144,R$2,$A$2)","v":4},{"$f":"[1]!PowerMod($A144,S$2,$A$2)","v":1},{"$f":"[1]!PowerMod($A144,T$2,$A$2)","v":7},{"$f":"[1]!PowerMod($A144,U$2,$A$2)","v":22},{"$f":"[1]!PowerMod($A144,V$2,$A$2)","v":19},{"$f":"[1]!PowerMod($A144,W$2,$A$2)","v":25},{"$f":"[1]!PowerMod($A144,X$2,$A$2)","v":13},{"$f":"[1]!PowerMod($A144,Y$2,$A$2)","v":10},{"$f":"[1]!PowerMod($A144,Z$2,$A$2)","v":16},{"$f":"[1]!PowerMod($A144,AA$2,$A$2)","v":4},{"$f":"[1]!PowerMod($A144,AB$2,$A$2)","v":1},{"$f":"[1]!PowerMod($A144,AC$2,$A$2)","v":7},{"$f":"[1]!PowerMod($A144,AD$2,$A$2)","v":22},{"$f":"[1]!PowerMod($A144,AE$2,$A$2)","v":19},{"$f":"[1]!PowerMod($A144,AF$2,$A$2)","v":25},{"$f":"[1]!PowerMod($A144,AG$2,$A$2)","v":13},{"$f":"[1]!PowerMod($A144,AH$2,$A$2)","v":10},{"$f":"[1]!PowerMod($A144,AI$2,$A$2)","v":16},{"$f":"[1]!PowerMod($A144,AJ$2,$A$2)","v":4},{"$f":"[1]!PowerMod($A144,AK$2,$A$2)","v":1},{"$f":"[1]!PowerMod($A144,AL$2,$A$2)","v":7},{"$f":"[1]!PowerMod($A144,AM$2,$A$2)","v":22},{"$f":"[1]!PowerMod($A144,AN$2,$A$2)","v":19},{"$f":"[1]!PowerMod($A144,AO$2,$A$2)","v":25},{"$f":"[1]!PowerMod($A144,AP$2,$A$2)","v":13},{"$f":"[1]!PowerMod($A144,AQ$2,$A$2)","v":10},{"$f":"[1]!PowerMod($A144,AR$2,$A$2)","v":16},{"$f":"[1]!PowerMod($A144,AS$2,$A$2)","v":4},{"$f":"[1]!PowerMod($A144,AT$2,$A$2)","v":1},{"$f":"[1]!PowerMod($A144,AU$2,$A$2)","v":7},{"$f":"[1]!PowerMod($A144,AV$2,$A$2)","v":22},{"$f":"[1]!PowerMod($A144,AW$2,$A$2)","v":19},{"$f":"[1]!PowerMod($A144,AX$2,$A$2)","v":25},{"$f":"[1]!PowerMod($A144,AY$2,$A$2)","v":13},{"$f":"[1]!PowerMod($A144,AZ$2,$A$2)","v":10},{"$f":"[1]!PowerMod($A144,BA$2,$A$2)","v":16},{"$f":"[1]!PowerMod($A144,BB$2,$A$2)","v":4},{"$f":"[1]!PowerMod($A144,BC$2,$A$2)","v":1},{"$f":"[1]!PowerMod($A144,BD$2,$A$2)","v":7},{"$f":"[1]!PowerMod($A144,BE$2,$A$2)","v":22},{"$f":"[1]!PowerMod($A144,BF$2,$A$2)","v":19},{"$f":"[1]!PowerMod($A144,BG$2,$A$2)","v":25},{"$f":"[1]!PowerMod($A144,BH$2,$A$2)","v":13},{"$f":"[1]!PowerMod($A144,BI$2,$A$2)","v":10},{"$f":"[1]!PowerMod($A144,BJ$2,$A$2)","v":16},{"$f":"[1]!PowerMod($A144,BK$2,$A$2)","v":4},{"$f":"[1]!PowerMod($A144,BL$2,$A$2)","v":1},{"$f":"[1]!PowerMod($A144,BM$2,$A$2)","v":7},{"$f":"[1]!PowerMod($A144,BN$2,$A$2)","v":22},{"$f":"[1]!PowerMod($A144,BO$2,$A$2)","v":19},{"$f":"[1]!PowerMod($A144,BP$2,$A$2)","v":25},{"$f":"[1]!PowerMod($A144,BQ$2,$A$2)","v":13},{"$f":"[1]!PowerMod($A144,BR$2,$A$2)","v":10},{"$f":"[1]!PowerMod($A144,BS$2,$A$2)","v":16},{"$f":"[1]!PowerMod($A144,BT$2,$A$2)","v":4}]
[143,{"$f":"[1]!PowerMod($A145,B$2,$A$2)","v":8},{"$f":"[1]!PowerMod($A145,C$2,$A$2)","v":10},{"$f":"[1]!PowerMod($A145,D$2,$A$2)","v":26},{"$f":"[1]!PowerMod($A145,E$2,$A$2)","v":19},{"$f":"[1]!PowerMod($A145,F$2,$A$2)","v":17},{"$f":"[1]!PowerMod($A145,G$2,$A$2)","v":1},{"$f":"[1]!PowerMod($A145,H$2,$A$2)","v":8},{"$f":"[1]!PowerMod($A145,I$2,$A$2)","v":10},{"$f":"[1]!PowerMod($A145,J$2,$A$2)","v":26},{"$f":"[1]!PowerMod($A145,K$2,$A$2)","v":19},{"$f":"[1]!PowerMod($A145,L$2,$A$2)","v":17},{"$f":"[1]!PowerMod($A145,M$2,$A$2)","v":1},{"$f":"[1]!PowerMod($A145,N$2,$A$2)","v":8},{"$f":"[1]!PowerMod($A145,O$2,$A$2)","v":10},{"$f":"[1]!PowerMod($A145,P$2,$A$2)","v":26},{"$f":"[1]!PowerMod($A145,Q$2,$A$2)","v":19},{"$f":"[1]!PowerMod($A145,R$2,$A$2)","v":17},{"$f":"[1]!PowerMod($A145,S$2,$A$2)","v":1},{"$f":"[1]!PowerMod($A145,T$2,$A$2)","v":8},{"$f":"[1]!PowerMod($A145,U$2,$A$2)","v":10},{"$f":"[1]!PowerMod($A145,V$2,$A$2)","v":26},{"$f":"[1]!PowerMod($A145,W$2,$A$2)","v":19},{"$f":"[1]!PowerMod($A145,X$2,$A$2)","v":17},{"$f":"[1]!PowerMod($A145,Y$2,$A$2)","v":1},{"$f":"[1]!PowerMod($A145,Z$2,$A$2)","v":8},{"$f":"[1]!PowerMod($A145,AA$2,$A$2)","v":10},{"$f":"[1]!PowerMod($A145,AB$2,$A$2)","v":26},{"$f":"[1]!PowerMod($A145,AC$2,$A$2)","v":19},{"$f":"[1]!PowerMod($A145,AD$2,$A$2)","v":17},{"$f":"[1]!PowerMod($A145,AE$2,$A$2)","v":1},{"$f":"[1]!PowerMod($A145,AF$2,$A$2)","v":8},{"$f":"[1]!PowerMod($A145,AG$2,$A$2)","v":10},{"$f":"[1]!PowerMod($A145,AH$2,$A$2)","v":26},{"$f":"[1]!PowerMod($A145,AI$2,$A$2)","v":19},{"$f":"[1]!PowerMod($A145,AJ$2,$A$2)","v":17},{"$f":"[1]!PowerMod($A145,AK$2,$A$2)","v":1},{"$f":"[1]!PowerMod($A145,AL$2,$A$2)","v":8},{"$f":"[1]!PowerMod($A145,AM$2,$A$2)","v":10},{"$f":"[1]!PowerMod($A145,AN$2,$A$2)","v":26},{"$f":"[1]!PowerMod($A145,AO$2,$A$2)","v":19},{"$f":"[1]!PowerMod($A145,AP$2,$A$2)","v":17},{"$f":"[1]!PowerMod($A145,AQ$2,$A$2)","v":1},{"$f":"[1]!PowerMod($A145,AR$2,$A$2)","v":8},{"$f":"[1]!PowerMod($A145,AS$2,$A$2)","v":10},{"$f":"[1]!PowerMod($A145,AT$2,$A$2)","v":26},{"$f":"[1]!PowerMod($A145,AU$2,$A$2)","v":19},{"$f":"[1]!PowerMod($A145,AV$2,$A$2)","v":17},{"$f":"[1]!PowerMod($A145,AW$2,$A$2)","v":1},{"$f":"[1]!PowerMod($A145,AX$2,$A$2)","v":8},{"$f":"[1]!PowerMod($A145,AY$2,$A$2)","v":10},{"$f":"[1]!PowerMod($A145,AZ$2,$A$2)","v":26},{"$f":"[1]!PowerMod($A145,BA$2,$A$2)","v":19},{"$f":"[1]!PowerMod($A145,BB$2,$A$2)","v":17},{"$f":"[1]!PowerMod($A145,BC$2,$A$2)","v":1},{"$f":"[1]!PowerMod($A145,BD$2,$A$2)","v":8},{"$f":"[1]!PowerMod($A145,BE$2,$A$2)","v":10},{"$f":"[1]!PowerMod($A145,BF$2,$A$2)","v":26},{"$f":"[1]!PowerMod($A145,BG$2,$A$2)","v":19},{"$f":"[1]!PowerMod($A145,BH$2,$A$2)","v":17},{"$f":"[1]!PowerMod($A145,BI$2,$A$2)","v":1},{"$f":"[1]!PowerMod($A145,BJ$2,$A$2)","v":8},{"$f":"[1]!PowerMod($A145,BK$2,$A$2)","v":10},{"$f":"[1]!PowerMod($A145,BL$2,$A$2)","v":26},{"$f":"[1]!PowerMod($A145,BM$2,$A$2)","v":19},{"$f":"[1]!PowerMod($A145,BN$2,$A$2)","v":17},{"$f":"[1]!PowerMod($A145,BO$2,$A$2)","v":1},{"$f":"[1]!PowerMod($A145,BP$2,$A$2)","v":8},{"$f":"[1]!PowerMod($A145,BQ$2,$A$2)","v":10},{"$f":"[1]!PowerMod($A145,BR$2,$A$2)","v":26},{"$f":"[1]!PowerMod($A145,BS$2,$A$2)","v":19},{"$f":"[1]!PowerMod($A145,BT$2,$A$2)","v":17}]
[144,{"$f":"[1]!PowerMod($A146,B$2,$A$2)","v":9},{"$f":"[1]!PowerMod($A146,C$2,$A$2)","v":0},{"$f":"[1]!PowerMod($A146,D$2,$A$2)","v":0},{"$f":"[1]!PowerMod($A146,E$2,$A$2)","v":0},{"$f":"[1]!PowerMod($A146,F$2,$A$2)","v":0},{"$f":"[1]!PowerMod($A146,G$2,$A$2)","v":0},{"$f":"[1]!PowerMod($A146,H$2,$A$2)","v":0},{"$f":"[1]!PowerMod($A146,I$2,$A$2)","v":0},{"$f":"[1]!PowerMod($A146,J$2,$A$2)","v":0},{"$f":"[1]!PowerMod($A146,K$2,$A$2)","v":0},{"$f":"[1]!PowerMod($A146,L$2,$A$2)","v":0},{"$f":"[1]!PowerMod($A146,M$2,$A$2)","v":0},{"$f":"[1]!PowerMod($A146,N$2,$A$2)","v":0},{"$f":"[1]!PowerMod($A146,O$2,$A$2)","v":0},{"$f":"[1]!PowerMod($A146,P$2,$A$2)","v":0},{"$f":"[1]!PowerMod($A146,Q$2,$A$2)","v":0},{"$f":"[1]!PowerMod($A146,R$2,$A$2)","v":0},{"$f":"[1]!PowerMod($A146,S$2,$A$2)","v":0},{"$f":"[1]!PowerMod($A146,T$2,$A$2)","v":0},{"$f":"[1]!PowerMod($A146,U$2,$A$2)","v":0},{"$f":"[1]!PowerMod($A146,V$2,$A$2)","v":0},{"$f":"[1]!PowerMod($A146,W$2,$A$2)","v":0},{"$f":"[1]!PowerMod($A146,X$2,$A$2)","v":0},{"$f":"[1]!PowerMod($A146,Y$2,$A$2)","v":0},{"$f":"[1]!PowerMod($A146,Z$2,$A$2)","v":0},{"$f":"[1]!PowerMod($A146,AA$2,$A$2)","v":0},{"$f":"[1]!PowerMod($A146,AB$2,$A$2)","v":0},{"$f":"[1]!PowerMod($A146,AC$2,$A$2)","v":0},{"$f":"[1]!PowerMod($A146,AD$2,$A$2)","v":0},{"$f":"[1]!PowerMod($A146,AE$2,$A$2)","v":0},{"$f":"[1]!PowerMod($A146,AF$2,$A$2)","v":0},{"$f":"[1]!PowerMod($A146,AG$2,$A$2)","v":0},{"$f":"[1]!PowerMod($A146,AH$2,$A$2)","v":0},{"$f":"[1]!PowerMod($A146,AI$2,$A$2)","v":0},{"$f":"[1]!PowerMod($A146,AJ$2,$A$2)","v":0},{"$f":"[1]!PowerMod($A146,AK$2,$A$2)","v":0},{"$f":"[1]!PowerMod($A146,AL$2,$A$2)","v":0},{"$f":"[1]!PowerMod($A146,AM$2,$A$2)","v":0},{"$f":"[1]!PowerMod($A146,AN$2,$A$2)","v":0},{"$f":"[1]!PowerMod($A146,AO$2,$A$2)","v":0},{"$f":"[1]!PowerMod($A146,AP$2,$A$2)","v":0},{"$f":"[1]!PowerMod($A146,AQ$2,$A$2)","v":0},{"$f":"[1]!PowerMod($A146,AR$2,$A$2)","v":0},{"$f":"[1]!PowerMod($A146,AS$2,$A$2)","v":0},{"$f":"[1]!PowerMod($A146,AT$2,$A$2)","v":0},{"$f":"[1]!PowerMod($A146,AU$2,$A$2)","v":0},{"$f":"[1]!PowerMod($A146,AV$2,$A$2)","v":0},{"$f":"[1]!PowerMod($A146,AW$2,$A$2)","v":0},{"$f":"[1]!PowerMod($A146,AX$2,$A$2)","v":0},{"$f":"[1]!PowerMod($A146,AY$2,$A$2)","v":0},{"$f":"[1]!PowerMod($A146,AZ$2,$A$2)","v":0},{"$f":"[1]!PowerMod($A146,BA$2,$A$2)","v":0},{"$f":"[1]!PowerMod($A146,BB$2,$A$2)","v":0},{"$f":"[1]!PowerMod($A146,BC$2,$A$2)","v":0},{"$f":"[1]!PowerMod($A146,BD$2,$A$2)","v":0},{"$f":"[1]!PowerMod($A146,BE$2,$A$2)","v":0},{"$f":"[1]!PowerMod($A146,BF$2,$A$2)","v":0},{"$f":"[1]!PowerMod($A146,BG$2,$A$2)","v":0},{"$f":"[1]!PowerMod($A146,BH$2,$A$2)","v":0},{"$f":"[1]!PowerMod($A146,BI$2,$A$2)","v":0},{"$f":"[1]!PowerMod($A146,BJ$2,$A$2)","v":0},{"$f":"[1]!PowerMod($A146,BK$2,$A$2)","v":0},{"$f":"[1]!PowerMod($A146,BL$2,$A$2)","v":0},{"$f":"[1]!PowerMod($A146,BM$2,$A$2)","v":0},{"$f":"[1]!PowerMod($A146,BN$2,$A$2)","v":0},{"$f":"[1]!PowerMod($A146,BO$2,$A$2)","v":0},{"$f":"[1]!PowerMod($A146,BP$2,$A$2)","v":0},{"$f":"[1]!PowerMod($A146,BQ$2,$A$2)","v":0},{"$f":"[1]!PowerMod($A146,BR$2,$A$2)","v":0},{"$f":"[1]!PowerMod($A146,BS$2,$A$2)","v":0},{"$f":"[1]!PowerMod($A146,BT$2,$A$2)","v":0}]

{"sheet":"Sheet2","index":1,"n_rows":4,"n_cols":4,"rows_kept":4}
[{"$f":"5*2^40","v":{"v":5497558138880,"d":"5,497,558,138,880"}}]
[{"$f":"13*2^30","v":13958643712},{"$f":"A2/$A$1","v":{"v":0.0025390625,"d":"0.253906%"}},null,{"$f":"(1.5*2^10)/(35.6)","v":43.146067415730336}]
[{"$f":"653*2^20","v":684720128},{"$f":"A3/$A$1","v":{"v":1.2454986572265624E-4,"d":"0.012455%"}}]
[{"$f":"438*2^30","v":470298918912},{"$f":"A4/$A$1","v":{"v":0.085546875,"d":"8.554688%"}}]